BEGIN:VCALENDAR
VERSION:2.0
PRODID:-//Canine Cardio - ECPv6.15.20//NONSGML v1.0//EN
CALSCALE:GREGORIAN
METHOD:PUBLISH
X-ORIGINAL-URL:https://caninecardio.com
X-WR-CALDESC:Events for Canine Cardio
REFRESH-INTERVAL;VALUE=DURATION:PT1H
X-Robots-Tag:noindex
X-PUBLISHED-TTL:PT1H
BEGIN:VTIMEZONE
TZID:America/New_York
BEGIN:DAYLIGHT
TZOFFSETFROM:-0500
TZOFFSETTO:-0400
TZNAME:EDT
DTSTART:20230312T070000
END:DAYLIGHT
BEGIN:STANDARD
TZOFFSETFROM:-0400
TZOFFSETTO:-0500
TZNAME:EST
DTSTART:20231105T060000
END:STANDARD
BEGIN:DAYLIGHT
TZOFFSETFROM:-0500
TZOFFSETTO:-0400
TZNAME:EDT
DTSTART:20240310T070000
END:DAYLIGHT
BEGIN:STANDARD
TZOFFSETFROM:-0400
TZOFFSETTO:-0500
TZNAME:EST
DTSTART:20241103T060000
END:STANDARD
BEGIN:DAYLIGHT
TZOFFSETFROM:-0500
TZOFFSETTO:-0400
TZNAME:EDT
DTSTART:20250309T070000
END:DAYLIGHT
BEGIN:STANDARD
TZOFFSETFROM:-0400
TZOFFSETTO:-0500
TZNAME:EST
DTSTART:20251102T060000
END:STANDARD
END:VTIMEZONE
BEGIN:VEVENT
DTSTART;TZID=America/New_York:20240802T183000
DTEND;TZID=America/New_York:20240802T203000
DTSTAMP:20260423T043549
CREATED:20240724T125530Z
LAST-MODIFIED:20240724T125533Z
UID:10004515-1722623400-1722630600@caninecardio.com
SUMMARY:Karaoke Night at Snouts & Stouts
DESCRIPTION:Let loose\, sing your favorite tunes\, and enjoy a night of music\, fun\, and laughter with friends and fellow karaoke enthusiasts. \nDon’t miss out on the chance to shine – mark your calendars and join us for Karaoke Night this Friday at Snouts & Stouts!
URL:https://caninecardio.com/event/karaoke-night-at-snouts-stouts-2-2-2/
LOCATION:Snouts & Stouts\, 2709 S Oakland St\, Arlington\, VA\, 22206\, United States
ATTACH;FMTTYPE=image/jpeg:https://caninecardio.com/wp-content/uploads/2024/03/Depositphotos_69532539_S.jpg
END:VEVENT
END:VCALENDAR