BEGIN:VCALENDAR
VERSION:2.0
PRODID:-//Canine Cardio - ECPv6.15.20//NONSGML v1.0//EN
CALSCALE:GREGORIAN
METHOD:PUBLISH
X-WR-CALNAME:Canine Cardio
X-ORIGINAL-URL:https://caninecardio.com
X-WR-CALDESC:Events for Canine Cardio
REFRESH-INTERVAL;VALUE=DURATION:PT1H
X-Robots-Tag:noindex
X-PUBLISHED-TTL:PT1H
BEGIN:VTIMEZONE
TZID:America/New_York
BEGIN:DAYLIGHT
TZOFFSETFROM:-0500
TZOFFSETTO:-0400
TZNAME:EDT
DTSTART:20230312T070000
END:DAYLIGHT
BEGIN:STANDARD
TZOFFSETFROM:-0400
TZOFFSETTO:-0500
TZNAME:EST
DTSTART:20231105T060000
END:STANDARD
BEGIN:DAYLIGHT
TZOFFSETFROM:-0500
TZOFFSETTO:-0400
TZNAME:EDT
DTSTART:20240310T070000
END:DAYLIGHT
BEGIN:STANDARD
TZOFFSETFROM:-0400
TZOFFSETTO:-0500
TZNAME:EST
DTSTART:20241103T060000
END:STANDARD
BEGIN:DAYLIGHT
TZOFFSETFROM:-0500
TZOFFSETTO:-0400
TZNAME:EDT
DTSTART:20250309T070000
END:DAYLIGHT
BEGIN:STANDARD
TZOFFSETFROM:-0400
TZOFFSETTO:-0500
TZNAME:EST
DTSTART:20251102T060000
END:STANDARD
END:VTIMEZONE
BEGIN:VEVENT
DTSTART;TZID=America/New_York:20240831T130000
DTEND;TZID=America/New_York:20240831T160000
DTSTAMP:20260423T043542
CREATED:20240815T235724Z
LAST-MODIFIED:20240815T235724Z
UID:10005069-1725109200-1725120000@caninecardio.com
SUMMARY:Free Portrait Photoshoot with Happy Paws Photography
DESCRIPTION:Attention Annual Members of Snouts & Stouts! Join us on July 28th for an exclusive event with Happy Paws Photography. From 1:00 PM to 4:00 PM\, Happy Paws Photography will be offering a free portrait photoshoot for all our annual members. Capture the perfect portrait of your beloved pet and see it displayed proudly around the inside of Snouts & Stouts. \nEvent Details: \n\nFree Portrait Photoshoot: 1:00 PM – 4:00 PM\nExclusively for Annual Members\nPortraits will be posted around Snouts & Stouts\n\nCan’t make it this time? No worries! We’ll be hosting a free portrait photoshoot every month for our annual members. \nDon’t miss out on this special opportunity to celebrate your pet and become a part of the Snouts & Stouts community gallery! \nCheck out Happy Paws Photography here: https://www.happypaws.photography/ \n 
URL:https://caninecardio.com/event/free-portrait-photoshoot-with-happy-paws-photography-3/
ATTACH;FMTTYPE=image/jpeg:https://caninecardio.com/wp-content/uploads/2024/06/JamesPro1-4-1.jpg
END:VEVENT
END:VCALENDAR