BEGIN:VCALENDAR
VERSION:2.0
PRODID:-//Canine Cardio - ECPv6.15.20//NONSGML v1.0//EN
CALSCALE:GREGORIAN
METHOD:PUBLISH
X-ORIGINAL-URL:https://caninecardio.com
X-WR-CALDESC:Events for Canine Cardio
REFRESH-INTERVAL;VALUE=DURATION:PT1H
X-Robots-Tag:noindex
X-PUBLISHED-TTL:PT1H
BEGIN:VTIMEZONE
TZID:America/New_York
BEGIN:DAYLIGHT
TZOFFSETFROM:-0500
TZOFFSETTO:-0400
TZNAME:EDT
DTSTART:20240310T070000
END:DAYLIGHT
BEGIN:STANDARD
TZOFFSETFROM:-0400
TZOFFSETTO:-0500
TZNAME:EST
DTSTART:20241103T060000
END:STANDARD
BEGIN:DAYLIGHT
TZOFFSETFROM:-0500
TZOFFSETTO:-0400
TZNAME:EDT
DTSTART:20250309T070000
END:DAYLIGHT
BEGIN:STANDARD
TZOFFSETFROM:-0400
TZOFFSETTO:-0500
TZNAME:EST
DTSTART:20251102T060000
END:STANDARD
BEGIN:DAYLIGHT
TZOFFSETFROM:-0500
TZOFFSETTO:-0400
TZNAME:EDT
DTSTART:20260308T070000
END:DAYLIGHT
BEGIN:STANDARD
TZOFFSETFROM:-0400
TZOFFSETTO:-0500
TZNAME:EST
DTSTART:20261101T060000
END:STANDARD
END:VTIMEZONE
BEGIN:VEVENT
DTSTART;TZID=America/New_York:20250315T130000
DTEND;TZID=America/New_York:20250315T180000
DTSTAMP:20260422T190817
CREATED:20250311T171207Z
LAST-MODIFIED:20250513T180416Z
UID:10006620-1742043600-1742061600@caninecardio.com
SUMMARY:St. Patrick’s Day Bash
DESCRIPTION:🍀 Get ready for the ultimate St. Patrick’s Day bash at Snouts & Stouts on Saturday March 15th at 1:00 PM! 🎉\nWe’re partying green\, and we’ve got a hidden pot of gold waiting for one lucky soul! 🪙 \nFind it and win a MONTH of membership! 💚✨ \nCome for the drinks\, stay for the Green Bubble Party vibes! 🎈 \nFor this event\, we’ll also be having a Professional Mini Photoshoot hosted by Happy Paws Photography.\nCost for the photoshoot is $15 and you can register using this link below. \nSt. Patricks Day Photoshoot \n 
URL:https://caninecardio.com/event/st-patricks-day-bash/
ATTACH;FMTTYPE=image/png:https://caninecardio.com/wp-content/uploads/2025/03/Screenshot-2025-03-09-at-11.45.54 AM.png
END:VEVENT
END:VCALENDAR