BEGIN:VCALENDAR
VERSION:2.0
PRODID:-//Canine Cardio - ECPv6.15.20//NONSGML v1.0//EN
CALSCALE:GREGORIAN
METHOD:PUBLISH
X-WR-CALNAME:Canine Cardio
X-ORIGINAL-URL:https://caninecardio.com
X-WR-CALDESC:Events for Canine Cardio
REFRESH-INTERVAL;VALUE=DURATION:PT1H
X-Robots-Tag:noindex
X-PUBLISHED-TTL:PT1H
BEGIN:VTIMEZONE
TZID:America/New_York
BEGIN:DAYLIGHT
TZOFFSETFROM:-0500
TZOFFSETTO:-0400
TZNAME:EDT
DTSTART:20240310T070000
END:DAYLIGHT
BEGIN:STANDARD
TZOFFSETFROM:-0400
TZOFFSETTO:-0500
TZNAME:EST
DTSTART:20241103T060000
END:STANDARD
BEGIN:DAYLIGHT
TZOFFSETFROM:-0500
TZOFFSETTO:-0400
TZNAME:EDT
DTSTART:20250309T070000
END:DAYLIGHT
BEGIN:STANDARD
TZOFFSETFROM:-0400
TZOFFSETTO:-0500
TZNAME:EST
DTSTART:20251102T060000
END:STANDARD
BEGIN:DAYLIGHT
TZOFFSETFROM:-0500
TZOFFSETTO:-0400
TZNAME:EDT
DTSTART:20260308T070000
END:DAYLIGHT
BEGIN:STANDARD
TZOFFSETFROM:-0400
TZOFFSETTO:-0500
TZNAME:EST
DTSTART:20261101T060000
END:STANDARD
END:VTIMEZONE
BEGIN:VEVENT
DTSTART;TZID=America/New_York:20250329T130000
DTEND;TZID=America/New_York:20250329T200000
DTSTAMP:20260422T185911
CREATED:20250311T172315Z
LAST-MODIFIED:20250513T180415Z
UID:10006621-1743253200-1743278400@caninecardio.com
SUMMARY:Fi Smart Collar Event & Founder’s Birthday Bash
DESCRIPTION:🎉 Fi Smart Collar Event & Founder’s Birthday Bash – March 29th at Snouts & Stouts! 🎉\nJoin us on March 29th for an exciting day at Snouts & Stouts\, where we’ll be hosting Fi\, the premier smart dog collar company! 🐶✨ Come check out their cutting-edge collars\, learn more about how they keep your pup safe and active\, and maybe even snag some free gifts! 🎁 \nBut that’s not all… it’s also our founder’s birthday! 🎂🥳\nSo\, we’re celebrating all day long with great drinks\, good vibes\, and plenty of fun for you and your pup. \n📅 When: March 29th⏰ Time: 1 PM – All Day!📍 Where: Snouts & Stouts \nBring your pup\, bring your friends\, and let’s make this a birthday bash to remember! 🍻🐕 See you there! 🎈
URL:https://caninecardio.com/event/fi-smart-collar-event-founders-birthday-bash/
ATTACH;FMTTYPE=image/png:https://caninecardio.com/wp-content/uploads/2025/03/fi-collars.png
END:VEVENT
END:VCALENDAR