BEGIN:VCALENDAR
VERSION:2.0
PRODID:-//Canine Cardio - ECPv6.15.20//NONSGML v1.0//EN
CALSCALE:GREGORIAN
METHOD:PUBLISH
X-WR-CALNAME:Canine Cardio
X-ORIGINAL-URL:https://caninecardio.com
X-WR-CALDESC:Events for Canine Cardio
REFRESH-INTERVAL;VALUE=DURATION:PT1H
X-Robots-Tag:noindex
X-PUBLISHED-TTL:PT1H
BEGIN:VTIMEZONE
TZID:America/New_York
BEGIN:DAYLIGHT
TZOFFSETFROM:-0500
TZOFFSETTO:-0400
TZNAME:EDT
DTSTART:20240310T070000
END:DAYLIGHT
BEGIN:STANDARD
TZOFFSETFROM:-0400
TZOFFSETTO:-0500
TZNAME:EST
DTSTART:20241103T060000
END:STANDARD
BEGIN:DAYLIGHT
TZOFFSETFROM:-0500
TZOFFSETTO:-0400
TZNAME:EDT
DTSTART:20250309T070000
END:DAYLIGHT
BEGIN:STANDARD
TZOFFSETFROM:-0400
TZOFFSETTO:-0500
TZNAME:EST
DTSTART:20251102T060000
END:STANDARD
BEGIN:DAYLIGHT
TZOFFSETFROM:-0500
TZOFFSETTO:-0400
TZNAME:EDT
DTSTART:20260308T070000
END:DAYLIGHT
BEGIN:STANDARD
TZOFFSETFROM:-0400
TZOFFSETTO:-0500
TZNAME:EST
DTSTART:20261101T060000
END:STANDARD
END:VTIMEZONE
BEGIN:VEVENT
DTSTART;TZID=America/New_York:20250413T130000
DTEND;TZID=America/New_York:20250413T180000
DTSTAMP:20260422T174046
CREATED:20250405T141803Z
LAST-MODIFIED:20250513T180414Z
UID:10006623-1744549200-1744567200@caninecardio.com
SUMMARY:Dog photos with the Easter Bunny
DESCRIPTION:What: Dog photos with the Easter Bunny\nWhen: Sunday\, April 13 | 1–6pm\nWhere: Snouts & Stouts\nPrice: $50 for a 10-minute session (includes one digital image)\nDonation: 25% of proceeds will go to Animal Welfare League of Alexandria \nRegister For Dog Photos with Easter Bunny
URL:https://caninecardio.com/event/dog-photos-with-the-easter-bunny/
ATTACH;FMTTYPE=image/jpeg:https://caninecardio.com/wp-content/uploads/2025/04/Depositphotos_558414560_S.jpg
ORGANIZER;CN="Happy Paws Photography":MAILTO:James@HappyPaws.Photography
END:VEVENT
END:VCALENDAR