BEGIN:VCALENDAR
VERSION:2.0
PRODID:-//Canine Cardio - ECPv6.15.20//NONSGML v1.0//EN
CALSCALE:GREGORIAN
METHOD:PUBLISH
X-ORIGINAL-URL:https://caninecardio.com
X-WR-CALDESC:Events for Canine Cardio
REFRESH-INTERVAL;VALUE=DURATION:PT1H
X-Robots-Tag:noindex
X-PUBLISHED-TTL:PT1H
BEGIN:VTIMEZONE
TZID:America/New_York
BEGIN:DAYLIGHT
TZOFFSETFROM:-0500
TZOFFSETTO:-0400
TZNAME:EDT
DTSTART:20240310T070000
END:DAYLIGHT
BEGIN:STANDARD
TZOFFSETFROM:-0400
TZOFFSETTO:-0500
TZNAME:EST
DTSTART:20241103T060000
END:STANDARD
BEGIN:DAYLIGHT
TZOFFSETFROM:-0500
TZOFFSETTO:-0400
TZNAME:EDT
DTSTART:20250309T070000
END:DAYLIGHT
BEGIN:STANDARD
TZOFFSETFROM:-0400
TZOFFSETTO:-0500
TZNAME:EST
DTSTART:20251102T060000
END:STANDARD
BEGIN:DAYLIGHT
TZOFFSETFROM:-0500
TZOFFSETTO:-0400
TZNAME:EDT
DTSTART:20260308T070000
END:DAYLIGHT
BEGIN:STANDARD
TZOFFSETFROM:-0400
TZOFFSETTO:-0500
TZNAME:EST
DTSTART:20261101T060000
END:STANDARD
END:VTIMEZONE
BEGIN:VEVENT
DTSTART;TZID=America/New_York:20250430T183000
DTEND;TZID=America/New_York:20250430T203000
DTSTAMP:20260422T174124
CREATED:20250306T015409Z
LAST-MODIFIED:20250513T180413Z
UID:10006619-1746037800-1746045000@caninecardio.com
SUMMARY:Puppy Yoga with Lucky Dog Rescue! 🐾🧘‍♀️
DESCRIPTION:Join Us for a Special Edition of “Puppy” Yoga with Lucky Dog Rescue! 🐾🧘‍♀️\nMark your calendars for April 30th at 6:30 pm as we integrate puppy love with inner peace in a unique collaboration with Lucky Dog Rescue! This one-of-a-kind event at Club Canine Cardio blends serenity\, charity and adorable adoptable pups. \nPerfect for yogis\, dog lovers\, and anyone yearning for quality time with some playful\, loving puppies. Whether you’re here for the yoga or just for the tail-wagging company\, these well-behaved dogs are eager to meet you and might just find their forever home! ✨🐶 \nIn this special edition\, half of the net proceeds will go towards supporting Lucky Dog Rescue’s amazing efforts. Not only will you be stretching alongside these adorable\, adoptable puppies\, but your participation will also play a crucial role in their rescue journey. Every dog at the Puppy Yoga event will be up for adoption! \nThere are only 30 spots available for this unique Puppy Yoga Event and tickets are $50 each. Secure your slots now and contribute to a cause while enjoying an unforgettable experience!
URL:https://caninecardio.com/event/puppy-yoga-with-lucky-dog-rescue/
ATTACH;FMTTYPE=image/png:https://caninecardio.com/wp-content/uploads/2025/03/Snouts-Stouts-Event-Images.png
END:VEVENT
END:VCALENDAR