BEGIN:VCALENDAR
VERSION:2.0
PRODID:-//Canine Cardio - ECPv6.15.20//NONSGML v1.0//EN
CALSCALE:GREGORIAN
METHOD:PUBLISH
X-WR-CALNAME:Canine Cardio
X-ORIGINAL-URL:https://caninecardio.com
X-WR-CALDESC:Events for Canine Cardio
REFRESH-INTERVAL;VALUE=DURATION:PT1H
X-Robots-Tag:noindex
X-PUBLISHED-TTL:PT1H
BEGIN:VTIMEZONE
TZID:America/New_York
BEGIN:DAYLIGHT
TZOFFSETFROM:-0500
TZOFFSETTO:-0400
TZNAME:EDT
DTSTART:20240310T070000
END:DAYLIGHT
BEGIN:STANDARD
TZOFFSETFROM:-0400
TZOFFSETTO:-0500
TZNAME:EST
DTSTART:20241103T060000
END:STANDARD
BEGIN:DAYLIGHT
TZOFFSETFROM:-0500
TZOFFSETTO:-0400
TZNAME:EDT
DTSTART:20250309T070000
END:DAYLIGHT
BEGIN:STANDARD
TZOFFSETFROM:-0400
TZOFFSETTO:-0500
TZNAME:EST
DTSTART:20251102T060000
END:STANDARD
BEGIN:DAYLIGHT
TZOFFSETFROM:-0500
TZOFFSETTO:-0400
TZNAME:EDT
DTSTART:20260308T070000
END:DAYLIGHT
BEGIN:STANDARD
TZOFFSETFROM:-0400
TZOFFSETTO:-0500
TZNAME:EST
DTSTART:20261101T060000
END:STANDARD
END:VTIMEZONE
BEGIN:VEVENT
DTSTART;TZID=America/New_York:20250605T170000
DTEND;TZID=America/New_York:20250605T190000
DTSTAMP:20260422T143648
CREATED:20250506T205640Z
LAST-MODIFIED:20250520T162209Z
UID:10006627-1749142800-1749150000@caninecardio.com
SUMMARY:Golden Hour for Golden Retrievers
DESCRIPTION:🐾 Breed Meet-Up Thursdays at Snouts & Stouts\n📍 Location: Snouts & Stouts \n🕔 Time: Every Thursday\, 5:00–7:00 PM \n🎟 Free Entry | 🍹 Dog Parent Drink Specials | 🐶 Off-Leash Dog Park Access \nJune 5 – Golden Hour for Golden Retrievers\nBreeds: Golden Retrievers\n\nBring out the golden sunshine and celebrate these friendly companions.\nSpecial: Complimentary photo station to capture the perfect “golden hour” moments.\nActivity: Fetch games and a mini obedience demo.
URL:https://caninecardio.com/event/golden-hour-for-golden-retrievers/
ATTACH;FMTTYPE=image/png:https://caninecardio.com/wp-content/uploads/2025/05/Breed-Meet-Up.png
END:VEVENT
END:VCALENDAR