BEGIN:VCALENDAR
VERSION:2.0
PRODID:-//Canine Cardio - ECPv6.15.20//NONSGML v1.0//EN
CALSCALE:GREGORIAN
METHOD:PUBLISH
X-WR-CALNAME:Canine Cardio
X-ORIGINAL-URL:https://caninecardio.com
X-WR-CALDESC:Events for Canine Cardio
REFRESH-INTERVAL;VALUE=DURATION:PT1H
X-Robots-Tag:noindex
X-PUBLISHED-TTL:PT1H
BEGIN:VTIMEZONE
TZID:America/New_York
BEGIN:DAYLIGHT
TZOFFSETFROM:-0500
TZOFFSETTO:-0400
TZNAME:EDT
DTSTART:20240310T070000
END:DAYLIGHT
BEGIN:STANDARD
TZOFFSETFROM:-0400
TZOFFSETTO:-0500
TZNAME:EST
DTSTART:20241103T060000
END:STANDARD
BEGIN:DAYLIGHT
TZOFFSETFROM:-0500
TZOFFSETTO:-0400
TZNAME:EDT
DTSTART:20250309T070000
END:DAYLIGHT
BEGIN:STANDARD
TZOFFSETFROM:-0400
TZOFFSETTO:-0500
TZNAME:EST
DTSTART:20251102T060000
END:STANDARD
BEGIN:DAYLIGHT
TZOFFSETFROM:-0500
TZOFFSETTO:-0400
TZNAME:EDT
DTSTART:20260308T070000
END:DAYLIGHT
BEGIN:STANDARD
TZOFFSETFROM:-0400
TZOFFSETTO:-0500
TZNAME:EST
DTSTART:20261101T060000
END:STANDARD
END:VTIMEZONE
BEGIN:VEVENT
DTSTART;TZID=America/New_York:20250703T170000
DTEND;TZID=America/New_York:20250703T190000
DTSTAMP:20260422T130649
CREATED:20250513T180253Z
LAST-MODIFIED:20250520T162240Z
UID:10006655-1751562000-1751569200@caninecardio.com
SUMMARY:Aussie Agility Night
DESCRIPTION:🐾 Breed Meet-Up Thursdays at Snouts & Stouts\n📍 Location: Snouts & Stouts \n🕔 Time: Every Thursday\, 5:00–7:00 PM \n🎟 Free Entry | 🍹 Dog Parent Drink Specials | 🐶 Off-Leash Dog Park Access \nJuly 3 – Aussie Agility Night\nBreeds: Australian Shepherds\, Mini Australian Shepherds\n\nTime for these energetic dogs to shine in agility and obedience.\nSpecial: Mini obstacle course for the pups to show off their skills.\nActivity: Agility challenges and a “learn to herd” mini demo.
URL:https://caninecardio.com/event/aussie-agility-night/
ATTACH;FMTTYPE=image/png:https://caninecardio.com/wp-content/uploads/2025/05/Breed-Meet-Up.png
END:VEVENT
END:VCALENDAR