BEGIN:VCALENDAR
VERSION:2.0
PRODID:-//Canine Cardio - ECPv6.15.20//NONSGML v1.0//EN
CALSCALE:GREGORIAN
METHOD:PUBLISH
X-ORIGINAL-URL:https://caninecardio.com
X-WR-CALDESC:Events for Canine Cardio
REFRESH-INTERVAL;VALUE=DURATION:PT1H
X-Robots-Tag:noindex
X-PUBLISHED-TTL:PT1H
BEGIN:VTIMEZONE
TZID:America/New_York
BEGIN:DAYLIGHT
TZOFFSETFROM:-0500
TZOFFSETTO:-0400
TZNAME:EDT
DTSTART:20240310T070000
END:DAYLIGHT
BEGIN:STANDARD
TZOFFSETFROM:-0400
TZOFFSETTO:-0500
TZNAME:EST
DTSTART:20241103T060000
END:STANDARD
BEGIN:DAYLIGHT
TZOFFSETFROM:-0500
TZOFFSETTO:-0400
TZNAME:EDT
DTSTART:20250309T070000
END:DAYLIGHT
BEGIN:STANDARD
TZOFFSETFROM:-0400
TZOFFSETTO:-0500
TZNAME:EST
DTSTART:20251102T060000
END:STANDARD
BEGIN:DAYLIGHT
TZOFFSETFROM:-0500
TZOFFSETTO:-0400
TZNAME:EDT
DTSTART:20260308T070000
END:DAYLIGHT
BEGIN:STANDARD
TZOFFSETFROM:-0400
TZOFFSETTO:-0500
TZNAME:EST
DTSTART:20261101T060000
END:STANDARD
END:VTIMEZONE
BEGIN:VEVENT
DTSTART;TZID=America/New_York:20250711T180000
DTEND;TZID=America/New_York:20250711T200000
DTSTAMP:20260422T130643
CREATED:20250609T173029Z
LAST-MODIFIED:20250609T173029Z
UID:10006728-1752256800-1752264000@caninecardio.com
SUMMARY:Pups n Pours: Dog Beer Tasting at Snouts & Stouts 🐾
DESCRIPTION:Date: Friday\, July 11\, 2025\nTime: 6:00 PM – 8:00 PM\nLocation: Snouts & Stouts\, 2709 S Oakland St\, Arlington\, VA 22206 \nCalling all dog lovers and their four-legged companions! Join us for a tail-wagging evening as Pups n Pours hosts a special tasting event at Snouts & Stouts. Experience the unique flavors of our dog-friendly brews\, including the much-anticipated Snouts & Stouts Dog Stout. \nEvent Highlights:\n\nDog Beer Tastings: Let your pup indulge in our specially crafted dog beers\, designed with canine health and taste in mind.\nOff-Leash Play: Enjoy our indoor dog park where your furry friend can socialize and play freely.\nHuman Refreshments: While the pups sip on their brews\, humans can relax with a selection of our finest craft beers and beverages.\n\nWhether you’re a regular or it’s your first visit\, this event promises fun for both dogs and their humans. Don’t miss out on this unique opportunity to bond over brews!
URL:https://caninecardio.com/event/pups-n-pours/
LOCATION:Snouts & Stouts\, 2709 S Oakland St\, Arlington\, VA\, 22206\, United States
ATTACH;FMTTYPE=image/png:https://caninecardio.com/wp-content/uploads/2025/06/Pups-n-Pours.png
END:VEVENT
END:VCALENDAR