BEGIN:VCALENDAR
VERSION:2.0
PRODID:-//Canine Cardio - ECPv6.15.20//NONSGML v1.0//EN
CALSCALE:GREGORIAN
METHOD:PUBLISH
X-WR-CALNAME:Canine Cardio
X-ORIGINAL-URL:https://caninecardio.com
X-WR-CALDESC:Events for Canine Cardio
REFRESH-INTERVAL;VALUE=DURATION:PT1H
X-Robots-Tag:noindex
X-PUBLISHED-TTL:PT1H
BEGIN:VTIMEZONE
TZID:America/New_York
BEGIN:DAYLIGHT
TZOFFSETFROM:-0500
TZOFFSETTO:-0400
TZNAME:EDT
DTSTART:20240310T070000
END:DAYLIGHT
BEGIN:STANDARD
TZOFFSETFROM:-0400
TZOFFSETTO:-0500
TZNAME:EST
DTSTART:20241103T060000
END:STANDARD
BEGIN:DAYLIGHT
TZOFFSETFROM:-0500
TZOFFSETTO:-0400
TZNAME:EDT
DTSTART:20250309T070000
END:DAYLIGHT
BEGIN:STANDARD
TZOFFSETFROM:-0400
TZOFFSETTO:-0500
TZNAME:EST
DTSTART:20251102T060000
END:STANDARD
BEGIN:DAYLIGHT
TZOFFSETFROM:-0500
TZOFFSETTO:-0400
TZNAME:EDT
DTSTART:20260308T070000
END:DAYLIGHT
BEGIN:STANDARD
TZOFFSETFROM:-0400
TZOFFSETTO:-0500
TZNAME:EST
DTSTART:20261101T060000
END:STANDARD
END:VTIMEZONE
BEGIN:VEVENT
DTSTART;TZID=America/New_York:20250724T170000
DTEND;TZID=America/New_York:20250724T190000
DTSTAMP:20260422T130651
CREATED:20250509T154511Z
LAST-MODIFIED:20250520T162528Z
UID:10006634-1753376400-1753383600@caninecardio.com
SUMMARY:Dachshund Derby
DESCRIPTION:🐾 Breed Meet-Up Thursdays at Snouts & Stouts\n📍 Location: Snouts & Stouts \n🕔 Time: Every Thursday\, 5:00–7:00 PM \n🎟 Free Entry | 🍹 Dog Parent Drink Specials | 🐶 Off-Leash Dog Park Access \nJuly 24 – Dachshund Derby\nBreeds: Dachshunds (all types)\n\nThe long bodies and short legs take center stage for some funny races.\nSpecial: Hot dog (food) specials and a dachshund costume contest.\nActivity: “Wiener” races and playtime.
URL:https://caninecardio.com/event/dachshund-derby/
ATTACH;FMTTYPE=image/png:https://caninecardio.com/wp-content/uploads/2025/05/Breed-Meet-Up.png
END:VEVENT
END:VCALENDAR