BEGIN:VCALENDAR
VERSION:2.0
PRODID:-//Canine Cardio - ECPv6.15.20//NONSGML v1.0//EN
CALSCALE:GREGORIAN
METHOD:PUBLISH
X-WR-CALNAME:Canine Cardio
X-ORIGINAL-URL:https://caninecardio.com
X-WR-CALDESC:Events for Canine Cardio
REFRESH-INTERVAL;VALUE=DURATION:PT1H
X-Robots-Tag:noindex
X-PUBLISHED-TTL:PT1H
BEGIN:VTIMEZONE
TZID:America/New_York
BEGIN:DAYLIGHT
TZOFFSETFROM:-0500
TZOFFSETTO:-0400
TZNAME:EDT
DTSTART:20240310T070000
END:DAYLIGHT
BEGIN:STANDARD
TZOFFSETFROM:-0400
TZOFFSETTO:-0500
TZNAME:EST
DTSTART:20241103T060000
END:STANDARD
BEGIN:DAYLIGHT
TZOFFSETFROM:-0500
TZOFFSETTO:-0400
TZNAME:EDT
DTSTART:20250309T070000
END:DAYLIGHT
BEGIN:STANDARD
TZOFFSETFROM:-0400
TZOFFSETTO:-0500
TZNAME:EST
DTSTART:20251102T060000
END:STANDARD
BEGIN:DAYLIGHT
TZOFFSETFROM:-0500
TZOFFSETTO:-0400
TZNAME:EDT
DTSTART:20260308T070000
END:DAYLIGHT
BEGIN:STANDARD
TZOFFSETFROM:-0400
TZOFFSETTO:-0500
TZNAME:EST
DTSTART:20261101T060000
END:STANDARD
END:VTIMEZONE
BEGIN:VEVENT
DTSTART;TZID=America/New_York:20251207T110000
DTEND;TZID=America/New_York:20251207T120000
DTSTAMP:20260422T053405
CREATED:20251206T202809Z
LAST-MODIFIED:20251206T202809Z
UID:10006738-1765105200-1765108800@caninecardio.com
SUMMARY:Foster Fit Sundays
DESCRIPTION:To support local rescues and help foster dogs grow confident\, social\, and adoption-ready\, Club Canine Cardio hosts a weekly Foster Fit Hour with exclusive benefits for foster families. \n\nFoster Discount – 50% off ANY Dog Gym Activity\nApplies to all gym activities\, including: \n\nTreadmill\nTug Play\nWeight Pull\nAgility\nScent Work\nPool (if available)\nLure (seasonal)\n\nWho Qualifies\n\nAny dog currently in foster care through a rescue or shelter\nProof of foster status required at check-in\n\nWhy We Offer This\n\nHelps foster dogs build confidence\nProvides structured enrichment most rescues cannot offer\nGives fosters a fun Sunday outing\nGenerates highly shareable social content\nBuilds goodwill and long-term customers (fosters often return with their own dogs later)
URL:https://caninecardio.com/event/foster-fit-sundays/2025-12-07/
LOCATION:Club Canine Cardio\, 2709 S Oakland Street\, Arlington\, Virginia\, 22206\, United States
ATTACH;FMTTYPE=image/png:https://caninecardio.com/wp-content/uploads/2025/12/wpwizards_dynamic_dog_fitness_class_promotional_background_fo_6468bae4-9172-4497-bc78-2c20591f9e21_1-1.png
ORGANIZER;CN="Canine Cardio":MAILTO:fitpack@caninecardio.com
END:VEVENT
BEGIN:VEVENT
DTSTART;TZID=America/New_York:20251207T150000
DTEND;TZID=America/New_York:20251207T160000
DTSTAMP:20260422T053405
CREATED:20251112T230607Z
LAST-MODIFIED:20251201T221332Z
UID:10006735-1765119600-1765123200@caninecardio.com
SUMMARY:Puppy Yoga December 7th\, 2025
DESCRIPTION:We’re bringing back one of our most loved events — Puppy Yoga! This cozy\, beginner-friendly yoga flow is filled with laughter\, light stretching\, and plenty of puppy snuggles. \n✨ This series will be led by Katie from Zweet Sport\, known for creating a warm\, welcoming environment for yogis of all levels. Pair that with playful pups and you’ve got the ultimate mood booster. \n📍 Event Details\n\nLocation: Club Canine Cardio\, Arlington\, VA\nInstructor: Katie (Zweet Sport)\nDuration: 45 – 60 minutes\nTicket Price: $30 per person\nAge Requirement: 12+ (Minors must be accompanied by a guardian)\nWhat to Bring: Yoga mat\, closed-lid water bottle\, and a big smile\nPuppies: Provided by Club Canine Cardio\n\n🐾 How It Works\n\nArrive 10 minutes early to check in.\nSet up your mat and get ready to flow.\nEnjoy a light\, beginner-friendly yoga session led by Katie.\nPuppies roam\, play\, and snuggle during class.\nPost-class cuddle time is included for all attendees.\n\n📝 Rules & Guidelines\n\nNo outside dogs are allowed for this event.Please let the puppies approach you at their own pace — their comfort and safety come first.\nParticipants must sign a liability waiver prior to class.\nAll bags must be stored off the mat area.\nPlease wear comfortable clothing suitable for light movement.\nNo food or outside treats allowed in the yoga space.\nIf a puppy has an accident during class\, our team will assist with cleanup.\nAll ticket sales are final — tickets may be transferred but are non-refundable.\n\n💛 Why We Love It\nThis event is all about celebrating community\, connection\, and the joy of spending time with puppies in a calm\, welcoming space. Whether you’re a dog lover\, a yogi\, or just need a serotonin boost — this is your time to unwind. \n🐶 Tickets 🎟️ $30 per person
URL:https://caninecardio.com/event/puppy-yoga-december-7th-2025/
LOCATION:Club Canine Cardio\, 2709 S Oakland Street\, Arlington\, Virginia\, 22206\, United States
ATTACH;FMTTYPE=image/png:https://caninecardio.com/wp-content/uploads/2025/11/PUPPY-YOGA.png
END:VEVENT
END:VCALENDAR