BEGIN:VCALENDAR
VERSION:2.0
PRODID:-//Canine Cardio - ECPv6.15.20//NONSGML v1.0//EN
CALSCALE:GREGORIAN
METHOD:PUBLISH
X-WR-CALNAME:Canine Cardio
X-ORIGINAL-URL:https://caninecardio.com
X-WR-CALDESC:Events for Canine Cardio
REFRESH-INTERVAL;VALUE=DURATION:PT1H
X-Robots-Tag:noindex
X-PUBLISHED-TTL:PT1H
BEGIN:VTIMEZONE
TZID:America/New_York
BEGIN:DAYLIGHT
TZOFFSETFROM:-0500
TZOFFSETTO:-0400
TZNAME:EDT
DTSTART:20260308T070000
END:DAYLIGHT
BEGIN:STANDARD
TZOFFSETFROM:-0400
TZOFFSETTO:-0500
TZNAME:EST
DTSTART:20261101T060000
END:STANDARD
BEGIN:DAYLIGHT
TZOFFSETFROM:-0500
TZOFFSETTO:-0400
TZNAME:EDT
DTSTART:20270314T070000
END:DAYLIGHT
BEGIN:STANDARD
TZOFFSETFROM:-0400
TZOFFSETTO:-0500
TZNAME:EST
DTSTART:20271107T060000
END:STANDARD
BEGIN:DAYLIGHT
TZOFFSETFROM:-0500
TZOFFSETTO:-0400
TZNAME:EDT
DTSTART:20280312T070000
END:DAYLIGHT
BEGIN:STANDARD
TZOFFSETFROM:-0400
TZOFFSETTO:-0500
TZNAME:EST
DTSTART:20281105T060000
END:STANDARD
END:VTIMEZONE
BEGIN:VEVENT
DTSTART;VALUE=DATE:20270408
DTEND;VALUE=DATE:20270409
DTSTAMP:20260422T190144
CREATED:20251207T172918Z
LAST-MODIFIED:20251210T025100Z
UID:10007330-1807142400-1807228799@caninecardio.com
SUMMARY:Prey Play Thursdays – Lure Coursing
DESCRIPTION:Gym Special: \n\n\n$10 off lure coursing \n\n\nBar Special: \n\n\n$2 off draft beers \n\n\nA hot dog for any dog that completes a lure‑coursing run
URL:https://caninecardio.com/event/prey-play-thursdays-lure-coursing/2027-04-08/
LOCATION:Club Canine Cardio\, 2709 S Oakland Street\, Arlington\, Virginia\, 22206\, United States
ATTACH;FMTTYPE=image/png:https://caninecardio.com/wp-content/uploads/2025/12/wpwizards_2_human_friends_sitting_together_drinking_a_beer_ch_8adee8dd-068d-4c14-8065-03c6861ff878_0.png
END:VEVENT
BEGIN:VEVENT
DTSTART;VALUE=DATE:20270409
DTEND;VALUE=DATE:20270410
DTSTAMP:20260422T190144
CREATED:20251207T173144Z
LAST-MODIFIED:20251210T025042Z
UID:10007851-1807228800-1807315199@caninecardio.com
SUMMARY:Bring‑a‑Friend Fridays
DESCRIPTION:If you bring a friend: \n\n\nYour friend gets their drink 50% off \n\n\nYour friend’s dog gets any gym activity 50% off \n\n\nTo activate: \n\n\nYou buy a drink \n\n\nYour dog completes a gym activity \n\n\nNo membership required.
URL:https://caninecardio.com/event/bring-a-friend-fridays/2027-04-09/
LOCATION:Club Canine Cardio\, 2709 S Oakland Street\, Arlington\, Virginia\, 22206\, United States
ATTACH;FMTTYPE=image/jpeg:https://caninecardio.com/wp-content/uploads/2025/11/AW3B7711_edited.jpg
END:VEVENT
BEGIN:VEVENT
DTSTART;TZID=America/New_York:20270411T110000
DTEND;TZID=America/New_York:20270411T120000
DTSTAMP:20260422T190144
CREATED:20251206T202809Z
LAST-MODIFIED:20251206T202809Z
UID:10006808-1807441200-1807444800@caninecardio.com
SUMMARY:Foster Fit Sundays
DESCRIPTION:To support local rescues and help foster dogs grow confident\, social\, and adoption-ready\, Club Canine Cardio hosts a weekly Foster Fit Hour with exclusive benefits for foster families. \n\nFoster Discount – 50% off ANY Dog Gym Activity\nApplies to all gym activities\, including: \n\nTreadmill\nTug Play\nWeight Pull\nAgility\nScent Work\nPool (if available)\nLure (seasonal)\n\nWho Qualifies\n\nAny dog currently in foster care through a rescue or shelter\nProof of foster status required at check-in\n\nWhy We Offer This\n\nHelps foster dogs build confidence\nProvides structured enrichment most rescues cannot offer\nGives fosters a fun Sunday outing\nGenerates highly shareable social content\nBuilds goodwill and long-term customers (fosters often return with their own dogs later)
URL:https://caninecardio.com/event/foster-fit-sundays/2027-04-11/
LOCATION:Club Canine Cardio\, 2709 S Oakland Street\, Arlington\, Virginia\, 22206\, United States
ATTACH;FMTTYPE=image/png:https://caninecardio.com/wp-content/uploads/2025/12/wpwizards_dynamic_dog_fitness_class_promotional_background_fo_6468bae4-9172-4497-bc78-2c20591f9e21_1-1.png
ORGANIZER;CN="Canine Cardio":MAILTO:fitpack@caninecardio.com
END:VEVENT
BEGIN:VEVENT
DTSTART;VALUE=DATE:20270413
DTEND;VALUE=DATE:20270414
DTSTAMP:20260422T190144
CREATED:20251207T171738Z
LAST-MODIFIED:20251207T171738Z
UID:10007069-1807574400-1807660799@caninecardio.com
SUMMARY:Treadmill Tuesdays
DESCRIPTION:50% off treadmill activity with any $20 bar purchase
URL:https://caninecardio.com/event/treadmill-tuesdays/2027-04-13/
LOCATION:Club Canine Cardio\, 2709 S Oakland Street\, Arlington\, Virginia\, 22206\, United States
ATTACH;FMTTYPE=image/jpeg:https://caninecardio.com/wp-content/uploads/2025/09/Dog_Treadmill_CLub2025.jpg
END:VEVENT
BEGIN:VEVENT
DTSTART;VALUE=DATE:20270414
DTEND;VALUE=DATE:20270415
DTSTAMP:20260422T190144
CREATED:20251207T172524Z
LAST-MODIFIED:20251207T172959Z
UID:10007591-1807660800-1807747199@caninecardio.com
SUMMARY:Working Dog Wednesday
DESCRIPTION:25% off all bar purchases and all gym services. \nEligible: First responders\, military\, service dogs\, working dog breeds\, sport dogs.
URL:https://caninecardio.com/event/working-dog-wednesday/2027-04-14/
LOCATION:Club Canine Cardio\, 2709 S Oakland Street\, Arlington\, Virginia\, 22206\, United States
ATTACH;FMTTYPE=image/png:https://caninecardio.com/wp-content/uploads/2025/12/wpwizards_group_of_working_dogs_with_their_owners_who_are_Fir_ead54880-45f8-4d18-8300-13d012451325_3.png
END:VEVENT
BEGIN:VEVENT
DTSTART;VALUE=DATE:20270415
DTEND;VALUE=DATE:20270416
DTSTAMP:20260422T190144
CREATED:20251207T172918Z
LAST-MODIFIED:20251210T025100Z
UID:10007331-1807747200-1807833599@caninecardio.com
SUMMARY:Prey Play Thursdays – Lure Coursing
DESCRIPTION:Gym Special: \n\n\n$10 off lure coursing \n\n\nBar Special: \n\n\n$2 off draft beers \n\n\nA hot dog for any dog that completes a lure‑coursing run
URL:https://caninecardio.com/event/prey-play-thursdays-lure-coursing/2027-04-15/
LOCATION:Club Canine Cardio\, 2709 S Oakland Street\, Arlington\, Virginia\, 22206\, United States
ATTACH;FMTTYPE=image/png:https://caninecardio.com/wp-content/uploads/2025/12/wpwizards_2_human_friends_sitting_together_drinking_a_beer_ch_8adee8dd-068d-4c14-8065-03c6861ff878_0.png
END:VEVENT
BEGIN:VEVENT
DTSTART;VALUE=DATE:20270416
DTEND;VALUE=DATE:20270417
DTSTAMP:20260422T190144
CREATED:20251207T173144Z
LAST-MODIFIED:20251210T025042Z
UID:10007852-1807833600-1807919999@caninecardio.com
SUMMARY:Bring‑a‑Friend Fridays
DESCRIPTION:If you bring a friend: \n\n\nYour friend gets their drink 50% off \n\n\nYour friend’s dog gets any gym activity 50% off \n\n\nTo activate: \n\n\nYou buy a drink \n\n\nYour dog completes a gym activity \n\n\nNo membership required.
URL:https://caninecardio.com/event/bring-a-friend-fridays/2027-04-16/
LOCATION:Club Canine Cardio\, 2709 S Oakland Street\, Arlington\, Virginia\, 22206\, United States
ATTACH;FMTTYPE=image/jpeg:https://caninecardio.com/wp-content/uploads/2025/11/AW3B7711_edited.jpg
END:VEVENT
BEGIN:VEVENT
DTSTART;TZID=America/New_York:20270418T110000
DTEND;TZID=America/New_York:20270418T120000
DTSTAMP:20260422T190144
CREATED:20251206T202809Z
LAST-MODIFIED:20251206T202809Z
UID:10006809-1808046000-1808049600@caninecardio.com
SUMMARY:Foster Fit Sundays
DESCRIPTION:To support local rescues and help foster dogs grow confident\, social\, and adoption-ready\, Club Canine Cardio hosts a weekly Foster Fit Hour with exclusive benefits for foster families. \n\nFoster Discount – 50% off ANY Dog Gym Activity\nApplies to all gym activities\, including: \n\nTreadmill\nTug Play\nWeight Pull\nAgility\nScent Work\nPool (if available)\nLure (seasonal)\n\nWho Qualifies\n\nAny dog currently in foster care through a rescue or shelter\nProof of foster status required at check-in\n\nWhy We Offer This\n\nHelps foster dogs build confidence\nProvides structured enrichment most rescues cannot offer\nGives fosters a fun Sunday outing\nGenerates highly shareable social content\nBuilds goodwill and long-term customers (fosters often return with their own dogs later)
URL:https://caninecardio.com/event/foster-fit-sundays/2027-04-18/
LOCATION:Club Canine Cardio\, 2709 S Oakland Street\, Arlington\, Virginia\, 22206\, United States
ATTACH;FMTTYPE=image/png:https://caninecardio.com/wp-content/uploads/2025/12/wpwizards_dynamic_dog_fitness_class_promotional_background_fo_6468bae4-9172-4497-bc78-2c20591f9e21_1-1.png
ORGANIZER;CN="Canine Cardio":MAILTO:fitpack@caninecardio.com
END:VEVENT
BEGIN:VEVENT
DTSTART;VALUE=DATE:20270420
DTEND;VALUE=DATE:20270421
DTSTAMP:20260422T190144
CREATED:20251207T171738Z
LAST-MODIFIED:20251207T171738Z
UID:10007070-1808179200-1808265599@caninecardio.com
SUMMARY:Treadmill Tuesdays
DESCRIPTION:50% off treadmill activity with any $20 bar purchase
URL:https://caninecardio.com/event/treadmill-tuesdays/2027-04-20/
LOCATION:Club Canine Cardio\, 2709 S Oakland Street\, Arlington\, Virginia\, 22206\, United States
ATTACH;FMTTYPE=image/jpeg:https://caninecardio.com/wp-content/uploads/2025/09/Dog_Treadmill_CLub2025.jpg
END:VEVENT
BEGIN:VEVENT
DTSTART;VALUE=DATE:20270421
DTEND;VALUE=DATE:20270422
DTSTAMP:20260422T190144
CREATED:20251207T172524Z
LAST-MODIFIED:20251207T172959Z
UID:10007592-1808265600-1808351999@caninecardio.com
SUMMARY:Working Dog Wednesday
DESCRIPTION:25% off all bar purchases and all gym services. \nEligible: First responders\, military\, service dogs\, working dog breeds\, sport dogs.
URL:https://caninecardio.com/event/working-dog-wednesday/2027-04-21/
LOCATION:Club Canine Cardio\, 2709 S Oakland Street\, Arlington\, Virginia\, 22206\, United States
ATTACH;FMTTYPE=image/png:https://caninecardio.com/wp-content/uploads/2025/12/wpwizards_group_of_working_dogs_with_their_owners_who_are_Fir_ead54880-45f8-4d18-8300-13d012451325_3.png
END:VEVENT
BEGIN:VEVENT
DTSTART;VALUE=DATE:20270422
DTEND;VALUE=DATE:20270423
DTSTAMP:20260422T190144
CREATED:20251207T172918Z
LAST-MODIFIED:20251210T025100Z
UID:10007332-1808352000-1808438399@caninecardio.com
SUMMARY:Prey Play Thursdays – Lure Coursing
DESCRIPTION:Gym Special: \n\n\n$10 off lure coursing \n\n\nBar Special: \n\n\n$2 off draft beers \n\n\nA hot dog for any dog that completes a lure‑coursing run
URL:https://caninecardio.com/event/prey-play-thursdays-lure-coursing/2027-04-22/
LOCATION:Club Canine Cardio\, 2709 S Oakland Street\, Arlington\, Virginia\, 22206\, United States
ATTACH;FMTTYPE=image/png:https://caninecardio.com/wp-content/uploads/2025/12/wpwizards_2_human_friends_sitting_together_drinking_a_beer_ch_8adee8dd-068d-4c14-8065-03c6861ff878_0.png
END:VEVENT
BEGIN:VEVENT
DTSTART;VALUE=DATE:20270423
DTEND;VALUE=DATE:20270424
DTSTAMP:20260422T190144
CREATED:20251207T173144Z
LAST-MODIFIED:20251210T025042Z
UID:10007853-1808438400-1808524799@caninecardio.com
SUMMARY:Bring‑a‑Friend Fridays
DESCRIPTION:If you bring a friend: \n\n\nYour friend gets their drink 50% off \n\n\nYour friend’s dog gets any gym activity 50% off \n\n\nTo activate: \n\n\nYou buy a drink \n\n\nYour dog completes a gym activity \n\n\nNo membership required.
URL:https://caninecardio.com/event/bring-a-friend-fridays/2027-04-23/
LOCATION:Club Canine Cardio\, 2709 S Oakland Street\, Arlington\, Virginia\, 22206\, United States
ATTACH;FMTTYPE=image/jpeg:https://caninecardio.com/wp-content/uploads/2025/11/AW3B7711_edited.jpg
END:VEVENT
BEGIN:VEVENT
DTSTART;TZID=America/New_York:20270425T110000
DTEND;TZID=America/New_York:20270425T120000
DTSTAMP:20260422T190144
CREATED:20251206T202809Z
LAST-MODIFIED:20251206T202809Z
UID:10006810-1808650800-1808654400@caninecardio.com
SUMMARY:Foster Fit Sundays
DESCRIPTION:To support local rescues and help foster dogs grow confident\, social\, and adoption-ready\, Club Canine Cardio hosts a weekly Foster Fit Hour with exclusive benefits for foster families. \n\nFoster Discount – 50% off ANY Dog Gym Activity\nApplies to all gym activities\, including: \n\nTreadmill\nTug Play\nWeight Pull\nAgility\nScent Work\nPool (if available)\nLure (seasonal)\n\nWho Qualifies\n\nAny dog currently in foster care through a rescue or shelter\nProof of foster status required at check-in\n\nWhy We Offer This\n\nHelps foster dogs build confidence\nProvides structured enrichment most rescues cannot offer\nGives fosters a fun Sunday outing\nGenerates highly shareable social content\nBuilds goodwill and long-term customers (fosters often return with their own dogs later)
URL:https://caninecardio.com/event/foster-fit-sundays/2027-04-25/
LOCATION:Club Canine Cardio\, 2709 S Oakland Street\, Arlington\, Virginia\, 22206\, United States
ATTACH;FMTTYPE=image/png:https://caninecardio.com/wp-content/uploads/2025/12/wpwizards_dynamic_dog_fitness_class_promotional_background_fo_6468bae4-9172-4497-bc78-2c20591f9e21_1-1.png
ORGANIZER;CN="Canine Cardio":MAILTO:fitpack@caninecardio.com
END:VEVENT
BEGIN:VEVENT
DTSTART;VALUE=DATE:20270427
DTEND;VALUE=DATE:20270428
DTSTAMP:20260422T190144
CREATED:20251207T171738Z
LAST-MODIFIED:20251207T171738Z
UID:10007071-1808784000-1808870399@caninecardio.com
SUMMARY:Treadmill Tuesdays
DESCRIPTION:50% off treadmill activity with any $20 bar purchase
URL:https://caninecardio.com/event/treadmill-tuesdays/2027-04-27/
LOCATION:Club Canine Cardio\, 2709 S Oakland Street\, Arlington\, Virginia\, 22206\, United States
ATTACH;FMTTYPE=image/jpeg:https://caninecardio.com/wp-content/uploads/2025/09/Dog_Treadmill_CLub2025.jpg
END:VEVENT
BEGIN:VEVENT
DTSTART;VALUE=DATE:20270428
DTEND;VALUE=DATE:20270429
DTSTAMP:20260422T190144
CREATED:20251207T172524Z
LAST-MODIFIED:20251207T172959Z
UID:10007593-1808870400-1808956799@caninecardio.com
SUMMARY:Working Dog Wednesday
DESCRIPTION:25% off all bar purchases and all gym services. \nEligible: First responders\, military\, service dogs\, working dog breeds\, sport dogs.
URL:https://caninecardio.com/event/working-dog-wednesday/2027-04-28/
LOCATION:Club Canine Cardio\, 2709 S Oakland Street\, Arlington\, Virginia\, 22206\, United States
ATTACH;FMTTYPE=image/png:https://caninecardio.com/wp-content/uploads/2025/12/wpwizards_group_of_working_dogs_with_their_owners_who_are_Fir_ead54880-45f8-4d18-8300-13d012451325_3.png
END:VEVENT
BEGIN:VEVENT
DTSTART;VALUE=DATE:20270429
DTEND;VALUE=DATE:20270430
DTSTAMP:20260422T190144
CREATED:20251207T172918Z
LAST-MODIFIED:20251210T025100Z
UID:10007333-1808956800-1809043199@caninecardio.com
SUMMARY:Prey Play Thursdays – Lure Coursing
DESCRIPTION:Gym Special: \n\n\n$10 off lure coursing \n\n\nBar Special: \n\n\n$2 off draft beers \n\n\nA hot dog for any dog that completes a lure‑coursing run
URL:https://caninecardio.com/event/prey-play-thursdays-lure-coursing/2027-04-29/
LOCATION:Club Canine Cardio\, 2709 S Oakland Street\, Arlington\, Virginia\, 22206\, United States
ATTACH;FMTTYPE=image/png:https://caninecardio.com/wp-content/uploads/2025/12/wpwizards_2_human_friends_sitting_together_drinking_a_beer_ch_8adee8dd-068d-4c14-8065-03c6861ff878_0.png
END:VEVENT
BEGIN:VEVENT
DTSTART;VALUE=DATE:20270430
DTEND;VALUE=DATE:20270501
DTSTAMP:20260422T190144
CREATED:20251207T173144Z
LAST-MODIFIED:20251210T025042Z
UID:10007854-1809043200-1809129599@caninecardio.com
SUMMARY:Bring‑a‑Friend Fridays
DESCRIPTION:If you bring a friend: \n\n\nYour friend gets their drink 50% off \n\n\nYour friend’s dog gets any gym activity 50% off \n\n\nTo activate: \n\n\nYou buy a drink \n\n\nYour dog completes a gym activity \n\n\nNo membership required.
URL:https://caninecardio.com/event/bring-a-friend-fridays/2027-04-30/
LOCATION:Club Canine Cardio\, 2709 S Oakland Street\, Arlington\, Virginia\, 22206\, United States
ATTACH;FMTTYPE=image/jpeg:https://caninecardio.com/wp-content/uploads/2025/11/AW3B7711_edited.jpg
END:VEVENT
BEGIN:VEVENT
DTSTART;TZID=America/New_York:20270502T110000
DTEND;TZID=America/New_York:20270502T120000
DTSTAMP:20260422T190144
CREATED:20251206T202809Z
LAST-MODIFIED:20251206T202809Z
UID:10006811-1809255600-1809259200@caninecardio.com
SUMMARY:Foster Fit Sundays
DESCRIPTION:To support local rescues and help foster dogs grow confident\, social\, and adoption-ready\, Club Canine Cardio hosts a weekly Foster Fit Hour with exclusive benefits for foster families. \n\nFoster Discount – 50% off ANY Dog Gym Activity\nApplies to all gym activities\, including: \n\nTreadmill\nTug Play\nWeight Pull\nAgility\nScent Work\nPool (if available)\nLure (seasonal)\n\nWho Qualifies\n\nAny dog currently in foster care through a rescue or shelter\nProof of foster status required at check-in\n\nWhy We Offer This\n\nHelps foster dogs build confidence\nProvides structured enrichment most rescues cannot offer\nGives fosters a fun Sunday outing\nGenerates highly shareable social content\nBuilds goodwill and long-term customers (fosters often return with their own dogs later)
URL:https://caninecardio.com/event/foster-fit-sundays/2027-05-02/
LOCATION:Club Canine Cardio\, 2709 S Oakland Street\, Arlington\, Virginia\, 22206\, United States
ATTACH;FMTTYPE=image/png:https://caninecardio.com/wp-content/uploads/2025/12/wpwizards_dynamic_dog_fitness_class_promotional_background_fo_6468bae4-9172-4497-bc78-2c20591f9e21_1-1.png
ORGANIZER;CN="Canine Cardio":MAILTO:fitpack@caninecardio.com
END:VEVENT
BEGIN:VEVENT
DTSTART;VALUE=DATE:20270504
DTEND;VALUE=DATE:20270505
DTSTAMP:20260422T190144
CREATED:20251207T171738Z
LAST-MODIFIED:20251207T171738Z
UID:10007072-1809388800-1809475199@caninecardio.com
SUMMARY:Treadmill Tuesdays
DESCRIPTION:50% off treadmill activity with any $20 bar purchase
URL:https://caninecardio.com/event/treadmill-tuesdays/2027-05-04/
LOCATION:Club Canine Cardio\, 2709 S Oakland Street\, Arlington\, Virginia\, 22206\, United States
ATTACH;FMTTYPE=image/jpeg:https://caninecardio.com/wp-content/uploads/2025/09/Dog_Treadmill_CLub2025.jpg
END:VEVENT
BEGIN:VEVENT
DTSTART;VALUE=DATE:20270505
DTEND;VALUE=DATE:20270506
DTSTAMP:20260422T190144
CREATED:20251207T172524Z
LAST-MODIFIED:20251207T172959Z
UID:10007594-1809475200-1809561599@caninecardio.com
SUMMARY:Working Dog Wednesday
DESCRIPTION:25% off all bar purchases and all gym services. \nEligible: First responders\, military\, service dogs\, working dog breeds\, sport dogs.
URL:https://caninecardio.com/event/working-dog-wednesday/2027-05-05/
LOCATION:Club Canine Cardio\, 2709 S Oakland Street\, Arlington\, Virginia\, 22206\, United States
ATTACH;FMTTYPE=image/png:https://caninecardio.com/wp-content/uploads/2025/12/wpwizards_group_of_working_dogs_with_their_owners_who_are_Fir_ead54880-45f8-4d18-8300-13d012451325_3.png
END:VEVENT
BEGIN:VEVENT
DTSTART;VALUE=DATE:20270506
DTEND;VALUE=DATE:20270507
DTSTAMP:20260422T190144
CREATED:20251207T172918Z
LAST-MODIFIED:20251210T025100Z
UID:10007334-1809561600-1809647999@caninecardio.com
SUMMARY:Prey Play Thursdays – Lure Coursing
DESCRIPTION:Gym Special: \n\n\n$10 off lure coursing \n\n\nBar Special: \n\n\n$2 off draft beers \n\n\nA hot dog for any dog that completes a lure‑coursing run
URL:https://caninecardio.com/event/prey-play-thursdays-lure-coursing/2027-05-06/
LOCATION:Club Canine Cardio\, 2709 S Oakland Street\, Arlington\, Virginia\, 22206\, United States
ATTACH;FMTTYPE=image/png:https://caninecardio.com/wp-content/uploads/2025/12/wpwizards_2_human_friends_sitting_together_drinking_a_beer_ch_8adee8dd-068d-4c14-8065-03c6861ff878_0.png
END:VEVENT
BEGIN:VEVENT
DTSTART;VALUE=DATE:20270507
DTEND;VALUE=DATE:20270508
DTSTAMP:20260422T190144
CREATED:20251207T173144Z
LAST-MODIFIED:20251210T025042Z
UID:10007855-1809648000-1809734399@caninecardio.com
SUMMARY:Bring‑a‑Friend Fridays
DESCRIPTION:If you bring a friend: \n\n\nYour friend gets their drink 50% off \n\n\nYour friend’s dog gets any gym activity 50% off \n\n\nTo activate: \n\n\nYou buy a drink \n\n\nYour dog completes a gym activity \n\n\nNo membership required.
URL:https://caninecardio.com/event/bring-a-friend-fridays/2027-05-07/
LOCATION:Club Canine Cardio\, 2709 S Oakland Street\, Arlington\, Virginia\, 22206\, United States
ATTACH;FMTTYPE=image/jpeg:https://caninecardio.com/wp-content/uploads/2025/11/AW3B7711_edited.jpg
END:VEVENT
BEGIN:VEVENT
DTSTART;TZID=America/New_York:20270509T110000
DTEND;TZID=America/New_York:20270509T120000
DTSTAMP:20260422T190144
CREATED:20251206T202809Z
LAST-MODIFIED:20251206T202809Z
UID:10006812-1809860400-1809864000@caninecardio.com
SUMMARY:Foster Fit Sundays
DESCRIPTION:To support local rescues and help foster dogs grow confident\, social\, and adoption-ready\, Club Canine Cardio hosts a weekly Foster Fit Hour with exclusive benefits for foster families. \n\nFoster Discount – 50% off ANY Dog Gym Activity\nApplies to all gym activities\, including: \n\nTreadmill\nTug Play\nWeight Pull\nAgility\nScent Work\nPool (if available)\nLure (seasonal)\n\nWho Qualifies\n\nAny dog currently in foster care through a rescue or shelter\nProof of foster status required at check-in\n\nWhy We Offer This\n\nHelps foster dogs build confidence\nProvides structured enrichment most rescues cannot offer\nGives fosters a fun Sunday outing\nGenerates highly shareable social content\nBuilds goodwill and long-term customers (fosters often return with their own dogs later)
URL:https://caninecardio.com/event/foster-fit-sundays/2027-05-09/
LOCATION:Club Canine Cardio\, 2709 S Oakland Street\, Arlington\, Virginia\, 22206\, United States
ATTACH;FMTTYPE=image/png:https://caninecardio.com/wp-content/uploads/2025/12/wpwizards_dynamic_dog_fitness_class_promotional_background_fo_6468bae4-9172-4497-bc78-2c20591f9e21_1-1.png
ORGANIZER;CN="Canine Cardio":MAILTO:fitpack@caninecardio.com
END:VEVENT
BEGIN:VEVENT
DTSTART;VALUE=DATE:20270511
DTEND;VALUE=DATE:20270512
DTSTAMP:20260422T190144
CREATED:20251207T171738Z
LAST-MODIFIED:20251207T171738Z
UID:10007073-1809993600-1810079999@caninecardio.com
SUMMARY:Treadmill Tuesdays
DESCRIPTION:50% off treadmill activity with any $20 bar purchase
URL:https://caninecardio.com/event/treadmill-tuesdays/2027-05-11/
LOCATION:Club Canine Cardio\, 2709 S Oakland Street\, Arlington\, Virginia\, 22206\, United States
ATTACH;FMTTYPE=image/jpeg:https://caninecardio.com/wp-content/uploads/2025/09/Dog_Treadmill_CLub2025.jpg
END:VEVENT
BEGIN:VEVENT
DTSTART;VALUE=DATE:20270512
DTEND;VALUE=DATE:20270513
DTSTAMP:20260422T190144
CREATED:20251207T172524Z
LAST-MODIFIED:20251207T172959Z
UID:10007595-1810080000-1810166399@caninecardio.com
SUMMARY:Working Dog Wednesday
DESCRIPTION:25% off all bar purchases and all gym services. \nEligible: First responders\, military\, service dogs\, working dog breeds\, sport dogs.
URL:https://caninecardio.com/event/working-dog-wednesday/2027-05-12/
LOCATION:Club Canine Cardio\, 2709 S Oakland Street\, Arlington\, Virginia\, 22206\, United States
ATTACH;FMTTYPE=image/png:https://caninecardio.com/wp-content/uploads/2025/12/wpwizards_group_of_working_dogs_with_their_owners_who_are_Fir_ead54880-45f8-4d18-8300-13d012451325_3.png
END:VEVENT
BEGIN:VEVENT
DTSTART;VALUE=DATE:20270513
DTEND;VALUE=DATE:20270514
DTSTAMP:20260422T190144
CREATED:20251207T172918Z
LAST-MODIFIED:20251210T025100Z
UID:10007335-1810166400-1810252799@caninecardio.com
SUMMARY:Prey Play Thursdays – Lure Coursing
DESCRIPTION:Gym Special: \n\n\n$10 off lure coursing \n\n\nBar Special: \n\n\n$2 off draft beers \n\n\nA hot dog for any dog that completes a lure‑coursing run
URL:https://caninecardio.com/event/prey-play-thursdays-lure-coursing/2027-05-13/
LOCATION:Club Canine Cardio\, 2709 S Oakland Street\, Arlington\, Virginia\, 22206\, United States
ATTACH;FMTTYPE=image/png:https://caninecardio.com/wp-content/uploads/2025/12/wpwizards_2_human_friends_sitting_together_drinking_a_beer_ch_8adee8dd-068d-4c14-8065-03c6861ff878_0.png
END:VEVENT
BEGIN:VEVENT
DTSTART;VALUE=DATE:20270514
DTEND;VALUE=DATE:20270515
DTSTAMP:20260422T190144
CREATED:20251207T173144Z
LAST-MODIFIED:20251210T025042Z
UID:10007856-1810252800-1810339199@caninecardio.com
SUMMARY:Bring‑a‑Friend Fridays
DESCRIPTION:If you bring a friend: \n\n\nYour friend gets their drink 50% off \n\n\nYour friend’s dog gets any gym activity 50% off \n\n\nTo activate: \n\n\nYou buy a drink \n\n\nYour dog completes a gym activity \n\n\nNo membership required.
URL:https://caninecardio.com/event/bring-a-friend-fridays/2027-05-14/
LOCATION:Club Canine Cardio\, 2709 S Oakland Street\, Arlington\, Virginia\, 22206\, United States
ATTACH;FMTTYPE=image/jpeg:https://caninecardio.com/wp-content/uploads/2025/11/AW3B7711_edited.jpg
END:VEVENT
BEGIN:VEVENT
DTSTART;TZID=America/New_York:20270516T110000
DTEND;TZID=America/New_York:20270516T120000
DTSTAMP:20260422T190144
CREATED:20251206T202809Z
LAST-MODIFIED:20251206T202809Z
UID:10006813-1810465200-1810468800@caninecardio.com
SUMMARY:Foster Fit Sundays
DESCRIPTION:To support local rescues and help foster dogs grow confident\, social\, and adoption-ready\, Club Canine Cardio hosts a weekly Foster Fit Hour with exclusive benefits for foster families. \n\nFoster Discount – 50% off ANY Dog Gym Activity\nApplies to all gym activities\, including: \n\nTreadmill\nTug Play\nWeight Pull\nAgility\nScent Work\nPool (if available)\nLure (seasonal)\n\nWho Qualifies\n\nAny dog currently in foster care through a rescue or shelter\nProof of foster status required at check-in\n\nWhy We Offer This\n\nHelps foster dogs build confidence\nProvides structured enrichment most rescues cannot offer\nGives fosters a fun Sunday outing\nGenerates highly shareable social content\nBuilds goodwill and long-term customers (fosters often return with their own dogs later)
URL:https://caninecardio.com/event/foster-fit-sundays/2027-05-16/
LOCATION:Club Canine Cardio\, 2709 S Oakland Street\, Arlington\, Virginia\, 22206\, United States
ATTACH;FMTTYPE=image/png:https://caninecardio.com/wp-content/uploads/2025/12/wpwizards_dynamic_dog_fitness_class_promotional_background_fo_6468bae4-9172-4497-bc78-2c20591f9e21_1-1.png
ORGANIZER;CN="Canine Cardio":MAILTO:fitpack@caninecardio.com
END:VEVENT
BEGIN:VEVENT
DTSTART;VALUE=DATE:20270518
DTEND;VALUE=DATE:20270519
DTSTAMP:20260422T190144
CREATED:20251207T171738Z
LAST-MODIFIED:20251207T171738Z
UID:10007074-1810598400-1810684799@caninecardio.com
SUMMARY:Treadmill Tuesdays
DESCRIPTION:50% off treadmill activity with any $20 bar purchase
URL:https://caninecardio.com/event/treadmill-tuesdays/2027-05-18/
LOCATION:Club Canine Cardio\, 2709 S Oakland Street\, Arlington\, Virginia\, 22206\, United States
ATTACH;FMTTYPE=image/jpeg:https://caninecardio.com/wp-content/uploads/2025/09/Dog_Treadmill_CLub2025.jpg
END:VEVENT
BEGIN:VEVENT
DTSTART;VALUE=DATE:20270519
DTEND;VALUE=DATE:20270520
DTSTAMP:20260422T190144
CREATED:20251207T172524Z
LAST-MODIFIED:20251207T172959Z
UID:10007596-1810684800-1810771199@caninecardio.com
SUMMARY:Working Dog Wednesday
DESCRIPTION:25% off all bar purchases and all gym services. \nEligible: First responders\, military\, service dogs\, working dog breeds\, sport dogs.
URL:https://caninecardio.com/event/working-dog-wednesday/2027-05-19/
LOCATION:Club Canine Cardio\, 2709 S Oakland Street\, Arlington\, Virginia\, 22206\, United States
ATTACH;FMTTYPE=image/png:https://caninecardio.com/wp-content/uploads/2025/12/wpwizards_group_of_working_dogs_with_their_owners_who_are_Fir_ead54880-45f8-4d18-8300-13d012451325_3.png
END:VEVENT
END:VCALENDAR