BEGIN:VCALENDAR
VERSION:2.0
PRODID:-//Canine Cardio - ECPv6.15.20//NONSGML v1.0//EN
CALSCALE:GREGORIAN
METHOD:PUBLISH
X-WR-CALNAME:Canine Cardio
X-ORIGINAL-URL:https://caninecardio.com
X-WR-CALDESC:Events for Canine Cardio
REFRESH-INTERVAL;VALUE=DURATION:PT1H
X-Robots-Tag:noindex
X-PUBLISHED-TTL:PT1H
BEGIN:VTIMEZONE
TZID:America/New_York
BEGIN:DAYLIGHT
TZOFFSETFROM:-0500
TZOFFSETTO:-0400
TZNAME:EDT
DTSTART:20230312T070000
END:DAYLIGHT
BEGIN:STANDARD
TZOFFSETFROM:-0400
TZOFFSETTO:-0500
TZNAME:EST
DTSTART:20231105T060000
END:STANDARD
BEGIN:DAYLIGHT
TZOFFSETFROM:-0500
TZOFFSETTO:-0400
TZNAME:EDT
DTSTART:20240310T070000
END:DAYLIGHT
BEGIN:STANDARD
TZOFFSETFROM:-0400
TZOFFSETTO:-0500
TZNAME:EST
DTSTART:20241103T060000
END:STANDARD
BEGIN:DAYLIGHT
TZOFFSETFROM:-0500
TZOFFSETTO:-0400
TZNAME:EDT
DTSTART:20250309T070000
END:DAYLIGHT
BEGIN:STANDARD
TZOFFSETFROM:-0400
TZOFFSETTO:-0500
TZNAME:EST
DTSTART:20251102T060000
END:STANDARD
END:VTIMEZONE
BEGIN:VEVENT
DTSTART;TZID=America/New_York:20240414T100000
DTEND;TZID=America/New_York:20240414T110000
DTSTAMP:20260423T050526
CREATED:20240405T170038Z
LAST-MODIFIED:20240412T225540Z
UID:10004455-1713088800-1713092400@caninecardio.com
SUMMARY:Play Base Dog Training Class at Snouts & Stouts!
DESCRIPTION:Join us for an exciting and engaging Play-Based Dog Training Class\, where learning is transformed into a playful adventure for both you and your canine companion. \nThis class is not just about obedience; it’s a lively journey to shape positive behaviors\, simplify mental training activities\, and fortify the special bond between you and your four-legged friend. \n🎉 Why Play-Based Training? Most “non-desirable” behaviors in dogs often stem from miscommunication\, lack of understanding in various situations\, or sheer boredom. Our furry friends rely on us to guide them in navigating the human world. Dogs love to learn\, and this class taps into their natural desire to please and have fun with their human companions. \n🐶 What to Expect: \n\nInteractive Games: Your dog will be mentally challenged through engaging games\, fostering positive decision-making skills.\nAgility Workout: Physical exercise is essential for a happy and healthy pup\, and our agility workout adds an extra element of excitement.\nClear Expectations: Establishing clear expectations is crucial for effective communication and understanding between you and your dog.\nConfidence Building: Boost your dog’s confidence and yours through positive reinforcement and interactive activities.\nImpulse Control: Learn techniques to manage and control your dog’s impulses\, promoting good behavior in various situations.\n\n🤩 Why Attend? \nNot only will you and your dog learn valuable skills\, but you’ll also have a blast! This class is designed to create a positive and enjoyable learning environment for both you and your canine companion. \n🎟️ Registration Details: \n\nLimited Spots: Only 10 spots available\, ensuring a personalized and focused learning experience.\nTicket Prices: $20 for Snouts and Stouts members\, $25 for non-members.\nBring Along: Don’t forget your dog’s favorite treats and their very own special training mat or bed.\n\nDon’t miss out on this paws-itively fantastic opportunity to strengthen your bond with your dog while enjoying the benefits of play-based training! Reserve your spot now and let the fun begin!
URL:https://caninecardio.com/event/play-base-dog-training-class-at-snouts-stouts-2/
ATTACH;FMTTYPE=image/jpeg:https://caninecardio.com/wp-content/uploads/2024/03/Depositphotos_645606370_S.jpg
END:VEVENT
BEGIN:VEVENT
DTSTART;TZID=America/New_York:20240412T170000
DTEND;TZID=America/New_York:20240412T210000
DTSTAMP:20260423T050526
CREATED:20240403T171834Z
LAST-MODIFIED:20250513T180555Z
UID:10004451-1712941200-1712955600@caninecardio.com
SUMMARY:Tap Takeover Fundraiser for Say It Once Rescue League at Snouts & Stouts
DESCRIPTION:Join us at Snouts & Stouts on April 12th for a special Tap Takeover Fundraiser in support of Say It Once Rescue League! Enjoy an evening of great drinks and company while contributing to a worthy cause. \nSay It Once Rescue League\, born out of the dedication and passion of the team at Say It Once Dog Training\, aims to make a difference in the lives of rescue dogs by providing them with the training they need to thrive in their forever homes. \nHighlights of the event include: \n\nTap takeover featuring a selection of delicious beverages.\n25% of all beverage sales will be donated to Say It Once Rescue League.\nLearn more about Say It Once Rescue League’s mission and impact on rescue dogs.\nMeet members of the Say It Once Rescue League team and learn how you can get involved.\nEnjoy a lively atmosphere and great conversation with fellow dog lovers and supporters of rescue organizations.\n\nSay It Once Rescue League partners with local organizations to foster dogs and provide free training to rescue dogs in need\, helping to reduce the risk of them being returned or euthanized due to behavior issues. \nDon’t miss this opportunity to support a cause that makes a real difference in the lives of rescue dogs! Mark your calendars for April 12th and join us at Snouts & Stouts for a night of fundraising\, camaraderie\, and advocacy for our furry friends.
URL:https://caninecardio.com/event/tap-takeover-fundraiser-for-say-it-once-rescue-league/
LOCATION:Snouts & Stouts\, 2709 S Oakland St\, Arlington\, VA\, 22206\, United States
ATTACH;FMTTYPE=image/jpeg:https://caninecardio.com/wp-content/uploads/2024/04/306553631_110521095135414_5391352137241615387_n.jpg
END:VEVENT
BEGIN:VEVENT
DTSTART;TZID=America/New_York:20240409T183000
DTEND;TZID=America/New_York:20240409T203000
DTSTAMP:20260423T050526
CREATED:20240326T183500Z
LAST-MODIFIED:20240614T174917Z
UID:10003925-1712687400-1712694600@caninecardio.com
SUMMARY:Live & Local Music Nights at Snouts & Stouts
DESCRIPTION: Join us for an intimate evening celebrating the unique musical styles and performances of our local artists. From acoustic melodies to electrifying beats\, our Local Music Artist Nights promise an unforgettable experience.\n\n\n\nBring your friends\, grab a drink\, and support the incredible talent our neighborhood boasts. Let the local music scene captivate your senses at Snouts & Stouts!
URL:https://caninecardio.com/event/local-music-artist-nights-at-snouts-stouts-2/2024-04-09/
LOCATION:Snouts & Stouts\, 2709 S Oakland St\, Arlington\, VA\, 22206\, United States
ATTACH;FMTTYPE=image/webp:https://caninecardio.com/wp-content/uploads/2024/02/044b57_2b3c57bdc0074b0dab5e6b5ebd29201amv2.webp
END:VEVENT
BEGIN:VEVENT
DTSTART;TZID=America/New_York:20240407T100000
DTEND;TZID=America/New_York:20240407T110000
DTSTAMP:20260423T050526
CREATED:20240328T223606Z
LAST-MODIFIED:20240405T160114Z
UID:10004186-1712484000-1712487600@caninecardio.com
SUMMARY:Play Base Dog Training Class at Snouts & Stouts!
DESCRIPTION:Join us for an exciting and engaging Play-Based Dog Training Class\, where learning is transformed into a playful adventure for both you and your canine companion. \nThis class is not just about obedience; it’s a lively journey to shape positive behaviors\, simplify mental training activities\, and fortify the special bond between you and your four-legged friend. \n🎉 Why Play-Based Training? Most “non-desirable” behaviors in dogs often stem from miscommunication\, lack of understanding in various situations\, or sheer boredom. Our furry friends rely on us to guide them in navigating the human world. Dogs love to learn\, and this class taps into their natural desire to please and have fun with their human companions. \n🐶 What to Expect: \n\nInteractive Games: Your dog will be mentally challenged through engaging games\, fostering positive decision-making skills.\nAgility Workout: Physical exercise is essential for a happy and healthy pup\, and our agility workout adds an extra element of excitement.\nClear Expectations: Establishing clear expectations is crucial for effective communication and understanding between you and your dog.\nConfidence Building: Boost your dog’s confidence and yours through positive reinforcement and interactive activities.\nImpulse Control: Learn techniques to manage and control your dog’s impulses\, promoting good behavior in various situations.\n\n🤩 Why Attend? \nNot only will you and your dog learn valuable skills\, but you’ll also have a blast! This class is designed to create a positive and enjoyable learning environment for both you and your canine companion. \n🎟️ Registration Details: \n\nLimited Spots: Only 10 spots available\, ensuring a personalized and focused learning experience.\nTicket Prices: $20 for Snouts and Stouts members\, $25 for non-members.\nBring Along: Don’t forget your dog’s favorite treats and their very own special training mat or bed.\n\nDon’t miss out on this paws-itively fantastic opportunity to strengthen your bond with your dog while enjoying the benefits of play-based training! Reserve your spot now and let the fun begin!
URL:https://caninecardio.com/event/play-base-dog-training-class-at-snouts-stouts/
ATTACH;FMTTYPE=image/jpeg:https://caninecardio.com/wp-content/uploads/2024/03/Depositphotos_645606370_S.jpg
END:VEVENT
BEGIN:VEVENT
DTSTART;TZID=America/New_York:20240406T100000
DTEND;TZID=America/New_York:20240406T110000
DTSTAMP:20260423T050526
CREATED:20240326T185111Z
LAST-MODIFIED:20240326T185400Z
UID:10003399-1712397600-1712401200@caninecardio.com
SUMMARY:Say It Once Dog Training Group Class
DESCRIPTION:Join us for an hour of fun and learning as we welcome Say It Once Dog Training to our venue. Together\, we’ll help you and your furry friend navigate the real world with confidence and ease. \nWhat To Expect:\n\nLearn essential skills like walking past other dogs\, proper dog greetings\, and more!\nExpert guidance from Say It Once Dog Training’s experienced trainers.\nA welcoming and supportive environment for both you and your pup.\nDon’t miss this tail-wagging opportunity to strengthen your bond with your canine companion while enjoying the cozy atmosphere of Snouts & Stouts.\n\nRegistration:\n\nSign up and purchase tickets here\n\nCost:\n\n$38 for one dog\, $58 for two\n\n  \n*Tickets include a day pass to Snouts & Stouts but you must still register your dog with Snouts & Stouts.
URL:https://caninecardio.com/event/say-it-once-dog-training-group-class/
LOCATION:Snouts & Stouts\, 2709 S Oakland St\, Arlington\, VA\, 22206\, United States
ATTACH;FMTTYPE=image/webp:https://caninecardio.com/wp-content/uploads/2024/03/044b57_b000191e49ea4b3d90ce09b44275f949mv2.webp
END:VEVENT
BEGIN:VEVENT
DTSTART;TZID=America/New_York:20240405T170000
DTEND;TZID=America/New_York:20240405T210000
DTSTAMP:20260423T050526
CREATED:20240326T184852Z
LAST-MODIFIED:20240326T184852Z
UID:10003398-1712336400-1712350800@caninecardio.com
SUMMARY:Tap Takeover Benefiting Laila's Legacy Animal Rescue
DESCRIPTION:🐾 About Laila’s Legacy Animal Rescue: Laila’s Legacy was founded with a mission to ensure that every homeless dog – including those with behavioral or physical challenges – that comes through our doors has a chance at a better life while educating the public on breed bias\, individualistic training\, and the importance of spay-neuter to lower the impact of returned\, rehomed\, and abandoned animals in shelters across the United States.🍻🐶
URL:https://caninecardio.com/event/tap-takeover-benefiting-lailas-legacy-animal-rescue/
LOCATION:Snouts & Stouts\, 2709 S Oakland St\, Arlington\, VA\, 22206\, United States
ATTACH;FMTTYPE=image/webp:https://caninecardio.com/wp-content/uploads/2024/03/044b57_10d61eb943654f54b75f1e731f9fe119mv2.webp
END:VEVENT
BEGIN:VEVENT
DTSTART;TZID=America/New_York:20240402T183000
DTEND;TZID=America/New_York:20240402T203000
DTSTAMP:20260423T050526
CREATED:20240326T183500Z
LAST-MODIFIED:20240614T174917Z
UID:10003924-1712082600-1712089800@caninecardio.com
SUMMARY:Live & Local Music Nights at Snouts & Stouts
DESCRIPTION: Join us for an intimate evening celebrating the unique musical styles and performances of our local artists. From acoustic melodies to electrifying beats\, our Local Music Artist Nights promise an unforgettable experience.\n\n\n\nBring your friends\, grab a drink\, and support the incredible talent our neighborhood boasts. Let the local music scene captivate your senses at Snouts & Stouts!
URL:https://caninecardio.com/event/local-music-artist-nights-at-snouts-stouts-2/2024-04-02/
LOCATION:Snouts & Stouts\, 2709 S Oakland St\, Arlington\, VA\, 22206\, United States
ATTACH;FMTTYPE=image/webp:https://caninecardio.com/wp-content/uploads/2024/02/044b57_2b3c57bdc0074b0dab5e6b5ebd29201amv2.webp
END:VEVENT
BEGIN:VEVENT
DTSTART;TZID=America/New_York:20240330T140000
DTEND;TZID=America/New_York:20240330T170000
DTSTAMP:20260423T050526
CREATED:20240326T184335Z
LAST-MODIFIED:20240326T184652Z
UID:10003397-1711807200-1711818000@caninecardio.com
SUMMARY:DC Single Dog Parents Singles Mixer: Unleash the Love on March 30th!
DESCRIPTION:Happening on Saturday\, March 30th from 2:00 pm to 5:00 pm\, this event is the perfect opportunity to connect with like-minded individuals who share your love for furry companions. \nWhat to Expect:\n\nIce Breaker Games: Enjoy fun and interactive icebreaker games designed to spark conversation and create connections with fellow dog-loving singles.\nPet-Friendly Atmosphere: Bring your furry friend along to share in the excitement! Dogs have a way of bringing people together\, and this event is no exception.\nFree Drink Ticket: Be one of the first 15 people to arrive and receive a complimentary drink ticket! Toast to new connections and potential romances in a relaxed and friendly setting.\n\nWhy Attend:\n\nMeet Like-Minded Singles: Connect with other single dog parents who understand the joys and challenges of navigating the dating scene while caring for a furry friend.\nCreate Lasting Connections: Whether you’re looking for a new friend\, a casual companion\, or something more\, this event provides a comfortable and casual environment to meet potential matches.\nEnjoy a Pet-Friendly Setting: Share stories\, laughter\, and maybe even some doggy playdates in a venue that welcomes both singles and their four-legged friends.\n\nHow to Secure Your Free Drink Ticket:\n\nArrive early\, as the first 15 attendees will receive a complimentary drink ticket to kick off the festivities in style!\n\nRSVP:\n\nSecure your spot by RSVPing on our website. Limited spots are available\, so don’t miss your chance to be a part of this exciting singles mixer.\n\nDon’t miss out on the chance to meet someone special while bonding over your shared love for dogs. Join us on March 30th for an unforgettable afternoon filled with fun\, laughter\, and the potential for a new romantic connection. See you there!
URL:https://caninecardio.com/event/dc-single-dog-parents-singles-mixer-unleash-the-love-on-march-30th/
LOCATION:Snouts & Stouts\, 2709 S Oakland St\, Arlington\, VA\, 22206\, United States
ATTACH;FMTTYPE=image/png:https://caninecardio.com/wp-content/uploads/2024/03/markuphero-7Pu9e0uAA5dyRWQygPVm.png
END:VEVENT
BEGIN:VEVENT
DTSTART;TZID=America/New_York:20240329T180000
DTEND;TZID=America/New_York:20240329T190000
DTSTAMP:20260423T050526
CREATED:20240326T184045Z
LAST-MODIFIED:20240326T184122Z
UID:10003396-1711735200-1711738800@caninecardio.com
SUMMARY:VEG Blood Donor Program Presentation
DESCRIPTION:✨ Powerful Presentation:\n\nEngage in a 15-20 minute PowerPoint session about the Vetinary Emergency Group  Blood Donor Program.\nDiscover essential VEG general information to enhance your understanding.\n\n👥 Meet the Team:\n\nConnect with their dedicated team members from Falls Church.\n\n🛍️ Goodie Bags:\n\nReceive exclusive goodie bags filled with a VEG blood donor flyer\, donor requirements information\, and VEG swag like magnets and poop bag holders.\n\n📝 Sign Up for Screening:\n\nExpress interest by signing up for your dog to be screened for the program.\nThose who follow through and have their dogs screened will be entered into a raffle for a chance to win a $50 PetSmart gift card.
URL:https://caninecardio.com/event/veg-blood-donor-program-presentation/
LOCATION:Snouts & Stouts\, 2709 S Oakland St\, Arlington\, VA\, 22206\, United States
ATTACH;FMTTYPE=image/webp:https://caninecardio.com/wp-content/uploads/2024/03/044b57_32ebba5b06fe49128be3a42223cc07d5mv2.webp
END:VEVENT
BEGIN:VEVENT
DTSTART;TZID=America/New_York:20240326T183000
DTEND;TZID=America/New_York:20240326T203000
DTSTAMP:20260423T050526
CREATED:20240326T183500Z
LAST-MODIFIED:20240614T174917Z
UID:10003923-1711477800-1711485000@caninecardio.com
SUMMARY:Live & Local Music Nights at Snouts & Stouts
DESCRIPTION: Join us for an intimate evening celebrating the unique musical styles and performances of our local artists. From acoustic melodies to electrifying beats\, our Local Music Artist Nights promise an unforgettable experience.\n\n\n\nBring your friends\, grab a drink\, and support the incredible talent our neighborhood boasts. Let the local music scene captivate your senses at Snouts & Stouts!
URL:https://caninecardio.com/event/local-music-artist-nights-at-snouts-stouts-2/2024-03-26/
LOCATION:Snouts & Stouts\, 2709 S Oakland St\, Arlington\, VA\, 22206\, United States
ATTACH;FMTTYPE=image/webp:https://caninecardio.com/wp-content/uploads/2024/02/044b57_2b3c57bdc0074b0dab5e6b5ebd29201amv2.webp
END:VEVENT
BEGIN:VEVENT
DTSTART;TZID=America/New_York:20240321T173000
DTEND;TZID=America/New_York:20240321T190000
DTSTAMP:20260423T050526
CREATED:20240201T054938Z
LAST-MODIFIED:20240201T055051Z
UID:10000015-1711042200-1711047600@caninecardio.com
SUMMARY:Local Music Artist Nights at Snouts & Stouts
DESCRIPTION:🎶 Join us for an intimate evening celebrating the unique musical styles and performances of our local artists. From acoustic melodies to electrifying beats\, our Local Music Artist Nights promise an unforgettable experience. \nBring your friends\, grab a drink\, and support the incredible talent our neighborhood boasts. Let the local music scene captivate your senses at Snouts & Stouts! 🍻🎵 \nEvery Tuesday and Thursday\, 5:30 PM – 7:00 PM
URL:https://caninecardio.com/event/local-music-artist-nights-at-snouts-stouts/2024-03-21/
LOCATION:Snouts & Stouts\, 2709 S Oakland St\, Arlington\, VA\, 22206\, United States
ATTACH;FMTTYPE=image/webp:https://caninecardio.com/wp-content/uploads/2024/02/044b57_2b3c57bdc0074b0dab5e6b5ebd29201amv2.webp
END:VEVENT
BEGIN:VEVENT
DTSTART;TZID=America/New_York:20240319T173000
DTEND;TZID=America/New_York:20240319T190000
DTSTAMP:20260423T050526
CREATED:20240201T054938Z
LAST-MODIFIED:20240201T055051Z
UID:10000014-1710869400-1710874800@caninecardio.com
SUMMARY:Local Music Artist Nights at Snouts & Stouts
DESCRIPTION:🎶 Join us for an intimate evening celebrating the unique musical styles and performances of our local artists. From acoustic melodies to electrifying beats\, our Local Music Artist Nights promise an unforgettable experience. \nBring your friends\, grab a drink\, and support the incredible talent our neighborhood boasts. Let the local music scene captivate your senses at Snouts & Stouts! 🍻🎵 \nEvery Tuesday and Thursday\, 5:30 PM – 7:00 PM
URL:https://caninecardio.com/event/local-music-artist-nights-at-snouts-stouts/2024-03-19/
LOCATION:Snouts & Stouts\, 2709 S Oakland St\, Arlington\, VA\, 22206\, United States
ATTACH;FMTTYPE=image/webp:https://caninecardio.com/wp-content/uploads/2024/02/044b57_2b3c57bdc0074b0dab5e6b5ebd29201amv2.webp
END:VEVENT
END:VCALENDAR