BEGIN:VCALENDAR
VERSION:2.0
PRODID:-//Canine Cardio - ECPv6.15.20//NONSGML v1.0//EN
CALSCALE:GREGORIAN
METHOD:PUBLISH
X-WR-CALNAME:Canine Cardio
X-ORIGINAL-URL:https://caninecardio.com
X-WR-CALDESC:Events for Canine Cardio
REFRESH-INTERVAL;VALUE=DURATION:PT1H
X-Robots-Tag:noindex
X-PUBLISHED-TTL:PT1H
BEGIN:VTIMEZONE
TZID:America/New_York
BEGIN:DAYLIGHT
TZOFFSETFROM:-0500
TZOFFSETTO:-0400
TZNAME:EDT
DTSTART:20230312T070000
END:DAYLIGHT
BEGIN:STANDARD
TZOFFSETFROM:-0400
TZOFFSETTO:-0500
TZNAME:EST
DTSTART:20231105T060000
END:STANDARD
BEGIN:DAYLIGHT
TZOFFSETFROM:-0500
TZOFFSETTO:-0400
TZNAME:EDT
DTSTART:20240310T070000
END:DAYLIGHT
BEGIN:STANDARD
TZOFFSETFROM:-0400
TZOFFSETTO:-0500
TZNAME:EST
DTSTART:20241103T060000
END:STANDARD
BEGIN:DAYLIGHT
TZOFFSETFROM:-0500
TZOFFSETTO:-0400
TZNAME:EDT
DTSTART:20250309T070000
END:DAYLIGHT
BEGIN:STANDARD
TZOFFSETFROM:-0400
TZOFFSETTO:-0500
TZNAME:EST
DTSTART:20251102T060000
END:STANDARD
END:VTIMEZONE
BEGIN:VEVENT
DTSTART;TZID=America/New_York:20240329T180000
DTEND;TZID=America/New_York:20240329T190000
DTSTAMP:20260423T061907
CREATED:20240326T184045Z
LAST-MODIFIED:20240326T184122Z
UID:10003396-1711735200-1711738800@caninecardio.com
SUMMARY:VEG Blood Donor Program Presentation
DESCRIPTION:✨ Powerful Presentation:\n\nEngage in a 15-20 minute PowerPoint session about the Vetinary Emergency Group  Blood Donor Program.\nDiscover essential VEG general information to enhance your understanding.\n\n👥 Meet the Team:\n\nConnect with their dedicated team members from Falls Church.\n\n🛍️ Goodie Bags:\n\nReceive exclusive goodie bags filled with a VEG blood donor flyer\, donor requirements information\, and VEG swag like magnets and poop bag holders.\n\n📝 Sign Up for Screening:\n\nExpress interest by signing up for your dog to be screened for the program.\nThose who follow through and have their dogs screened will be entered into a raffle for a chance to win a $50 PetSmart gift card.
URL:https://caninecardio.com/event/veg-blood-donor-program-presentation/
LOCATION:Snouts & Stouts\, 2709 S Oakland St\, Arlington\, VA\, 22206\, United States
ATTACH;FMTTYPE=image/webp:https://caninecardio.com/wp-content/uploads/2024/03/044b57_32ebba5b06fe49128be3a42223cc07d5mv2.webp
END:VEVENT
BEGIN:VEVENT
DTSTART;TZID=America/New_York:20240326T183000
DTEND;TZID=America/New_York:20240326T203000
DTSTAMP:20260423T061907
CREATED:20240326T183500Z
LAST-MODIFIED:20240614T174917Z
UID:10003923-1711477800-1711485000@caninecardio.com
SUMMARY:Live & Local Music Nights at Snouts & Stouts
DESCRIPTION: Join us for an intimate evening celebrating the unique musical styles and performances of our local artists. From acoustic melodies to electrifying beats\, our Local Music Artist Nights promise an unforgettable experience.\n\n\n\nBring your friends\, grab a drink\, and support the incredible talent our neighborhood boasts. Let the local music scene captivate your senses at Snouts & Stouts!
URL:https://caninecardio.com/event/local-music-artist-nights-at-snouts-stouts-2/2024-03-26/
LOCATION:Snouts & Stouts\, 2709 S Oakland St\, Arlington\, VA\, 22206\, United States
ATTACH;FMTTYPE=image/webp:https://caninecardio.com/wp-content/uploads/2024/02/044b57_2b3c57bdc0074b0dab5e6b5ebd29201amv2.webp
END:VEVENT
BEGIN:VEVENT
DTSTART;TZID=America/New_York:20240321T173000
DTEND;TZID=America/New_York:20240321T190000
DTSTAMP:20260423T061907
CREATED:20240201T054938Z
LAST-MODIFIED:20240201T055051Z
UID:10000015-1711042200-1711047600@caninecardio.com
SUMMARY:Local Music Artist Nights at Snouts & Stouts
DESCRIPTION:🎶 Join us for an intimate evening celebrating the unique musical styles and performances of our local artists. From acoustic melodies to electrifying beats\, our Local Music Artist Nights promise an unforgettable experience. \nBring your friends\, grab a drink\, and support the incredible talent our neighborhood boasts. Let the local music scene captivate your senses at Snouts & Stouts! 🍻🎵 \nEvery Tuesday and Thursday\, 5:30 PM – 7:00 PM
URL:https://caninecardio.com/event/local-music-artist-nights-at-snouts-stouts/2024-03-21/
LOCATION:Snouts & Stouts\, 2709 S Oakland St\, Arlington\, VA\, 22206\, United States
ATTACH;FMTTYPE=image/webp:https://caninecardio.com/wp-content/uploads/2024/02/044b57_2b3c57bdc0074b0dab5e6b5ebd29201amv2.webp
END:VEVENT
BEGIN:VEVENT
DTSTART;TZID=America/New_York:20240319T173000
DTEND;TZID=America/New_York:20240319T190000
DTSTAMP:20260423T061907
CREATED:20240201T054938Z
LAST-MODIFIED:20240201T055051Z
UID:10000014-1710869400-1710874800@caninecardio.com
SUMMARY:Local Music Artist Nights at Snouts & Stouts
DESCRIPTION:🎶 Join us for an intimate evening celebrating the unique musical styles and performances of our local artists. From acoustic melodies to electrifying beats\, our Local Music Artist Nights promise an unforgettable experience. \nBring your friends\, grab a drink\, and support the incredible talent our neighborhood boasts. Let the local music scene captivate your senses at Snouts & Stouts! 🍻🎵 \nEvery Tuesday and Thursday\, 5:30 PM – 7:00 PM
URL:https://caninecardio.com/event/local-music-artist-nights-at-snouts-stouts/2024-03-19/
LOCATION:Snouts & Stouts\, 2709 S Oakland St\, Arlington\, VA\, 22206\, United States
ATTACH;FMTTYPE=image/webp:https://caninecardio.com/wp-content/uploads/2024/02/044b57_2b3c57bdc0074b0dab5e6b5ebd29201amv2.webp
END:VEVENT
END:VCALENDAR