BEGIN:VCALENDAR
VERSION:2.0
PRODID:-//Canine Cardio - ECPv6.15.20//NONSGML v1.0//EN
CALSCALE:GREGORIAN
METHOD:PUBLISH
X-ORIGINAL-URL:https://caninecardio.com
X-WR-CALDESC:Events for Canine Cardio
REFRESH-INTERVAL;VALUE=DURATION:PT1H
X-Robots-Tag:noindex
X-PUBLISHED-TTL:PT1H
BEGIN:VTIMEZONE
TZID:America/New_York
BEGIN:DAYLIGHT
TZOFFSETFROM:-0500
TZOFFSETTO:-0400
TZNAME:EDT
DTSTART:20270314T070000
END:DAYLIGHT
BEGIN:STANDARD
TZOFFSETFROM:-0400
TZOFFSETTO:-0500
TZNAME:EST
DTSTART:20271107T060000
END:STANDARD
BEGIN:DAYLIGHT
TZOFFSETFROM:-0500
TZOFFSETTO:-0400
TZNAME:EDT
DTSTART:20280312T070000
END:DAYLIGHT
BEGIN:STANDARD
TZOFFSETFROM:-0400
TZOFFSETTO:-0500
TZNAME:EST
DTSTART:20281105T060000
END:STANDARD
BEGIN:DAYLIGHT
TZOFFSETFROM:-0500
TZOFFSETTO:-0400
TZNAME:EDT
DTSTART:20290311T070000
END:DAYLIGHT
BEGIN:STANDARD
TZOFFSETFROM:-0400
TZOFFSETTO:-0500
TZNAME:EST
DTSTART:20291104T060000
END:STANDARD
END:VTIMEZONE
BEGIN:VEVENT
DTSTART;VALUE=DATE:20280218
DTEND;VALUE=DATE:20280219
DTSTAMP:20260424T102504
CREATED:20251207T173144Z
LAST-MODIFIED:20251210T025042Z
UID:10007896-1834444800-1834531199@caninecardio.com
SUMMARY:Bring‑a‑Friend Fridays
DESCRIPTION:If you bring a friend: \n\n\nYour friend gets their drink 50% off \n\n\nYour friend’s dog gets any gym activity 50% off \n\n\nTo activate: \n\n\nYou buy a drink \n\n\nYour dog completes a gym activity \n\n\nNo membership required.
URL:https://caninecardio.com/event/bring-a-friend-fridays/2028-02-18/
LOCATION:Club Canine Cardio\, 2709 S Oakland Street\, Arlington\, Virginia\, 22206\, United States
ATTACH;FMTTYPE=image/jpeg:https://caninecardio.com/wp-content/uploads/2025/11/AW3B7711_edited.jpg
END:VEVENT
BEGIN:VEVENT
DTSTART;TZID=America/New_York:20280220T110000
DTEND;TZID=America/New_York:20280220T120000
DTSTAMP:20260424T102504
CREATED:20251206T202809Z
LAST-MODIFIED:20251206T202809Z
UID:10006853-1834657200-1834660800@caninecardio.com
SUMMARY:Foster Fit Sundays
DESCRIPTION:To support local rescues and help foster dogs grow confident\, social\, and adoption-ready\, Club Canine Cardio hosts a weekly Foster Fit Hour with exclusive benefits for foster families. \n\nFoster Discount – 50% off ANY Dog Gym Activity\nApplies to all gym activities\, including: \n\nTreadmill\nTug Play\nWeight Pull\nAgility\nScent Work\nPool (if available)\nLure (seasonal)\n\nWho Qualifies\n\nAny dog currently in foster care through a rescue or shelter\nProof of foster status required at check-in\n\nWhy We Offer This\n\nHelps foster dogs build confidence\nProvides structured enrichment most rescues cannot offer\nGives fosters a fun Sunday outing\nGenerates highly shareable social content\nBuilds goodwill and long-term customers (fosters often return with their own dogs later)
URL:https://caninecardio.com/event/foster-fit-sundays/2028-02-20/
LOCATION:Club Canine Cardio\, 2709 S Oakland Street\, Arlington\, Virginia\, 22206\, United States
ATTACH;FMTTYPE=image/png:https://caninecardio.com/wp-content/uploads/2025/12/wpwizards_dynamic_dog_fitness_class_promotional_background_fo_6468bae4-9172-4497-bc78-2c20591f9e21_1-1.png
ORGANIZER;CN="Canine Cardio":MAILTO:fitpack@caninecardio.com
END:VEVENT
BEGIN:VEVENT
DTSTART;VALUE=DATE:20280222
DTEND;VALUE=DATE:20280223
DTSTAMP:20260424T102504
CREATED:20251207T171738Z
LAST-MODIFIED:20251207T171738Z
UID:10007114-1834790400-1834876799@caninecardio.com
SUMMARY:Treadmill Tuesdays
DESCRIPTION:50% off treadmill activity with any $20 bar purchase
URL:https://caninecardio.com/event/treadmill-tuesdays/2028-02-22/
LOCATION:Club Canine Cardio\, 2709 S Oakland Street\, Arlington\, Virginia\, 22206\, United States
ATTACH;FMTTYPE=image/jpeg:https://caninecardio.com/wp-content/uploads/2025/09/Dog_Treadmill_CLub2025.jpg
END:VEVENT
BEGIN:VEVENT
DTSTART;VALUE=DATE:20280223
DTEND;VALUE=DATE:20280224
DTSTAMP:20260424T102504
CREATED:20251207T172524Z
LAST-MODIFIED:20251207T172959Z
UID:10007636-1834876800-1834963199@caninecardio.com
SUMMARY:Working Dog Wednesday
DESCRIPTION:25% off all bar purchases and all gym services. \nEligible: First responders\, military\, service dogs\, working dog breeds\, sport dogs.
URL:https://caninecardio.com/event/working-dog-wednesday/2028-02-23/
LOCATION:Club Canine Cardio\, 2709 S Oakland Street\, Arlington\, Virginia\, 22206\, United States
ATTACH;FMTTYPE=image/png:https://caninecardio.com/wp-content/uploads/2025/12/wpwizards_group_of_working_dogs_with_their_owners_who_are_Fir_ead54880-45f8-4d18-8300-13d012451325_3.png
END:VEVENT
BEGIN:VEVENT
DTSTART;VALUE=DATE:20280224
DTEND;VALUE=DATE:20280225
DTSTAMP:20260424T102504
CREATED:20251207T172918Z
LAST-MODIFIED:20251210T025100Z
UID:10007376-1834963200-1835049599@caninecardio.com
SUMMARY:Prey Play Thursdays – Lure Coursing
DESCRIPTION:Gym Special: \n\n\n$10 off lure coursing \n\n\nBar Special: \n\n\n$2 off draft beers \n\n\nA hot dog for any dog that completes a lure‑coursing run
URL:https://caninecardio.com/event/prey-play-thursdays-lure-coursing/2028-02-24/
LOCATION:Club Canine Cardio\, 2709 S Oakland Street\, Arlington\, Virginia\, 22206\, United States
ATTACH;FMTTYPE=image/png:https://caninecardio.com/wp-content/uploads/2025/12/wpwizards_2_human_friends_sitting_together_drinking_a_beer_ch_8adee8dd-068d-4c14-8065-03c6861ff878_0.png
END:VEVENT
BEGIN:VEVENT
DTSTART;VALUE=DATE:20280225
DTEND;VALUE=DATE:20280226
DTSTAMP:20260424T102504
CREATED:20251207T173144Z
LAST-MODIFIED:20251210T025042Z
UID:10007897-1835049600-1835135999@caninecardio.com
SUMMARY:Bring‑a‑Friend Fridays
DESCRIPTION:If you bring a friend: \n\n\nYour friend gets their drink 50% off \n\n\nYour friend’s dog gets any gym activity 50% off \n\n\nTo activate: \n\n\nYou buy a drink \n\n\nYour dog completes a gym activity \n\n\nNo membership required.
URL:https://caninecardio.com/event/bring-a-friend-fridays/2028-02-25/
LOCATION:Club Canine Cardio\, 2709 S Oakland Street\, Arlington\, Virginia\, 22206\, United States
ATTACH;FMTTYPE=image/jpeg:https://caninecardio.com/wp-content/uploads/2025/11/AW3B7711_edited.jpg
END:VEVENT
BEGIN:VEVENT
DTSTART;TZID=America/New_York:20280227T110000
DTEND;TZID=America/New_York:20280227T120000
DTSTAMP:20260424T102504
CREATED:20251206T202809Z
LAST-MODIFIED:20251206T202809Z
UID:10006854-1835262000-1835265600@caninecardio.com
SUMMARY:Foster Fit Sundays
DESCRIPTION:To support local rescues and help foster dogs grow confident\, social\, and adoption-ready\, Club Canine Cardio hosts a weekly Foster Fit Hour with exclusive benefits for foster families. \n\nFoster Discount – 50% off ANY Dog Gym Activity\nApplies to all gym activities\, including: \n\nTreadmill\nTug Play\nWeight Pull\nAgility\nScent Work\nPool (if available)\nLure (seasonal)\n\nWho Qualifies\n\nAny dog currently in foster care through a rescue or shelter\nProof of foster status required at check-in\n\nWhy We Offer This\n\nHelps foster dogs build confidence\nProvides structured enrichment most rescues cannot offer\nGives fosters a fun Sunday outing\nGenerates highly shareable social content\nBuilds goodwill and long-term customers (fosters often return with their own dogs later)
URL:https://caninecardio.com/event/foster-fit-sundays/2028-02-27/
LOCATION:Club Canine Cardio\, 2709 S Oakland Street\, Arlington\, Virginia\, 22206\, United States
ATTACH;FMTTYPE=image/png:https://caninecardio.com/wp-content/uploads/2025/12/wpwizards_dynamic_dog_fitness_class_promotional_background_fo_6468bae4-9172-4497-bc78-2c20591f9e21_1-1.png
ORGANIZER;CN="Canine Cardio":MAILTO:fitpack@caninecardio.com
END:VEVENT
BEGIN:VEVENT
DTSTART;VALUE=DATE:20280229
DTEND;VALUE=DATE:20280301
DTSTAMP:20260424T102504
CREATED:20251207T171738Z
LAST-MODIFIED:20251207T171738Z
UID:10007115-1835395200-1835481599@caninecardio.com
SUMMARY:Treadmill Tuesdays
DESCRIPTION:50% off treadmill activity with any $20 bar purchase
URL:https://caninecardio.com/event/treadmill-tuesdays/2028-02-29/
LOCATION:Club Canine Cardio\, 2709 S Oakland Street\, Arlington\, Virginia\, 22206\, United States
ATTACH;FMTTYPE=image/jpeg:https://caninecardio.com/wp-content/uploads/2025/09/Dog_Treadmill_CLub2025.jpg
END:VEVENT
BEGIN:VEVENT
DTSTART;VALUE=DATE:20280301
DTEND;VALUE=DATE:20280302
DTSTAMP:20260424T102504
CREATED:20251207T172524Z
LAST-MODIFIED:20251207T172959Z
UID:10007637-1835481600-1835567999@caninecardio.com
SUMMARY:Working Dog Wednesday
DESCRIPTION:25% off all bar purchases and all gym services. \nEligible: First responders\, military\, service dogs\, working dog breeds\, sport dogs.
URL:https://caninecardio.com/event/working-dog-wednesday/2028-03-01/
LOCATION:Club Canine Cardio\, 2709 S Oakland Street\, Arlington\, Virginia\, 22206\, United States
ATTACH;FMTTYPE=image/png:https://caninecardio.com/wp-content/uploads/2025/12/wpwizards_group_of_working_dogs_with_their_owners_who_are_Fir_ead54880-45f8-4d18-8300-13d012451325_3.png
END:VEVENT
BEGIN:VEVENT
DTSTART;VALUE=DATE:20280302
DTEND;VALUE=DATE:20280303
DTSTAMP:20260424T102504
CREATED:20251207T172918Z
LAST-MODIFIED:20251210T025100Z
UID:10007377-1835568000-1835654399@caninecardio.com
SUMMARY:Prey Play Thursdays – Lure Coursing
DESCRIPTION:Gym Special: \n\n\n$10 off lure coursing \n\n\nBar Special: \n\n\n$2 off draft beers \n\n\nA hot dog for any dog that completes a lure‑coursing run
URL:https://caninecardio.com/event/prey-play-thursdays-lure-coursing/2028-03-02/
LOCATION:Club Canine Cardio\, 2709 S Oakland Street\, Arlington\, Virginia\, 22206\, United States
ATTACH;FMTTYPE=image/png:https://caninecardio.com/wp-content/uploads/2025/12/wpwizards_2_human_friends_sitting_together_drinking_a_beer_ch_8adee8dd-068d-4c14-8065-03c6861ff878_0.png
END:VEVENT
BEGIN:VEVENT
DTSTART;VALUE=DATE:20280303
DTEND;VALUE=DATE:20280304
DTSTAMP:20260424T102504
CREATED:20251207T173144Z
LAST-MODIFIED:20251210T025042Z
UID:10007898-1835654400-1835740799@caninecardio.com
SUMMARY:Bring‑a‑Friend Fridays
DESCRIPTION:If you bring a friend: \n\n\nYour friend gets their drink 50% off \n\n\nYour friend’s dog gets any gym activity 50% off \n\n\nTo activate: \n\n\nYou buy a drink \n\n\nYour dog completes a gym activity \n\n\nNo membership required.
URL:https://caninecardio.com/event/bring-a-friend-fridays/2028-03-03/
LOCATION:Club Canine Cardio\, 2709 S Oakland Street\, Arlington\, Virginia\, 22206\, United States
ATTACH;FMTTYPE=image/jpeg:https://caninecardio.com/wp-content/uploads/2025/11/AW3B7711_edited.jpg
END:VEVENT
BEGIN:VEVENT
DTSTART;TZID=America/New_York:20280305T110000
DTEND;TZID=America/New_York:20280305T120000
DTSTAMP:20260424T102504
CREATED:20251206T202809Z
LAST-MODIFIED:20251206T202809Z
UID:10006855-1835866800-1835870400@caninecardio.com
SUMMARY:Foster Fit Sundays
DESCRIPTION:To support local rescues and help foster dogs grow confident\, social\, and adoption-ready\, Club Canine Cardio hosts a weekly Foster Fit Hour with exclusive benefits for foster families. \n\nFoster Discount – 50% off ANY Dog Gym Activity\nApplies to all gym activities\, including: \n\nTreadmill\nTug Play\nWeight Pull\nAgility\nScent Work\nPool (if available)\nLure (seasonal)\n\nWho Qualifies\n\nAny dog currently in foster care through a rescue or shelter\nProof of foster status required at check-in\n\nWhy We Offer This\n\nHelps foster dogs build confidence\nProvides structured enrichment most rescues cannot offer\nGives fosters a fun Sunday outing\nGenerates highly shareable social content\nBuilds goodwill and long-term customers (fosters often return with their own dogs later)
URL:https://caninecardio.com/event/foster-fit-sundays/2028-03-05/
LOCATION:Club Canine Cardio\, 2709 S Oakland Street\, Arlington\, Virginia\, 22206\, United States
ATTACH;FMTTYPE=image/png:https://caninecardio.com/wp-content/uploads/2025/12/wpwizards_dynamic_dog_fitness_class_promotional_background_fo_6468bae4-9172-4497-bc78-2c20591f9e21_1-1.png
ORGANIZER;CN="Canine Cardio":MAILTO:fitpack@caninecardio.com
END:VEVENT
BEGIN:VEVENT
DTSTART;VALUE=DATE:20280307
DTEND;VALUE=DATE:20280308
DTSTAMP:20260424T102504
CREATED:20251207T171738Z
LAST-MODIFIED:20251207T171738Z
UID:10007116-1836000000-1836086399@caninecardio.com
SUMMARY:Treadmill Tuesdays
DESCRIPTION:50% off treadmill activity with any $20 bar purchase
URL:https://caninecardio.com/event/treadmill-tuesdays/2028-03-07/
LOCATION:Club Canine Cardio\, 2709 S Oakland Street\, Arlington\, Virginia\, 22206\, United States
ATTACH;FMTTYPE=image/jpeg:https://caninecardio.com/wp-content/uploads/2025/09/Dog_Treadmill_CLub2025.jpg
END:VEVENT
BEGIN:VEVENT
DTSTART;VALUE=DATE:20280308
DTEND;VALUE=DATE:20280309
DTSTAMP:20260424T102504
CREATED:20251207T172524Z
LAST-MODIFIED:20251207T172959Z
UID:10007638-1836086400-1836172799@caninecardio.com
SUMMARY:Working Dog Wednesday
DESCRIPTION:25% off all bar purchases and all gym services. \nEligible: First responders\, military\, service dogs\, working dog breeds\, sport dogs.
URL:https://caninecardio.com/event/working-dog-wednesday/2028-03-08/
LOCATION:Club Canine Cardio\, 2709 S Oakland Street\, Arlington\, Virginia\, 22206\, United States
ATTACH;FMTTYPE=image/png:https://caninecardio.com/wp-content/uploads/2025/12/wpwizards_group_of_working_dogs_with_their_owners_who_are_Fir_ead54880-45f8-4d18-8300-13d012451325_3.png
END:VEVENT
BEGIN:VEVENT
DTSTART;VALUE=DATE:20280309
DTEND;VALUE=DATE:20280310
DTSTAMP:20260424T102504
CREATED:20251207T172918Z
LAST-MODIFIED:20251210T025100Z
UID:10007378-1836172800-1836259199@caninecardio.com
SUMMARY:Prey Play Thursdays – Lure Coursing
DESCRIPTION:Gym Special: \n\n\n$10 off lure coursing \n\n\nBar Special: \n\n\n$2 off draft beers \n\n\nA hot dog for any dog that completes a lure‑coursing run
URL:https://caninecardio.com/event/prey-play-thursdays-lure-coursing/2028-03-09/
LOCATION:Club Canine Cardio\, 2709 S Oakland Street\, Arlington\, Virginia\, 22206\, United States
ATTACH;FMTTYPE=image/png:https://caninecardio.com/wp-content/uploads/2025/12/wpwizards_2_human_friends_sitting_together_drinking_a_beer_ch_8adee8dd-068d-4c14-8065-03c6861ff878_0.png
END:VEVENT
BEGIN:VEVENT
DTSTART;VALUE=DATE:20280310
DTEND;VALUE=DATE:20280311
DTSTAMP:20260424T102504
CREATED:20251207T173144Z
LAST-MODIFIED:20251210T025042Z
UID:10007899-1836259200-1836345599@caninecardio.com
SUMMARY:Bring‑a‑Friend Fridays
DESCRIPTION:If you bring a friend: \n\n\nYour friend gets their drink 50% off \n\n\nYour friend’s dog gets any gym activity 50% off \n\n\nTo activate: \n\n\nYou buy a drink \n\n\nYour dog completes a gym activity \n\n\nNo membership required.
URL:https://caninecardio.com/event/bring-a-friend-fridays/2028-03-10/
LOCATION:Club Canine Cardio\, 2709 S Oakland Street\, Arlington\, Virginia\, 22206\, United States
ATTACH;FMTTYPE=image/jpeg:https://caninecardio.com/wp-content/uploads/2025/11/AW3B7711_edited.jpg
END:VEVENT
BEGIN:VEVENT
DTSTART;TZID=America/New_York:20280312T110000
DTEND;TZID=America/New_York:20280312T120000
DTSTAMP:20260424T102504
CREATED:20251206T202809Z
LAST-MODIFIED:20251206T202809Z
UID:10006856-1836471600-1836475200@caninecardio.com
SUMMARY:Foster Fit Sundays
DESCRIPTION:To support local rescues and help foster dogs grow confident\, social\, and adoption-ready\, Club Canine Cardio hosts a weekly Foster Fit Hour with exclusive benefits for foster families. \n\nFoster Discount – 50% off ANY Dog Gym Activity\nApplies to all gym activities\, including: \n\nTreadmill\nTug Play\nWeight Pull\nAgility\nScent Work\nPool (if available)\nLure (seasonal)\n\nWho Qualifies\n\nAny dog currently in foster care through a rescue or shelter\nProof of foster status required at check-in\n\nWhy We Offer This\n\nHelps foster dogs build confidence\nProvides structured enrichment most rescues cannot offer\nGives fosters a fun Sunday outing\nGenerates highly shareable social content\nBuilds goodwill and long-term customers (fosters often return with their own dogs later)
URL:https://caninecardio.com/event/foster-fit-sundays/2028-03-12/
LOCATION:Club Canine Cardio\, 2709 S Oakland Street\, Arlington\, Virginia\, 22206\, United States
ATTACH;FMTTYPE=image/png:https://caninecardio.com/wp-content/uploads/2025/12/wpwizards_dynamic_dog_fitness_class_promotional_background_fo_6468bae4-9172-4497-bc78-2c20591f9e21_1-1.png
ORGANIZER;CN="Canine Cardio":MAILTO:fitpack@caninecardio.com
END:VEVENT
BEGIN:VEVENT
DTSTART;VALUE=DATE:20280314
DTEND;VALUE=DATE:20280315
DTSTAMP:20260424T102504
CREATED:20251207T171738Z
LAST-MODIFIED:20251207T171738Z
UID:10007117-1836604800-1836691199@caninecardio.com
SUMMARY:Treadmill Tuesdays
DESCRIPTION:50% off treadmill activity with any $20 bar purchase
URL:https://caninecardio.com/event/treadmill-tuesdays/2028-03-14/
LOCATION:Club Canine Cardio\, 2709 S Oakland Street\, Arlington\, Virginia\, 22206\, United States
ATTACH;FMTTYPE=image/jpeg:https://caninecardio.com/wp-content/uploads/2025/09/Dog_Treadmill_CLub2025.jpg
END:VEVENT
BEGIN:VEVENT
DTSTART;VALUE=DATE:20280315
DTEND;VALUE=DATE:20280316
DTSTAMP:20260424T102504
CREATED:20251207T172524Z
LAST-MODIFIED:20251207T172959Z
UID:10007639-1836691200-1836777599@caninecardio.com
SUMMARY:Working Dog Wednesday
DESCRIPTION:25% off all bar purchases and all gym services. \nEligible: First responders\, military\, service dogs\, working dog breeds\, sport dogs.
URL:https://caninecardio.com/event/working-dog-wednesday/2028-03-15/
LOCATION:Club Canine Cardio\, 2709 S Oakland Street\, Arlington\, Virginia\, 22206\, United States
ATTACH;FMTTYPE=image/png:https://caninecardio.com/wp-content/uploads/2025/12/wpwizards_group_of_working_dogs_with_their_owners_who_are_Fir_ead54880-45f8-4d18-8300-13d012451325_3.png
END:VEVENT
BEGIN:VEVENT
DTSTART;VALUE=DATE:20280316
DTEND;VALUE=DATE:20280317
DTSTAMP:20260424T102504
CREATED:20251207T172918Z
LAST-MODIFIED:20251210T025100Z
UID:10007379-1836777600-1836863999@caninecardio.com
SUMMARY:Prey Play Thursdays – Lure Coursing
DESCRIPTION:Gym Special: \n\n\n$10 off lure coursing \n\n\nBar Special: \n\n\n$2 off draft beers \n\n\nA hot dog for any dog that completes a lure‑coursing run
URL:https://caninecardio.com/event/prey-play-thursdays-lure-coursing/2028-03-16/
LOCATION:Club Canine Cardio\, 2709 S Oakland Street\, Arlington\, Virginia\, 22206\, United States
ATTACH;FMTTYPE=image/png:https://caninecardio.com/wp-content/uploads/2025/12/wpwizards_2_human_friends_sitting_together_drinking_a_beer_ch_8adee8dd-068d-4c14-8065-03c6861ff878_0.png
END:VEVENT
BEGIN:VEVENT
DTSTART;VALUE=DATE:20280317
DTEND;VALUE=DATE:20280318
DTSTAMP:20260424T102504
CREATED:20251207T173144Z
LAST-MODIFIED:20251210T025042Z
UID:10007900-1836864000-1836950399@caninecardio.com
SUMMARY:Bring‑a‑Friend Fridays
DESCRIPTION:If you bring a friend: \n\n\nYour friend gets their drink 50% off \n\n\nYour friend’s dog gets any gym activity 50% off \n\n\nTo activate: \n\n\nYou buy a drink \n\n\nYour dog completes a gym activity \n\n\nNo membership required.
URL:https://caninecardio.com/event/bring-a-friend-fridays/2028-03-17/
LOCATION:Club Canine Cardio\, 2709 S Oakland Street\, Arlington\, Virginia\, 22206\, United States
ATTACH;FMTTYPE=image/jpeg:https://caninecardio.com/wp-content/uploads/2025/11/AW3B7711_edited.jpg
END:VEVENT
BEGIN:VEVENT
DTSTART;TZID=America/New_York:20280319T110000
DTEND;TZID=America/New_York:20280319T120000
DTSTAMP:20260424T102504
CREATED:20251206T202809Z
LAST-MODIFIED:20251206T202809Z
UID:10006857-1837076400-1837080000@caninecardio.com
SUMMARY:Foster Fit Sundays
DESCRIPTION:To support local rescues and help foster dogs grow confident\, social\, and adoption-ready\, Club Canine Cardio hosts a weekly Foster Fit Hour with exclusive benefits for foster families. \n\nFoster Discount – 50% off ANY Dog Gym Activity\nApplies to all gym activities\, including: \n\nTreadmill\nTug Play\nWeight Pull\nAgility\nScent Work\nPool (if available)\nLure (seasonal)\n\nWho Qualifies\n\nAny dog currently in foster care through a rescue or shelter\nProof of foster status required at check-in\n\nWhy We Offer This\n\nHelps foster dogs build confidence\nProvides structured enrichment most rescues cannot offer\nGives fosters a fun Sunday outing\nGenerates highly shareable social content\nBuilds goodwill and long-term customers (fosters often return with their own dogs later)
URL:https://caninecardio.com/event/foster-fit-sundays/2028-03-19/
LOCATION:Club Canine Cardio\, 2709 S Oakland Street\, Arlington\, Virginia\, 22206\, United States
ATTACH;FMTTYPE=image/png:https://caninecardio.com/wp-content/uploads/2025/12/wpwizards_dynamic_dog_fitness_class_promotional_background_fo_6468bae4-9172-4497-bc78-2c20591f9e21_1-1.png
ORGANIZER;CN="Canine Cardio":MAILTO:fitpack@caninecardio.com
END:VEVENT
BEGIN:VEVENT
DTSTART;VALUE=DATE:20280321
DTEND;VALUE=DATE:20280322
DTSTAMP:20260424T102504
CREATED:20251207T171738Z
LAST-MODIFIED:20251207T171738Z
UID:10007118-1837209600-1837295999@caninecardio.com
SUMMARY:Treadmill Tuesdays
DESCRIPTION:50% off treadmill activity with any $20 bar purchase
URL:https://caninecardio.com/event/treadmill-tuesdays/2028-03-21/
LOCATION:Club Canine Cardio\, 2709 S Oakland Street\, Arlington\, Virginia\, 22206\, United States
ATTACH;FMTTYPE=image/jpeg:https://caninecardio.com/wp-content/uploads/2025/09/Dog_Treadmill_CLub2025.jpg
END:VEVENT
BEGIN:VEVENT
DTSTART;VALUE=DATE:20280322
DTEND;VALUE=DATE:20280323
DTSTAMP:20260424T102504
CREATED:20251207T172524Z
LAST-MODIFIED:20251207T172959Z
UID:10007640-1837296000-1837382399@caninecardio.com
SUMMARY:Working Dog Wednesday
DESCRIPTION:25% off all bar purchases and all gym services. \nEligible: First responders\, military\, service dogs\, working dog breeds\, sport dogs.
URL:https://caninecardio.com/event/working-dog-wednesday/2028-03-22/
LOCATION:Club Canine Cardio\, 2709 S Oakland Street\, Arlington\, Virginia\, 22206\, United States
ATTACH;FMTTYPE=image/png:https://caninecardio.com/wp-content/uploads/2025/12/wpwizards_group_of_working_dogs_with_their_owners_who_are_Fir_ead54880-45f8-4d18-8300-13d012451325_3.png
END:VEVENT
BEGIN:VEVENT
DTSTART;VALUE=DATE:20280323
DTEND;VALUE=DATE:20280324
DTSTAMP:20260424T102504
CREATED:20251207T172918Z
LAST-MODIFIED:20251210T025100Z
UID:10007380-1837382400-1837468799@caninecardio.com
SUMMARY:Prey Play Thursdays – Lure Coursing
DESCRIPTION:Gym Special: \n\n\n$10 off lure coursing \n\n\nBar Special: \n\n\n$2 off draft beers \n\n\nA hot dog for any dog that completes a lure‑coursing run
URL:https://caninecardio.com/event/prey-play-thursdays-lure-coursing/2028-03-23/
LOCATION:Club Canine Cardio\, 2709 S Oakland Street\, Arlington\, Virginia\, 22206\, United States
ATTACH;FMTTYPE=image/png:https://caninecardio.com/wp-content/uploads/2025/12/wpwizards_2_human_friends_sitting_together_drinking_a_beer_ch_8adee8dd-068d-4c14-8065-03c6861ff878_0.png
END:VEVENT
BEGIN:VEVENT
DTSTART;VALUE=DATE:20280324
DTEND;VALUE=DATE:20280325
DTSTAMP:20260424T102504
CREATED:20251207T173144Z
LAST-MODIFIED:20251210T025042Z
UID:10007901-1837468800-1837555199@caninecardio.com
SUMMARY:Bring‑a‑Friend Fridays
DESCRIPTION:If you bring a friend: \n\n\nYour friend gets their drink 50% off \n\n\nYour friend’s dog gets any gym activity 50% off \n\n\nTo activate: \n\n\nYou buy a drink \n\n\nYour dog completes a gym activity \n\n\nNo membership required.
URL:https://caninecardio.com/event/bring-a-friend-fridays/2028-03-24/
LOCATION:Club Canine Cardio\, 2709 S Oakland Street\, Arlington\, Virginia\, 22206\, United States
ATTACH;FMTTYPE=image/jpeg:https://caninecardio.com/wp-content/uploads/2025/11/AW3B7711_edited.jpg
END:VEVENT
BEGIN:VEVENT
DTSTART;TZID=America/New_York:20280326T110000
DTEND;TZID=America/New_York:20280326T120000
DTSTAMP:20260424T102504
CREATED:20251206T202809Z
LAST-MODIFIED:20251206T202809Z
UID:10006858-1837681200-1837684800@caninecardio.com
SUMMARY:Foster Fit Sundays
DESCRIPTION:To support local rescues and help foster dogs grow confident\, social\, and adoption-ready\, Club Canine Cardio hosts a weekly Foster Fit Hour with exclusive benefits for foster families. \n\nFoster Discount – 50% off ANY Dog Gym Activity\nApplies to all gym activities\, including: \n\nTreadmill\nTug Play\nWeight Pull\nAgility\nScent Work\nPool (if available)\nLure (seasonal)\n\nWho Qualifies\n\nAny dog currently in foster care through a rescue or shelter\nProof of foster status required at check-in\n\nWhy We Offer This\n\nHelps foster dogs build confidence\nProvides structured enrichment most rescues cannot offer\nGives fosters a fun Sunday outing\nGenerates highly shareable social content\nBuilds goodwill and long-term customers (fosters often return with their own dogs later)
URL:https://caninecardio.com/event/foster-fit-sundays/2028-03-26/
LOCATION:Club Canine Cardio\, 2709 S Oakland Street\, Arlington\, Virginia\, 22206\, United States
ATTACH;FMTTYPE=image/png:https://caninecardio.com/wp-content/uploads/2025/12/wpwizards_dynamic_dog_fitness_class_promotional_background_fo_6468bae4-9172-4497-bc78-2c20591f9e21_1-1.png
ORGANIZER;CN="Canine Cardio":MAILTO:fitpack@caninecardio.com
END:VEVENT
BEGIN:VEVENT
DTSTART;VALUE=DATE:20280328
DTEND;VALUE=DATE:20280329
DTSTAMP:20260424T102504
CREATED:20251207T171738Z
LAST-MODIFIED:20251207T171738Z
UID:10007119-1837814400-1837900799@caninecardio.com
SUMMARY:Treadmill Tuesdays
DESCRIPTION:50% off treadmill activity with any $20 bar purchase
URL:https://caninecardio.com/event/treadmill-tuesdays/2028-03-28/
LOCATION:Club Canine Cardio\, 2709 S Oakland Street\, Arlington\, Virginia\, 22206\, United States
ATTACH;FMTTYPE=image/jpeg:https://caninecardio.com/wp-content/uploads/2025/09/Dog_Treadmill_CLub2025.jpg
END:VEVENT
BEGIN:VEVENT
DTSTART;VALUE=DATE:20280329
DTEND;VALUE=DATE:20280330
DTSTAMP:20260424T102504
CREATED:20251207T172524Z
LAST-MODIFIED:20251207T172959Z
UID:10007641-1837900800-1837987199@caninecardio.com
SUMMARY:Working Dog Wednesday
DESCRIPTION:25% off all bar purchases and all gym services. \nEligible: First responders\, military\, service dogs\, working dog breeds\, sport dogs.
URL:https://caninecardio.com/event/working-dog-wednesday/2028-03-29/
LOCATION:Club Canine Cardio\, 2709 S Oakland Street\, Arlington\, Virginia\, 22206\, United States
ATTACH;FMTTYPE=image/png:https://caninecardio.com/wp-content/uploads/2025/12/wpwizards_group_of_working_dogs_with_their_owners_who_are_Fir_ead54880-45f8-4d18-8300-13d012451325_3.png
END:VEVENT
BEGIN:VEVENT
DTSTART;VALUE=DATE:20280330
DTEND;VALUE=DATE:20280331
DTSTAMP:20260424T102504
CREATED:20251207T172918Z
LAST-MODIFIED:20251210T025100Z
UID:10007381-1837987200-1838073599@caninecardio.com
SUMMARY:Prey Play Thursdays – Lure Coursing
DESCRIPTION:Gym Special: \n\n\n$10 off lure coursing \n\n\nBar Special: \n\n\n$2 off draft beers \n\n\nA hot dog for any dog that completes a lure‑coursing run
URL:https://caninecardio.com/event/prey-play-thursdays-lure-coursing/2028-03-30/
LOCATION:Club Canine Cardio\, 2709 S Oakland Street\, Arlington\, Virginia\, 22206\, United States
ATTACH;FMTTYPE=image/png:https://caninecardio.com/wp-content/uploads/2025/12/wpwizards_2_human_friends_sitting_together_drinking_a_beer_ch_8adee8dd-068d-4c14-8065-03c6861ff878_0.png
END:VEVENT
END:VCALENDAR