BEGIN:VCALENDAR
VERSION:2.0
PRODID:-//Canine Cardio - ECPv6.15.20//NONSGML v1.0//EN
CALSCALE:GREGORIAN
METHOD:PUBLISH
X-ORIGINAL-URL:https://caninecardio.com
X-WR-CALDESC:Events for Canine Cardio
REFRESH-INTERVAL;VALUE=DURATION:PT1H
X-Robots-Tag:noindex
X-PUBLISHED-TTL:PT1H
BEGIN:VTIMEZONE
TZID:America/New_York
BEGIN:DAYLIGHT
TZOFFSETFROM:-0500
TZOFFSETTO:-0400
TZNAME:EDT
DTSTART:20270314T070000
END:DAYLIGHT
BEGIN:STANDARD
TZOFFSETFROM:-0400
TZOFFSETTO:-0500
TZNAME:EST
DTSTART:20271107T060000
END:STANDARD
BEGIN:DAYLIGHT
TZOFFSETFROM:-0500
TZOFFSETTO:-0400
TZNAME:EDT
DTSTART:20280312T070000
END:DAYLIGHT
BEGIN:STANDARD
TZOFFSETFROM:-0400
TZOFFSETTO:-0500
TZNAME:EST
DTSTART:20281105T060000
END:STANDARD
BEGIN:DAYLIGHT
TZOFFSETFROM:-0500
TZOFFSETTO:-0400
TZNAME:EDT
DTSTART:20290311T070000
END:DAYLIGHT
BEGIN:STANDARD
TZOFFSETFROM:-0400
TZOFFSETTO:-0500
TZNAME:EST
DTSTART:20291104T060000
END:STANDARD
END:VTIMEZONE
BEGIN:VEVENT
DTSTART;VALUE=DATE:20280907
DTEND;VALUE=DATE:20280908
DTSTAMP:20260425T104849
CREATED:20251207T172918Z
LAST-MODIFIED:20251210T025100Z
UID:10007404-1851897600-1851983999@caninecardio.com
SUMMARY:Prey Play Thursdays – Lure Coursing
DESCRIPTION:Gym Special: \n\n\n$10 off lure coursing \n\n\nBar Special: \n\n\n$2 off draft beers \n\n\nA hot dog for any dog that completes a lure‑coursing run
URL:https://caninecardio.com/event/prey-play-thursdays-lure-coursing/2028-09-07/
LOCATION:Club Canine Cardio\, 2709 S Oakland Street\, Arlington\, Virginia\, 22206\, United States
ATTACH;FMTTYPE=image/png:https://caninecardio.com/wp-content/uploads/2025/12/wpwizards_2_human_friends_sitting_together_drinking_a_beer_ch_8adee8dd-068d-4c14-8065-03c6861ff878_0.png
END:VEVENT
BEGIN:VEVENT
DTSTART;VALUE=DATE:20280908
DTEND;VALUE=DATE:20280909
DTSTAMP:20260425T104849
CREATED:20251207T173144Z
LAST-MODIFIED:20251210T025042Z
UID:10007925-1851984000-1852070399@caninecardio.com
SUMMARY:Bring‑a‑Friend Fridays
DESCRIPTION:If you bring a friend: \n\n\nYour friend gets their drink 50% off \n\n\nYour friend’s dog gets any gym activity 50% off \n\n\nTo activate: \n\n\nYou buy a drink \n\n\nYour dog completes a gym activity \n\n\nNo membership required.
URL:https://caninecardio.com/event/bring-a-friend-fridays/2028-09-08/
LOCATION:Club Canine Cardio\, 2709 S Oakland Street\, Arlington\, Virginia\, 22206\, United States
ATTACH;FMTTYPE=image/jpeg:https://caninecardio.com/wp-content/uploads/2025/11/AW3B7711_edited.jpg
END:VEVENT
BEGIN:VEVENT
DTSTART;TZID=America/New_York:20280910T110000
DTEND;TZID=America/New_York:20280910T120000
DTSTAMP:20260425T104849
CREATED:20251206T202809Z
LAST-MODIFIED:20251206T202809Z
UID:10006882-1852196400-1852200000@caninecardio.com
SUMMARY:Foster Fit Sundays
DESCRIPTION:To support local rescues and help foster dogs grow confident\, social\, and adoption-ready\, Club Canine Cardio hosts a weekly Foster Fit Hour with exclusive benefits for foster families. \n\nFoster Discount – 50% off ANY Dog Gym Activity\nApplies to all gym activities\, including: \n\nTreadmill\nTug Play\nWeight Pull\nAgility\nScent Work\nPool (if available)\nLure (seasonal)\n\nWho Qualifies\n\nAny dog currently in foster care through a rescue or shelter\nProof of foster status required at check-in\n\nWhy We Offer This\n\nHelps foster dogs build confidence\nProvides structured enrichment most rescues cannot offer\nGives fosters a fun Sunday outing\nGenerates highly shareable social content\nBuilds goodwill and long-term customers (fosters often return with their own dogs later)
URL:https://caninecardio.com/event/foster-fit-sundays/2028-09-10/
LOCATION:Club Canine Cardio\, 2709 S Oakland Street\, Arlington\, Virginia\, 22206\, United States
ATTACH;FMTTYPE=image/png:https://caninecardio.com/wp-content/uploads/2025/12/wpwizards_dynamic_dog_fitness_class_promotional_background_fo_6468bae4-9172-4497-bc78-2c20591f9e21_1-1.png
ORGANIZER;CN="Canine Cardio":MAILTO:fitpack@caninecardio.com
END:VEVENT
BEGIN:VEVENT
DTSTART;VALUE=DATE:20280912
DTEND;VALUE=DATE:20280913
DTSTAMP:20260425T104849
CREATED:20251207T171738Z
LAST-MODIFIED:20251207T171738Z
UID:10007143-1852329600-1852415999@caninecardio.com
SUMMARY:Treadmill Tuesdays
DESCRIPTION:50% off treadmill activity with any $20 bar purchase
URL:https://caninecardio.com/event/treadmill-tuesdays/2028-09-12/
LOCATION:Club Canine Cardio\, 2709 S Oakland Street\, Arlington\, Virginia\, 22206\, United States
ATTACH;FMTTYPE=image/jpeg:https://caninecardio.com/wp-content/uploads/2025/09/Dog_Treadmill_CLub2025.jpg
END:VEVENT
BEGIN:VEVENT
DTSTART;VALUE=DATE:20280913
DTEND;VALUE=DATE:20280914
DTSTAMP:20260425T104849
CREATED:20251207T172524Z
LAST-MODIFIED:20251207T172959Z
UID:10007665-1852416000-1852502399@caninecardio.com
SUMMARY:Working Dog Wednesday
DESCRIPTION:25% off all bar purchases and all gym services. \nEligible: First responders\, military\, service dogs\, working dog breeds\, sport dogs.
URL:https://caninecardio.com/event/working-dog-wednesday/2028-09-13/
LOCATION:Club Canine Cardio\, 2709 S Oakland Street\, Arlington\, Virginia\, 22206\, United States
ATTACH;FMTTYPE=image/png:https://caninecardio.com/wp-content/uploads/2025/12/wpwizards_group_of_working_dogs_with_their_owners_who_are_Fir_ead54880-45f8-4d18-8300-13d012451325_3.png
END:VEVENT
BEGIN:VEVENT
DTSTART;VALUE=DATE:20280914
DTEND;VALUE=DATE:20280915
DTSTAMP:20260425T104849
CREATED:20251207T172918Z
LAST-MODIFIED:20251210T025100Z
UID:10007405-1852502400-1852588799@caninecardio.com
SUMMARY:Prey Play Thursdays – Lure Coursing
DESCRIPTION:Gym Special: \n\n\n$10 off lure coursing \n\n\nBar Special: \n\n\n$2 off draft beers \n\n\nA hot dog for any dog that completes a lure‑coursing run
URL:https://caninecardio.com/event/prey-play-thursdays-lure-coursing/2028-09-14/
LOCATION:Club Canine Cardio\, 2709 S Oakland Street\, Arlington\, Virginia\, 22206\, United States
ATTACH;FMTTYPE=image/png:https://caninecardio.com/wp-content/uploads/2025/12/wpwizards_2_human_friends_sitting_together_drinking_a_beer_ch_8adee8dd-068d-4c14-8065-03c6861ff878_0.png
END:VEVENT
BEGIN:VEVENT
DTSTART;VALUE=DATE:20280915
DTEND;VALUE=DATE:20280916
DTSTAMP:20260425T104849
CREATED:20251207T173144Z
LAST-MODIFIED:20251210T025042Z
UID:10007926-1852588800-1852675199@caninecardio.com
SUMMARY:Bring‑a‑Friend Fridays
DESCRIPTION:If you bring a friend: \n\n\nYour friend gets their drink 50% off \n\n\nYour friend’s dog gets any gym activity 50% off \n\n\nTo activate: \n\n\nYou buy a drink \n\n\nYour dog completes a gym activity \n\n\nNo membership required.
URL:https://caninecardio.com/event/bring-a-friend-fridays/2028-09-15/
LOCATION:Club Canine Cardio\, 2709 S Oakland Street\, Arlington\, Virginia\, 22206\, United States
ATTACH;FMTTYPE=image/jpeg:https://caninecardio.com/wp-content/uploads/2025/11/AW3B7711_edited.jpg
END:VEVENT
BEGIN:VEVENT
DTSTART;TZID=America/New_York:20280917T110000
DTEND;TZID=America/New_York:20280917T120000
DTSTAMP:20260425T104849
CREATED:20251206T202809Z
LAST-MODIFIED:20251206T202809Z
UID:10006883-1852801200-1852804800@caninecardio.com
SUMMARY:Foster Fit Sundays
DESCRIPTION:To support local rescues and help foster dogs grow confident\, social\, and adoption-ready\, Club Canine Cardio hosts a weekly Foster Fit Hour with exclusive benefits for foster families. \n\nFoster Discount – 50% off ANY Dog Gym Activity\nApplies to all gym activities\, including: \n\nTreadmill\nTug Play\nWeight Pull\nAgility\nScent Work\nPool (if available)\nLure (seasonal)\n\nWho Qualifies\n\nAny dog currently in foster care through a rescue or shelter\nProof of foster status required at check-in\n\nWhy We Offer This\n\nHelps foster dogs build confidence\nProvides structured enrichment most rescues cannot offer\nGives fosters a fun Sunday outing\nGenerates highly shareable social content\nBuilds goodwill and long-term customers (fosters often return with their own dogs later)
URL:https://caninecardio.com/event/foster-fit-sundays/2028-09-17/
LOCATION:Club Canine Cardio\, 2709 S Oakland Street\, Arlington\, Virginia\, 22206\, United States
ATTACH;FMTTYPE=image/png:https://caninecardio.com/wp-content/uploads/2025/12/wpwizards_dynamic_dog_fitness_class_promotional_background_fo_6468bae4-9172-4497-bc78-2c20591f9e21_1-1.png
ORGANIZER;CN="Canine Cardio":MAILTO:fitpack@caninecardio.com
END:VEVENT
BEGIN:VEVENT
DTSTART;VALUE=DATE:20280919
DTEND;VALUE=DATE:20280920
DTSTAMP:20260425T104849
CREATED:20251207T171738Z
LAST-MODIFIED:20251207T171738Z
UID:10007144-1852934400-1853020799@caninecardio.com
SUMMARY:Treadmill Tuesdays
DESCRIPTION:50% off treadmill activity with any $20 bar purchase
URL:https://caninecardio.com/event/treadmill-tuesdays/2028-09-19/
LOCATION:Club Canine Cardio\, 2709 S Oakland Street\, Arlington\, Virginia\, 22206\, United States
ATTACH;FMTTYPE=image/jpeg:https://caninecardio.com/wp-content/uploads/2025/09/Dog_Treadmill_CLub2025.jpg
END:VEVENT
BEGIN:VEVENT
DTSTART;VALUE=DATE:20280920
DTEND;VALUE=DATE:20280921
DTSTAMP:20260425T104849
CREATED:20251207T172524Z
LAST-MODIFIED:20251207T172959Z
UID:10007666-1853020800-1853107199@caninecardio.com
SUMMARY:Working Dog Wednesday
DESCRIPTION:25% off all bar purchases and all gym services. \nEligible: First responders\, military\, service dogs\, working dog breeds\, sport dogs.
URL:https://caninecardio.com/event/working-dog-wednesday/2028-09-20/
LOCATION:Club Canine Cardio\, 2709 S Oakland Street\, Arlington\, Virginia\, 22206\, United States
ATTACH;FMTTYPE=image/png:https://caninecardio.com/wp-content/uploads/2025/12/wpwizards_group_of_working_dogs_with_their_owners_who_are_Fir_ead54880-45f8-4d18-8300-13d012451325_3.png
END:VEVENT
BEGIN:VEVENT
DTSTART;VALUE=DATE:20280921
DTEND;VALUE=DATE:20280922
DTSTAMP:20260425T104849
CREATED:20251207T172918Z
LAST-MODIFIED:20251210T025100Z
UID:10007406-1853107200-1853193599@caninecardio.com
SUMMARY:Prey Play Thursdays – Lure Coursing
DESCRIPTION:Gym Special: \n\n\n$10 off lure coursing \n\n\nBar Special: \n\n\n$2 off draft beers \n\n\nA hot dog for any dog that completes a lure‑coursing run
URL:https://caninecardio.com/event/prey-play-thursdays-lure-coursing/2028-09-21/
LOCATION:Club Canine Cardio\, 2709 S Oakland Street\, Arlington\, Virginia\, 22206\, United States
ATTACH;FMTTYPE=image/png:https://caninecardio.com/wp-content/uploads/2025/12/wpwizards_2_human_friends_sitting_together_drinking_a_beer_ch_8adee8dd-068d-4c14-8065-03c6861ff878_0.png
END:VEVENT
BEGIN:VEVENT
DTSTART;VALUE=DATE:20280922
DTEND;VALUE=DATE:20280923
DTSTAMP:20260425T104849
CREATED:20251207T173144Z
LAST-MODIFIED:20251210T025042Z
UID:10007927-1853193600-1853279999@caninecardio.com
SUMMARY:Bring‑a‑Friend Fridays
DESCRIPTION:If you bring a friend: \n\n\nYour friend gets their drink 50% off \n\n\nYour friend’s dog gets any gym activity 50% off \n\n\nTo activate: \n\n\nYou buy a drink \n\n\nYour dog completes a gym activity \n\n\nNo membership required.
URL:https://caninecardio.com/event/bring-a-friend-fridays/2028-09-22/
LOCATION:Club Canine Cardio\, 2709 S Oakland Street\, Arlington\, Virginia\, 22206\, United States
ATTACH;FMTTYPE=image/jpeg:https://caninecardio.com/wp-content/uploads/2025/11/AW3B7711_edited.jpg
END:VEVENT
BEGIN:VEVENT
DTSTART;TZID=America/New_York:20280924T110000
DTEND;TZID=America/New_York:20280924T120000
DTSTAMP:20260425T104849
CREATED:20251206T202809Z
LAST-MODIFIED:20251206T202809Z
UID:10006884-1853406000-1853409600@caninecardio.com
SUMMARY:Foster Fit Sundays
DESCRIPTION:To support local rescues and help foster dogs grow confident\, social\, and adoption-ready\, Club Canine Cardio hosts a weekly Foster Fit Hour with exclusive benefits for foster families. \n\nFoster Discount – 50% off ANY Dog Gym Activity\nApplies to all gym activities\, including: \n\nTreadmill\nTug Play\nWeight Pull\nAgility\nScent Work\nPool (if available)\nLure (seasonal)\n\nWho Qualifies\n\nAny dog currently in foster care through a rescue or shelter\nProof of foster status required at check-in\n\nWhy We Offer This\n\nHelps foster dogs build confidence\nProvides structured enrichment most rescues cannot offer\nGives fosters a fun Sunday outing\nGenerates highly shareable social content\nBuilds goodwill and long-term customers (fosters often return with their own dogs later)
URL:https://caninecardio.com/event/foster-fit-sundays/2028-09-24/
LOCATION:Club Canine Cardio\, 2709 S Oakland Street\, Arlington\, Virginia\, 22206\, United States
ATTACH;FMTTYPE=image/png:https://caninecardio.com/wp-content/uploads/2025/12/wpwizards_dynamic_dog_fitness_class_promotional_background_fo_6468bae4-9172-4497-bc78-2c20591f9e21_1-1.png
ORGANIZER;CN="Canine Cardio":MAILTO:fitpack@caninecardio.com
END:VEVENT
BEGIN:VEVENT
DTSTART;VALUE=DATE:20280926
DTEND;VALUE=DATE:20280927
DTSTAMP:20260425T104849
CREATED:20251207T171738Z
LAST-MODIFIED:20251207T171738Z
UID:10007145-1853539200-1853625599@caninecardio.com
SUMMARY:Treadmill Tuesdays
DESCRIPTION:50% off treadmill activity with any $20 bar purchase
URL:https://caninecardio.com/event/treadmill-tuesdays/2028-09-26/
LOCATION:Club Canine Cardio\, 2709 S Oakland Street\, Arlington\, Virginia\, 22206\, United States
ATTACH;FMTTYPE=image/jpeg:https://caninecardio.com/wp-content/uploads/2025/09/Dog_Treadmill_CLub2025.jpg
END:VEVENT
BEGIN:VEVENT
DTSTART;VALUE=DATE:20280927
DTEND;VALUE=DATE:20280928
DTSTAMP:20260425T104849
CREATED:20251207T172524Z
LAST-MODIFIED:20251207T172959Z
UID:10007667-1853625600-1853711999@caninecardio.com
SUMMARY:Working Dog Wednesday
DESCRIPTION:25% off all bar purchases and all gym services. \nEligible: First responders\, military\, service dogs\, working dog breeds\, sport dogs.
URL:https://caninecardio.com/event/working-dog-wednesday/2028-09-27/
LOCATION:Club Canine Cardio\, 2709 S Oakland Street\, Arlington\, Virginia\, 22206\, United States
ATTACH;FMTTYPE=image/png:https://caninecardio.com/wp-content/uploads/2025/12/wpwizards_group_of_working_dogs_with_their_owners_who_are_Fir_ead54880-45f8-4d18-8300-13d012451325_3.png
END:VEVENT
BEGIN:VEVENT
DTSTART;VALUE=DATE:20280928
DTEND;VALUE=DATE:20280929
DTSTAMP:20260425T104849
CREATED:20251207T172918Z
LAST-MODIFIED:20251210T025100Z
UID:10007407-1853712000-1853798399@caninecardio.com
SUMMARY:Prey Play Thursdays – Lure Coursing
DESCRIPTION:Gym Special: \n\n\n$10 off lure coursing \n\n\nBar Special: \n\n\n$2 off draft beers \n\n\nA hot dog for any dog that completes a lure‑coursing run
URL:https://caninecardio.com/event/prey-play-thursdays-lure-coursing/2028-09-28/
LOCATION:Club Canine Cardio\, 2709 S Oakland Street\, Arlington\, Virginia\, 22206\, United States
ATTACH;FMTTYPE=image/png:https://caninecardio.com/wp-content/uploads/2025/12/wpwizards_2_human_friends_sitting_together_drinking_a_beer_ch_8adee8dd-068d-4c14-8065-03c6861ff878_0.png
END:VEVENT
BEGIN:VEVENT
DTSTART;VALUE=DATE:20280929
DTEND;VALUE=DATE:20280930
DTSTAMP:20260425T104849
CREATED:20251207T173144Z
LAST-MODIFIED:20251210T025042Z
UID:10007928-1853798400-1853884799@caninecardio.com
SUMMARY:Bring‑a‑Friend Fridays
DESCRIPTION:If you bring a friend: \n\n\nYour friend gets their drink 50% off \n\n\nYour friend’s dog gets any gym activity 50% off \n\n\nTo activate: \n\n\nYou buy a drink \n\n\nYour dog completes a gym activity \n\n\nNo membership required.
URL:https://caninecardio.com/event/bring-a-friend-fridays/2028-09-29/
LOCATION:Club Canine Cardio\, 2709 S Oakland Street\, Arlington\, Virginia\, 22206\, United States
ATTACH;FMTTYPE=image/jpeg:https://caninecardio.com/wp-content/uploads/2025/11/AW3B7711_edited.jpg
END:VEVENT
BEGIN:VEVENT
DTSTART;TZID=America/New_York:20281001T110000
DTEND;TZID=America/New_York:20281001T120000
DTSTAMP:20260425T104849
CREATED:20251206T202809Z
LAST-MODIFIED:20251206T202809Z
UID:10006885-1854010800-1854014400@caninecardio.com
SUMMARY:Foster Fit Sundays
DESCRIPTION:To support local rescues and help foster dogs grow confident\, social\, and adoption-ready\, Club Canine Cardio hosts a weekly Foster Fit Hour with exclusive benefits for foster families. \n\nFoster Discount – 50% off ANY Dog Gym Activity\nApplies to all gym activities\, including: \n\nTreadmill\nTug Play\nWeight Pull\nAgility\nScent Work\nPool (if available)\nLure (seasonal)\n\nWho Qualifies\n\nAny dog currently in foster care through a rescue or shelter\nProof of foster status required at check-in\n\nWhy We Offer This\n\nHelps foster dogs build confidence\nProvides structured enrichment most rescues cannot offer\nGives fosters a fun Sunday outing\nGenerates highly shareable social content\nBuilds goodwill and long-term customers (fosters often return with their own dogs later)
URL:https://caninecardio.com/event/foster-fit-sundays/2028-10-01/
LOCATION:Club Canine Cardio\, 2709 S Oakland Street\, Arlington\, Virginia\, 22206\, United States
ATTACH;FMTTYPE=image/png:https://caninecardio.com/wp-content/uploads/2025/12/wpwizards_dynamic_dog_fitness_class_promotional_background_fo_6468bae4-9172-4497-bc78-2c20591f9e21_1-1.png
ORGANIZER;CN="Canine Cardio":MAILTO:fitpack@caninecardio.com
END:VEVENT
BEGIN:VEVENT
DTSTART;VALUE=DATE:20281003
DTEND;VALUE=DATE:20281004
DTSTAMP:20260425T104849
CREATED:20251207T171738Z
LAST-MODIFIED:20251207T171738Z
UID:10007146-1854144000-1854230399@caninecardio.com
SUMMARY:Treadmill Tuesdays
DESCRIPTION:50% off treadmill activity with any $20 bar purchase
URL:https://caninecardio.com/event/treadmill-tuesdays/2028-10-03/
LOCATION:Club Canine Cardio\, 2709 S Oakland Street\, Arlington\, Virginia\, 22206\, United States
ATTACH;FMTTYPE=image/jpeg:https://caninecardio.com/wp-content/uploads/2025/09/Dog_Treadmill_CLub2025.jpg
END:VEVENT
BEGIN:VEVENT
DTSTART;VALUE=DATE:20281004
DTEND;VALUE=DATE:20281005
DTSTAMP:20260425T104849
CREATED:20251207T172524Z
LAST-MODIFIED:20251207T172959Z
UID:10007668-1854230400-1854316799@caninecardio.com
SUMMARY:Working Dog Wednesday
DESCRIPTION:25% off all bar purchases and all gym services. \nEligible: First responders\, military\, service dogs\, working dog breeds\, sport dogs.
URL:https://caninecardio.com/event/working-dog-wednesday/2028-10-04/
LOCATION:Club Canine Cardio\, 2709 S Oakland Street\, Arlington\, Virginia\, 22206\, United States
ATTACH;FMTTYPE=image/png:https://caninecardio.com/wp-content/uploads/2025/12/wpwizards_group_of_working_dogs_with_their_owners_who_are_Fir_ead54880-45f8-4d18-8300-13d012451325_3.png
END:VEVENT
BEGIN:VEVENT
DTSTART;VALUE=DATE:20281005
DTEND;VALUE=DATE:20281006
DTSTAMP:20260425T104849
CREATED:20251207T172918Z
LAST-MODIFIED:20251210T025100Z
UID:10007408-1854316800-1854403199@caninecardio.com
SUMMARY:Prey Play Thursdays – Lure Coursing
DESCRIPTION:Gym Special: \n\n\n$10 off lure coursing \n\n\nBar Special: \n\n\n$2 off draft beers \n\n\nA hot dog for any dog that completes a lure‑coursing run
URL:https://caninecardio.com/event/prey-play-thursdays-lure-coursing/2028-10-05/
LOCATION:Club Canine Cardio\, 2709 S Oakland Street\, Arlington\, Virginia\, 22206\, United States
ATTACH;FMTTYPE=image/png:https://caninecardio.com/wp-content/uploads/2025/12/wpwizards_2_human_friends_sitting_together_drinking_a_beer_ch_8adee8dd-068d-4c14-8065-03c6861ff878_0.png
END:VEVENT
BEGIN:VEVENT
DTSTART;VALUE=DATE:20281006
DTEND;VALUE=DATE:20281007
DTSTAMP:20260425T104849
CREATED:20251207T173144Z
LAST-MODIFIED:20251210T025042Z
UID:10007929-1854403200-1854489599@caninecardio.com
SUMMARY:Bring‑a‑Friend Fridays
DESCRIPTION:If you bring a friend: \n\n\nYour friend gets their drink 50% off \n\n\nYour friend’s dog gets any gym activity 50% off \n\n\nTo activate: \n\n\nYou buy a drink \n\n\nYour dog completes a gym activity \n\n\nNo membership required.
URL:https://caninecardio.com/event/bring-a-friend-fridays/2028-10-06/
LOCATION:Club Canine Cardio\, 2709 S Oakland Street\, Arlington\, Virginia\, 22206\, United States
ATTACH;FMTTYPE=image/jpeg:https://caninecardio.com/wp-content/uploads/2025/11/AW3B7711_edited.jpg
END:VEVENT
BEGIN:VEVENT
DTSTART;TZID=America/New_York:20281008T110000
DTEND;TZID=America/New_York:20281008T120000
DTSTAMP:20260425T104849
CREATED:20251206T202809Z
LAST-MODIFIED:20251206T202809Z
UID:10006886-1854615600-1854619200@caninecardio.com
SUMMARY:Foster Fit Sundays
DESCRIPTION:To support local rescues and help foster dogs grow confident\, social\, and adoption-ready\, Club Canine Cardio hosts a weekly Foster Fit Hour with exclusive benefits for foster families. \n\nFoster Discount – 50% off ANY Dog Gym Activity\nApplies to all gym activities\, including: \n\nTreadmill\nTug Play\nWeight Pull\nAgility\nScent Work\nPool (if available)\nLure (seasonal)\n\nWho Qualifies\n\nAny dog currently in foster care through a rescue or shelter\nProof of foster status required at check-in\n\nWhy We Offer This\n\nHelps foster dogs build confidence\nProvides structured enrichment most rescues cannot offer\nGives fosters a fun Sunday outing\nGenerates highly shareable social content\nBuilds goodwill and long-term customers (fosters often return with their own dogs later)
URL:https://caninecardio.com/event/foster-fit-sundays/2028-10-08/
LOCATION:Club Canine Cardio\, 2709 S Oakland Street\, Arlington\, Virginia\, 22206\, United States
ATTACH;FMTTYPE=image/png:https://caninecardio.com/wp-content/uploads/2025/12/wpwizards_dynamic_dog_fitness_class_promotional_background_fo_6468bae4-9172-4497-bc78-2c20591f9e21_1-1.png
ORGANIZER;CN="Canine Cardio":MAILTO:fitpack@caninecardio.com
END:VEVENT
BEGIN:VEVENT
DTSTART;VALUE=DATE:20281010
DTEND;VALUE=DATE:20281011
DTSTAMP:20260425T104849
CREATED:20251207T171738Z
LAST-MODIFIED:20251207T171738Z
UID:10007147-1854748800-1854835199@caninecardio.com
SUMMARY:Treadmill Tuesdays
DESCRIPTION:50% off treadmill activity with any $20 bar purchase
URL:https://caninecardio.com/event/treadmill-tuesdays/2028-10-10/
LOCATION:Club Canine Cardio\, 2709 S Oakland Street\, Arlington\, Virginia\, 22206\, United States
ATTACH;FMTTYPE=image/jpeg:https://caninecardio.com/wp-content/uploads/2025/09/Dog_Treadmill_CLub2025.jpg
END:VEVENT
BEGIN:VEVENT
DTSTART;VALUE=DATE:20281011
DTEND;VALUE=DATE:20281012
DTSTAMP:20260425T104849
CREATED:20251207T172524Z
LAST-MODIFIED:20251207T172959Z
UID:10007669-1854835200-1854921599@caninecardio.com
SUMMARY:Working Dog Wednesday
DESCRIPTION:25% off all bar purchases and all gym services. \nEligible: First responders\, military\, service dogs\, working dog breeds\, sport dogs.
URL:https://caninecardio.com/event/working-dog-wednesday/2028-10-11/
LOCATION:Club Canine Cardio\, 2709 S Oakland Street\, Arlington\, Virginia\, 22206\, United States
ATTACH;FMTTYPE=image/png:https://caninecardio.com/wp-content/uploads/2025/12/wpwizards_group_of_working_dogs_with_their_owners_who_are_Fir_ead54880-45f8-4d18-8300-13d012451325_3.png
END:VEVENT
BEGIN:VEVENT
DTSTART;VALUE=DATE:20281012
DTEND;VALUE=DATE:20281013
DTSTAMP:20260425T104849
CREATED:20251207T172918Z
LAST-MODIFIED:20251210T025100Z
UID:10007409-1854921600-1855007999@caninecardio.com
SUMMARY:Prey Play Thursdays – Lure Coursing
DESCRIPTION:Gym Special: \n\n\n$10 off lure coursing \n\n\nBar Special: \n\n\n$2 off draft beers \n\n\nA hot dog for any dog that completes a lure‑coursing run
URL:https://caninecardio.com/event/prey-play-thursdays-lure-coursing/2028-10-12/
LOCATION:Club Canine Cardio\, 2709 S Oakland Street\, Arlington\, Virginia\, 22206\, United States
ATTACH;FMTTYPE=image/png:https://caninecardio.com/wp-content/uploads/2025/12/wpwizards_2_human_friends_sitting_together_drinking_a_beer_ch_8adee8dd-068d-4c14-8065-03c6861ff878_0.png
END:VEVENT
BEGIN:VEVENT
DTSTART;VALUE=DATE:20281013
DTEND;VALUE=DATE:20281014
DTSTAMP:20260425T104849
CREATED:20251207T173144Z
LAST-MODIFIED:20251210T025042Z
UID:10007930-1855008000-1855094399@caninecardio.com
SUMMARY:Bring‑a‑Friend Fridays
DESCRIPTION:If you bring a friend: \n\n\nYour friend gets their drink 50% off \n\n\nYour friend’s dog gets any gym activity 50% off \n\n\nTo activate: \n\n\nYou buy a drink \n\n\nYour dog completes a gym activity \n\n\nNo membership required.
URL:https://caninecardio.com/event/bring-a-friend-fridays/2028-10-13/
LOCATION:Club Canine Cardio\, 2709 S Oakland Street\, Arlington\, Virginia\, 22206\, United States
ATTACH;FMTTYPE=image/jpeg:https://caninecardio.com/wp-content/uploads/2025/11/AW3B7711_edited.jpg
END:VEVENT
BEGIN:VEVENT
DTSTART;TZID=America/New_York:20281015T110000
DTEND;TZID=America/New_York:20281015T120000
DTSTAMP:20260425T104849
CREATED:20251206T202809Z
LAST-MODIFIED:20251206T202809Z
UID:10006887-1855220400-1855224000@caninecardio.com
SUMMARY:Foster Fit Sundays
DESCRIPTION:To support local rescues and help foster dogs grow confident\, social\, and adoption-ready\, Club Canine Cardio hosts a weekly Foster Fit Hour with exclusive benefits for foster families. \n\nFoster Discount – 50% off ANY Dog Gym Activity\nApplies to all gym activities\, including: \n\nTreadmill\nTug Play\nWeight Pull\nAgility\nScent Work\nPool (if available)\nLure (seasonal)\n\nWho Qualifies\n\nAny dog currently in foster care through a rescue or shelter\nProof of foster status required at check-in\n\nWhy We Offer This\n\nHelps foster dogs build confidence\nProvides structured enrichment most rescues cannot offer\nGives fosters a fun Sunday outing\nGenerates highly shareable social content\nBuilds goodwill and long-term customers (fosters often return with their own dogs later)
URL:https://caninecardio.com/event/foster-fit-sundays/2028-10-15/
LOCATION:Club Canine Cardio\, 2709 S Oakland Street\, Arlington\, Virginia\, 22206\, United States
ATTACH;FMTTYPE=image/png:https://caninecardio.com/wp-content/uploads/2025/12/wpwizards_dynamic_dog_fitness_class_promotional_background_fo_6468bae4-9172-4497-bc78-2c20591f9e21_1-1.png
ORGANIZER;CN="Canine Cardio":MAILTO:fitpack@caninecardio.com
END:VEVENT
BEGIN:VEVENT
DTSTART;VALUE=DATE:20281017
DTEND;VALUE=DATE:20281018
DTSTAMP:20260425T104849
CREATED:20251207T171738Z
LAST-MODIFIED:20251207T171738Z
UID:10007148-1855353600-1855439999@caninecardio.com
SUMMARY:Treadmill Tuesdays
DESCRIPTION:50% off treadmill activity with any $20 bar purchase
URL:https://caninecardio.com/event/treadmill-tuesdays/2028-10-17/
LOCATION:Club Canine Cardio\, 2709 S Oakland Street\, Arlington\, Virginia\, 22206\, United States
ATTACH;FMTTYPE=image/jpeg:https://caninecardio.com/wp-content/uploads/2025/09/Dog_Treadmill_CLub2025.jpg
END:VEVENT
BEGIN:VEVENT
DTSTART;VALUE=DATE:20281018
DTEND;VALUE=DATE:20281019
DTSTAMP:20260425T104849
CREATED:20251207T172524Z
LAST-MODIFIED:20251207T172959Z
UID:10007670-1855440000-1855526399@caninecardio.com
SUMMARY:Working Dog Wednesday
DESCRIPTION:25% off all bar purchases and all gym services. \nEligible: First responders\, military\, service dogs\, working dog breeds\, sport dogs.
URL:https://caninecardio.com/event/working-dog-wednesday/2028-10-18/
LOCATION:Club Canine Cardio\, 2709 S Oakland Street\, Arlington\, Virginia\, 22206\, United States
ATTACH;FMTTYPE=image/png:https://caninecardio.com/wp-content/uploads/2025/12/wpwizards_group_of_working_dogs_with_their_owners_who_are_Fir_ead54880-45f8-4d18-8300-13d012451325_3.png
END:VEVENT
END:VCALENDAR