BEGIN:VCALENDAR
VERSION:2.0
PRODID:-//Canine Cardio - ECPv6.15.20//NONSGML v1.0//EN
CALSCALE:GREGORIAN
METHOD:PUBLISH
X-WR-CALNAME:Canine Cardio
X-ORIGINAL-URL:https://caninecardio.com
X-WR-CALDESC:Events for Canine Cardio
REFRESH-INTERVAL;VALUE=DURATION:PT1H
X-Robots-Tag:noindex
X-PUBLISHED-TTL:PT1H
BEGIN:VTIMEZONE
TZID:America/New_York
BEGIN:DAYLIGHT
TZOFFSETFROM:-0500
TZOFFSETTO:-0400
TZNAME:EDT
DTSTART:20280312T070000
END:DAYLIGHT
BEGIN:STANDARD
TZOFFSETFROM:-0400
TZOFFSETTO:-0500
TZNAME:EST
DTSTART:20281105T060000
END:STANDARD
BEGIN:DAYLIGHT
TZOFFSETFROM:-0500
TZOFFSETTO:-0400
TZNAME:EDT
DTSTART:20290311T070000
END:DAYLIGHT
BEGIN:STANDARD
TZOFFSETFROM:-0400
TZOFFSETTO:-0500
TZNAME:EST
DTSTART:20291104T060000
END:STANDARD
BEGIN:DAYLIGHT
TZOFFSETFROM:-0500
TZOFFSETTO:-0400
TZNAME:EDT
DTSTART:20300310T070000
END:DAYLIGHT
BEGIN:STANDARD
TZOFFSETFROM:-0400
TZOFFSETTO:-0500
TZNAME:EST
DTSTART:20301103T060000
END:STANDARD
END:VTIMEZONE
BEGIN:VEVENT
DTSTART;TZID=America/New_York:20290128T110000
DTEND;TZID=America/New_York:20290128T120000
DTSTAMP:20260425T223910
CREATED:20251206T202809Z
LAST-MODIFIED:20251206T202809Z
UID:10006902-1864292400-1864296000@caninecardio.com
SUMMARY:Foster Fit Sundays
DESCRIPTION:To support local rescues and help foster dogs grow confident\, social\, and adoption-ready\, Club Canine Cardio hosts a weekly Foster Fit Hour with exclusive benefits for foster families. \n\nFoster Discount – 50% off ANY Dog Gym Activity\nApplies to all gym activities\, including: \n\nTreadmill\nTug Play\nWeight Pull\nAgility\nScent Work\nPool (if available)\nLure (seasonal)\n\nWho Qualifies\n\nAny dog currently in foster care through a rescue or shelter\nProof of foster status required at check-in\n\nWhy We Offer This\n\nHelps foster dogs build confidence\nProvides structured enrichment most rescues cannot offer\nGives fosters a fun Sunday outing\nGenerates highly shareable social content\nBuilds goodwill and long-term customers (fosters often return with their own dogs later)
URL:https://caninecardio.com/event/foster-fit-sundays/2029-01-28/
LOCATION:Club Canine Cardio\, 2709 S Oakland Street\, Arlington\, Virginia\, 22206\, United States
ATTACH;FMTTYPE=image/png:https://caninecardio.com/wp-content/uploads/2025/12/wpwizards_dynamic_dog_fitness_class_promotional_background_fo_6468bae4-9172-4497-bc78-2c20591f9e21_1-1.png
ORGANIZER;CN="Canine Cardio":MAILTO:fitpack@caninecardio.com
END:VEVENT
BEGIN:VEVENT
DTSTART;VALUE=DATE:20290130
DTEND;VALUE=DATE:20290131
DTSTAMP:20260425T223910
CREATED:20251207T171738Z
LAST-MODIFIED:20251207T171738Z
UID:10007163-1864425600-1864511999@caninecardio.com
SUMMARY:Treadmill Tuesdays
DESCRIPTION:50% off treadmill activity with any $20 bar purchase
URL:https://caninecardio.com/event/treadmill-tuesdays/2029-01-30/
LOCATION:Club Canine Cardio\, 2709 S Oakland Street\, Arlington\, Virginia\, 22206\, United States
ATTACH;FMTTYPE=image/jpeg:https://caninecardio.com/wp-content/uploads/2025/09/Dog_Treadmill_CLub2025.jpg
END:VEVENT
BEGIN:VEVENT
DTSTART;VALUE=DATE:20290131
DTEND;VALUE=DATE:20290201
DTSTAMP:20260425T223910
CREATED:20251207T172524Z
LAST-MODIFIED:20251207T172959Z
UID:10007685-1864512000-1864598399@caninecardio.com
SUMMARY:Working Dog Wednesday
DESCRIPTION:25% off all bar purchases and all gym services. \nEligible: First responders\, military\, service dogs\, working dog breeds\, sport dogs.
URL:https://caninecardio.com/event/working-dog-wednesday/2029-01-31/
LOCATION:Club Canine Cardio\, 2709 S Oakland Street\, Arlington\, Virginia\, 22206\, United States
ATTACH;FMTTYPE=image/png:https://caninecardio.com/wp-content/uploads/2025/12/wpwizards_group_of_working_dogs_with_their_owners_who_are_Fir_ead54880-45f8-4d18-8300-13d012451325_3.png
END:VEVENT
BEGIN:VEVENT
DTSTART;VALUE=DATE:20290201
DTEND;VALUE=DATE:20290202
DTSTAMP:20260425T223910
CREATED:20251207T172918Z
LAST-MODIFIED:20251210T025100Z
UID:10007425-1864598400-1864684799@caninecardio.com
SUMMARY:Prey Play Thursdays – Lure Coursing
DESCRIPTION:Gym Special: \n\n\n$10 off lure coursing \n\n\nBar Special: \n\n\n$2 off draft beers \n\n\nA hot dog for any dog that completes a lure‑coursing run
URL:https://caninecardio.com/event/prey-play-thursdays-lure-coursing/2029-02-01/
LOCATION:Club Canine Cardio\, 2709 S Oakland Street\, Arlington\, Virginia\, 22206\, United States
ATTACH;FMTTYPE=image/png:https://caninecardio.com/wp-content/uploads/2025/12/wpwizards_2_human_friends_sitting_together_drinking_a_beer_ch_8adee8dd-068d-4c14-8065-03c6861ff878_0.png
END:VEVENT
BEGIN:VEVENT
DTSTART;VALUE=DATE:20290202
DTEND;VALUE=DATE:20290203
DTSTAMP:20260425T223910
CREATED:20251207T173144Z
LAST-MODIFIED:20251210T025042Z
UID:10007946-1864684800-1864771199@caninecardio.com
SUMMARY:Bring‑a‑Friend Fridays
DESCRIPTION:If you bring a friend: \n\n\nYour friend gets their drink 50% off \n\n\nYour friend’s dog gets any gym activity 50% off \n\n\nTo activate: \n\n\nYou buy a drink \n\n\nYour dog completes a gym activity \n\n\nNo membership required.
URL:https://caninecardio.com/event/bring-a-friend-fridays/2029-02-02/
LOCATION:Club Canine Cardio\, 2709 S Oakland Street\, Arlington\, Virginia\, 22206\, United States
ATTACH;FMTTYPE=image/jpeg:https://caninecardio.com/wp-content/uploads/2025/11/AW3B7711_edited.jpg
END:VEVENT
BEGIN:VEVENT
DTSTART;TZID=America/New_York:20290204T110000
DTEND;TZID=America/New_York:20290204T120000
DTSTAMP:20260425T223910
CREATED:20251206T202809Z
LAST-MODIFIED:20251206T202809Z
UID:10006903-1864897200-1864900800@caninecardio.com
SUMMARY:Foster Fit Sundays
DESCRIPTION:To support local rescues and help foster dogs grow confident\, social\, and adoption-ready\, Club Canine Cardio hosts a weekly Foster Fit Hour with exclusive benefits for foster families. \n\nFoster Discount – 50% off ANY Dog Gym Activity\nApplies to all gym activities\, including: \n\nTreadmill\nTug Play\nWeight Pull\nAgility\nScent Work\nPool (if available)\nLure (seasonal)\n\nWho Qualifies\n\nAny dog currently in foster care through a rescue or shelter\nProof of foster status required at check-in\n\nWhy We Offer This\n\nHelps foster dogs build confidence\nProvides structured enrichment most rescues cannot offer\nGives fosters a fun Sunday outing\nGenerates highly shareable social content\nBuilds goodwill and long-term customers (fosters often return with their own dogs later)
URL:https://caninecardio.com/event/foster-fit-sundays/2029-02-04/
LOCATION:Club Canine Cardio\, 2709 S Oakland Street\, Arlington\, Virginia\, 22206\, United States
ATTACH;FMTTYPE=image/png:https://caninecardio.com/wp-content/uploads/2025/12/wpwizards_dynamic_dog_fitness_class_promotional_background_fo_6468bae4-9172-4497-bc78-2c20591f9e21_1-1.png
ORGANIZER;CN="Canine Cardio":MAILTO:fitpack@caninecardio.com
END:VEVENT
BEGIN:VEVENT
DTSTART;VALUE=DATE:20290206
DTEND;VALUE=DATE:20290207
DTSTAMP:20260425T223910
CREATED:20251207T171738Z
LAST-MODIFIED:20251207T171738Z
UID:10007164-1865030400-1865116799@caninecardio.com
SUMMARY:Treadmill Tuesdays
DESCRIPTION:50% off treadmill activity with any $20 bar purchase
URL:https://caninecardio.com/event/treadmill-tuesdays/2029-02-06/
LOCATION:Club Canine Cardio\, 2709 S Oakland Street\, Arlington\, Virginia\, 22206\, United States
ATTACH;FMTTYPE=image/jpeg:https://caninecardio.com/wp-content/uploads/2025/09/Dog_Treadmill_CLub2025.jpg
END:VEVENT
BEGIN:VEVENT
DTSTART;VALUE=DATE:20290207
DTEND;VALUE=DATE:20290208
DTSTAMP:20260425T223910
CREATED:20251207T172524Z
LAST-MODIFIED:20251207T172959Z
UID:10007686-1865116800-1865203199@caninecardio.com
SUMMARY:Working Dog Wednesday
DESCRIPTION:25% off all bar purchases and all gym services. \nEligible: First responders\, military\, service dogs\, working dog breeds\, sport dogs.
URL:https://caninecardio.com/event/working-dog-wednesday/2029-02-07/
LOCATION:Club Canine Cardio\, 2709 S Oakland Street\, Arlington\, Virginia\, 22206\, United States
ATTACH;FMTTYPE=image/png:https://caninecardio.com/wp-content/uploads/2025/12/wpwizards_group_of_working_dogs_with_their_owners_who_are_Fir_ead54880-45f8-4d18-8300-13d012451325_3.png
END:VEVENT
BEGIN:VEVENT
DTSTART;VALUE=DATE:20290208
DTEND;VALUE=DATE:20290209
DTSTAMP:20260425T223910
CREATED:20251207T172918Z
LAST-MODIFIED:20251210T025100Z
UID:10007426-1865203200-1865289599@caninecardio.com
SUMMARY:Prey Play Thursdays – Lure Coursing
DESCRIPTION:Gym Special: \n\n\n$10 off lure coursing \n\n\nBar Special: \n\n\n$2 off draft beers \n\n\nA hot dog for any dog that completes a lure‑coursing run
URL:https://caninecardio.com/event/prey-play-thursdays-lure-coursing/2029-02-08/
LOCATION:Club Canine Cardio\, 2709 S Oakland Street\, Arlington\, Virginia\, 22206\, United States
ATTACH;FMTTYPE=image/png:https://caninecardio.com/wp-content/uploads/2025/12/wpwizards_2_human_friends_sitting_together_drinking_a_beer_ch_8adee8dd-068d-4c14-8065-03c6861ff878_0.png
END:VEVENT
BEGIN:VEVENT
DTSTART;VALUE=DATE:20290209
DTEND;VALUE=DATE:20290210
DTSTAMP:20260425T223910
CREATED:20251207T173144Z
LAST-MODIFIED:20251210T025042Z
UID:10007947-1865289600-1865375999@caninecardio.com
SUMMARY:Bring‑a‑Friend Fridays
DESCRIPTION:If you bring a friend: \n\n\nYour friend gets their drink 50% off \n\n\nYour friend’s dog gets any gym activity 50% off \n\n\nTo activate: \n\n\nYou buy a drink \n\n\nYour dog completes a gym activity \n\n\nNo membership required.
URL:https://caninecardio.com/event/bring-a-friend-fridays/2029-02-09/
LOCATION:Club Canine Cardio\, 2709 S Oakland Street\, Arlington\, Virginia\, 22206\, United States
ATTACH;FMTTYPE=image/jpeg:https://caninecardio.com/wp-content/uploads/2025/11/AW3B7711_edited.jpg
END:VEVENT
BEGIN:VEVENT
DTSTART;TZID=America/New_York:20290211T110000
DTEND;TZID=America/New_York:20290211T120000
DTSTAMP:20260425T223910
CREATED:20251206T202809Z
LAST-MODIFIED:20251206T202809Z
UID:10006904-1865502000-1865505600@caninecardio.com
SUMMARY:Foster Fit Sundays
DESCRIPTION:To support local rescues and help foster dogs grow confident\, social\, and adoption-ready\, Club Canine Cardio hosts a weekly Foster Fit Hour with exclusive benefits for foster families. \n\nFoster Discount – 50% off ANY Dog Gym Activity\nApplies to all gym activities\, including: \n\nTreadmill\nTug Play\nWeight Pull\nAgility\nScent Work\nPool (if available)\nLure (seasonal)\n\nWho Qualifies\n\nAny dog currently in foster care through a rescue or shelter\nProof of foster status required at check-in\n\nWhy We Offer This\n\nHelps foster dogs build confidence\nProvides structured enrichment most rescues cannot offer\nGives fosters a fun Sunday outing\nGenerates highly shareable social content\nBuilds goodwill and long-term customers (fosters often return with their own dogs later)
URL:https://caninecardio.com/event/foster-fit-sundays/2029-02-11/
LOCATION:Club Canine Cardio\, 2709 S Oakland Street\, Arlington\, Virginia\, 22206\, United States
ATTACH;FMTTYPE=image/png:https://caninecardio.com/wp-content/uploads/2025/12/wpwizards_dynamic_dog_fitness_class_promotional_background_fo_6468bae4-9172-4497-bc78-2c20591f9e21_1-1.png
ORGANIZER;CN="Canine Cardio":MAILTO:fitpack@caninecardio.com
END:VEVENT
BEGIN:VEVENT
DTSTART;VALUE=DATE:20290213
DTEND;VALUE=DATE:20290214
DTSTAMP:20260425T223910
CREATED:20251207T171738Z
LAST-MODIFIED:20251207T171738Z
UID:10007165-1865635200-1865721599@caninecardio.com
SUMMARY:Treadmill Tuesdays
DESCRIPTION:50% off treadmill activity with any $20 bar purchase
URL:https://caninecardio.com/event/treadmill-tuesdays/2029-02-13/
LOCATION:Club Canine Cardio\, 2709 S Oakland Street\, Arlington\, Virginia\, 22206\, United States
ATTACH;FMTTYPE=image/jpeg:https://caninecardio.com/wp-content/uploads/2025/09/Dog_Treadmill_CLub2025.jpg
END:VEVENT
BEGIN:VEVENT
DTSTART;VALUE=DATE:20290214
DTEND;VALUE=DATE:20290215
DTSTAMP:20260425T223910
CREATED:20251207T172524Z
LAST-MODIFIED:20251207T172959Z
UID:10007687-1865721600-1865807999@caninecardio.com
SUMMARY:Working Dog Wednesday
DESCRIPTION:25% off all bar purchases and all gym services. \nEligible: First responders\, military\, service dogs\, working dog breeds\, sport dogs.
URL:https://caninecardio.com/event/working-dog-wednesday/2029-02-14/
LOCATION:Club Canine Cardio\, 2709 S Oakland Street\, Arlington\, Virginia\, 22206\, United States
ATTACH;FMTTYPE=image/png:https://caninecardio.com/wp-content/uploads/2025/12/wpwizards_group_of_working_dogs_with_their_owners_who_are_Fir_ead54880-45f8-4d18-8300-13d012451325_3.png
END:VEVENT
BEGIN:VEVENT
DTSTART;VALUE=DATE:20290215
DTEND;VALUE=DATE:20290216
DTSTAMP:20260425T223910
CREATED:20251207T172918Z
LAST-MODIFIED:20251210T025100Z
UID:10007427-1865808000-1865894399@caninecardio.com
SUMMARY:Prey Play Thursdays – Lure Coursing
DESCRIPTION:Gym Special: \n\n\n$10 off lure coursing \n\n\nBar Special: \n\n\n$2 off draft beers \n\n\nA hot dog for any dog that completes a lure‑coursing run
URL:https://caninecardio.com/event/prey-play-thursdays-lure-coursing/2029-02-15/
LOCATION:Club Canine Cardio\, 2709 S Oakland Street\, Arlington\, Virginia\, 22206\, United States
ATTACH;FMTTYPE=image/png:https://caninecardio.com/wp-content/uploads/2025/12/wpwizards_2_human_friends_sitting_together_drinking_a_beer_ch_8adee8dd-068d-4c14-8065-03c6861ff878_0.png
END:VEVENT
BEGIN:VEVENT
DTSTART;VALUE=DATE:20290216
DTEND;VALUE=DATE:20290217
DTSTAMP:20260425T223910
CREATED:20251207T173144Z
LAST-MODIFIED:20251210T025042Z
UID:10007948-1865894400-1865980799@caninecardio.com
SUMMARY:Bring‑a‑Friend Fridays
DESCRIPTION:If you bring a friend: \n\n\nYour friend gets their drink 50% off \n\n\nYour friend’s dog gets any gym activity 50% off \n\n\nTo activate: \n\n\nYou buy a drink \n\n\nYour dog completes a gym activity \n\n\nNo membership required.
URL:https://caninecardio.com/event/bring-a-friend-fridays/2029-02-16/
LOCATION:Club Canine Cardio\, 2709 S Oakland Street\, Arlington\, Virginia\, 22206\, United States
ATTACH;FMTTYPE=image/jpeg:https://caninecardio.com/wp-content/uploads/2025/11/AW3B7711_edited.jpg
END:VEVENT
BEGIN:VEVENT
DTSTART;TZID=America/New_York:20290218T110000
DTEND;TZID=America/New_York:20290218T120000
DTSTAMP:20260425T223910
CREATED:20251206T202809Z
LAST-MODIFIED:20251206T202809Z
UID:10006905-1866106800-1866110400@caninecardio.com
SUMMARY:Foster Fit Sundays
DESCRIPTION:To support local rescues and help foster dogs grow confident\, social\, and adoption-ready\, Club Canine Cardio hosts a weekly Foster Fit Hour with exclusive benefits for foster families. \n\nFoster Discount – 50% off ANY Dog Gym Activity\nApplies to all gym activities\, including: \n\nTreadmill\nTug Play\nWeight Pull\nAgility\nScent Work\nPool (if available)\nLure (seasonal)\n\nWho Qualifies\n\nAny dog currently in foster care through a rescue or shelter\nProof of foster status required at check-in\n\nWhy We Offer This\n\nHelps foster dogs build confidence\nProvides structured enrichment most rescues cannot offer\nGives fosters a fun Sunday outing\nGenerates highly shareable social content\nBuilds goodwill and long-term customers (fosters often return with their own dogs later)
URL:https://caninecardio.com/event/foster-fit-sundays/2029-02-18/
LOCATION:Club Canine Cardio\, 2709 S Oakland Street\, Arlington\, Virginia\, 22206\, United States
ATTACH;FMTTYPE=image/png:https://caninecardio.com/wp-content/uploads/2025/12/wpwizards_dynamic_dog_fitness_class_promotional_background_fo_6468bae4-9172-4497-bc78-2c20591f9e21_1-1.png
ORGANIZER;CN="Canine Cardio":MAILTO:fitpack@caninecardio.com
END:VEVENT
BEGIN:VEVENT
DTSTART;VALUE=DATE:20290220
DTEND;VALUE=DATE:20290221
DTSTAMP:20260425T223910
CREATED:20251207T171738Z
LAST-MODIFIED:20251207T171738Z
UID:10007166-1866240000-1866326399@caninecardio.com
SUMMARY:Treadmill Tuesdays
DESCRIPTION:50% off treadmill activity with any $20 bar purchase
URL:https://caninecardio.com/event/treadmill-tuesdays/2029-02-20/
LOCATION:Club Canine Cardio\, 2709 S Oakland Street\, Arlington\, Virginia\, 22206\, United States
ATTACH;FMTTYPE=image/jpeg:https://caninecardio.com/wp-content/uploads/2025/09/Dog_Treadmill_CLub2025.jpg
END:VEVENT
BEGIN:VEVENT
DTSTART;VALUE=DATE:20290221
DTEND;VALUE=DATE:20290222
DTSTAMP:20260425T223910
CREATED:20251207T172524Z
LAST-MODIFIED:20251207T172959Z
UID:10007688-1866326400-1866412799@caninecardio.com
SUMMARY:Working Dog Wednesday
DESCRIPTION:25% off all bar purchases and all gym services. \nEligible: First responders\, military\, service dogs\, working dog breeds\, sport dogs.
URL:https://caninecardio.com/event/working-dog-wednesday/2029-02-21/
LOCATION:Club Canine Cardio\, 2709 S Oakland Street\, Arlington\, Virginia\, 22206\, United States
ATTACH;FMTTYPE=image/png:https://caninecardio.com/wp-content/uploads/2025/12/wpwizards_group_of_working_dogs_with_their_owners_who_are_Fir_ead54880-45f8-4d18-8300-13d012451325_3.png
END:VEVENT
BEGIN:VEVENT
DTSTART;VALUE=DATE:20290222
DTEND;VALUE=DATE:20290223
DTSTAMP:20260425T223910
CREATED:20251207T172918Z
LAST-MODIFIED:20251210T025100Z
UID:10007428-1866412800-1866499199@caninecardio.com
SUMMARY:Prey Play Thursdays – Lure Coursing
DESCRIPTION:Gym Special: \n\n\n$10 off lure coursing \n\n\nBar Special: \n\n\n$2 off draft beers \n\n\nA hot dog for any dog that completes a lure‑coursing run
URL:https://caninecardio.com/event/prey-play-thursdays-lure-coursing/2029-02-22/
LOCATION:Club Canine Cardio\, 2709 S Oakland Street\, Arlington\, Virginia\, 22206\, United States
ATTACH;FMTTYPE=image/png:https://caninecardio.com/wp-content/uploads/2025/12/wpwizards_2_human_friends_sitting_together_drinking_a_beer_ch_8adee8dd-068d-4c14-8065-03c6861ff878_0.png
END:VEVENT
BEGIN:VEVENT
DTSTART;VALUE=DATE:20290223
DTEND;VALUE=DATE:20290224
DTSTAMP:20260425T223910
CREATED:20251207T173144Z
LAST-MODIFIED:20251210T025042Z
UID:10007949-1866499200-1866585599@caninecardio.com
SUMMARY:Bring‑a‑Friend Fridays
DESCRIPTION:If you bring a friend: \n\n\nYour friend gets their drink 50% off \n\n\nYour friend’s dog gets any gym activity 50% off \n\n\nTo activate: \n\n\nYou buy a drink \n\n\nYour dog completes a gym activity \n\n\nNo membership required.
URL:https://caninecardio.com/event/bring-a-friend-fridays/2029-02-23/
LOCATION:Club Canine Cardio\, 2709 S Oakland Street\, Arlington\, Virginia\, 22206\, United States
ATTACH;FMTTYPE=image/jpeg:https://caninecardio.com/wp-content/uploads/2025/11/AW3B7711_edited.jpg
END:VEVENT
BEGIN:VEVENT
DTSTART;TZID=America/New_York:20290225T110000
DTEND;TZID=America/New_York:20290225T120000
DTSTAMP:20260425T223910
CREATED:20251206T202809Z
LAST-MODIFIED:20251206T202809Z
UID:10006906-1866711600-1866715200@caninecardio.com
SUMMARY:Foster Fit Sundays
DESCRIPTION:To support local rescues and help foster dogs grow confident\, social\, and adoption-ready\, Club Canine Cardio hosts a weekly Foster Fit Hour with exclusive benefits for foster families. \n\nFoster Discount – 50% off ANY Dog Gym Activity\nApplies to all gym activities\, including: \n\nTreadmill\nTug Play\nWeight Pull\nAgility\nScent Work\nPool (if available)\nLure (seasonal)\n\nWho Qualifies\n\nAny dog currently in foster care through a rescue or shelter\nProof of foster status required at check-in\n\nWhy We Offer This\n\nHelps foster dogs build confidence\nProvides structured enrichment most rescues cannot offer\nGives fosters a fun Sunday outing\nGenerates highly shareable social content\nBuilds goodwill and long-term customers (fosters often return with their own dogs later)
URL:https://caninecardio.com/event/foster-fit-sundays/2029-02-25/
LOCATION:Club Canine Cardio\, 2709 S Oakland Street\, Arlington\, Virginia\, 22206\, United States
ATTACH;FMTTYPE=image/png:https://caninecardio.com/wp-content/uploads/2025/12/wpwizards_dynamic_dog_fitness_class_promotional_background_fo_6468bae4-9172-4497-bc78-2c20591f9e21_1-1.png
ORGANIZER;CN="Canine Cardio":MAILTO:fitpack@caninecardio.com
END:VEVENT
BEGIN:VEVENT
DTSTART;VALUE=DATE:20290227
DTEND;VALUE=DATE:20290228
DTSTAMP:20260425T223910
CREATED:20251207T171738Z
LAST-MODIFIED:20251207T171738Z
UID:10007167-1866844800-1866931199@caninecardio.com
SUMMARY:Treadmill Tuesdays
DESCRIPTION:50% off treadmill activity with any $20 bar purchase
URL:https://caninecardio.com/event/treadmill-tuesdays/2029-02-27/
LOCATION:Club Canine Cardio\, 2709 S Oakland Street\, Arlington\, Virginia\, 22206\, United States
ATTACH;FMTTYPE=image/jpeg:https://caninecardio.com/wp-content/uploads/2025/09/Dog_Treadmill_CLub2025.jpg
END:VEVENT
BEGIN:VEVENT
DTSTART;VALUE=DATE:20290228
DTEND;VALUE=DATE:20290301
DTSTAMP:20260425T223910
CREATED:20251207T172524Z
LAST-MODIFIED:20251207T172959Z
UID:10007689-1866931200-1867017599@caninecardio.com
SUMMARY:Working Dog Wednesday
DESCRIPTION:25% off all bar purchases and all gym services. \nEligible: First responders\, military\, service dogs\, working dog breeds\, sport dogs.
URL:https://caninecardio.com/event/working-dog-wednesday/2029-02-28/
LOCATION:Club Canine Cardio\, 2709 S Oakland Street\, Arlington\, Virginia\, 22206\, United States
ATTACH;FMTTYPE=image/png:https://caninecardio.com/wp-content/uploads/2025/12/wpwizards_group_of_working_dogs_with_their_owners_who_are_Fir_ead54880-45f8-4d18-8300-13d012451325_3.png
END:VEVENT
BEGIN:VEVENT
DTSTART;VALUE=DATE:20290301
DTEND;VALUE=DATE:20290302
DTSTAMP:20260425T223910
CREATED:20251207T172918Z
LAST-MODIFIED:20251210T025100Z
UID:10007429-1867017600-1867103999@caninecardio.com
SUMMARY:Prey Play Thursdays – Lure Coursing
DESCRIPTION:Gym Special: \n\n\n$10 off lure coursing \n\n\nBar Special: \n\n\n$2 off draft beers \n\n\nA hot dog for any dog that completes a lure‑coursing run
URL:https://caninecardio.com/event/prey-play-thursdays-lure-coursing/2029-03-01/
LOCATION:Club Canine Cardio\, 2709 S Oakland Street\, Arlington\, Virginia\, 22206\, United States
ATTACH;FMTTYPE=image/png:https://caninecardio.com/wp-content/uploads/2025/12/wpwizards_2_human_friends_sitting_together_drinking_a_beer_ch_8adee8dd-068d-4c14-8065-03c6861ff878_0.png
END:VEVENT
BEGIN:VEVENT
DTSTART;VALUE=DATE:20290302
DTEND;VALUE=DATE:20290303
DTSTAMP:20260425T223910
CREATED:20251207T173144Z
LAST-MODIFIED:20251210T025042Z
UID:10007950-1867104000-1867190399@caninecardio.com
SUMMARY:Bring‑a‑Friend Fridays
DESCRIPTION:If you bring a friend: \n\n\nYour friend gets their drink 50% off \n\n\nYour friend’s dog gets any gym activity 50% off \n\n\nTo activate: \n\n\nYou buy a drink \n\n\nYour dog completes a gym activity \n\n\nNo membership required.
URL:https://caninecardio.com/event/bring-a-friend-fridays/2029-03-02/
LOCATION:Club Canine Cardio\, 2709 S Oakland Street\, Arlington\, Virginia\, 22206\, United States
ATTACH;FMTTYPE=image/jpeg:https://caninecardio.com/wp-content/uploads/2025/11/AW3B7711_edited.jpg
END:VEVENT
BEGIN:VEVENT
DTSTART;TZID=America/New_York:20290304T110000
DTEND;TZID=America/New_York:20290304T120000
DTSTAMP:20260425T223910
CREATED:20251206T202809Z
LAST-MODIFIED:20251206T202809Z
UID:10006907-1867316400-1867320000@caninecardio.com
SUMMARY:Foster Fit Sundays
DESCRIPTION:To support local rescues and help foster dogs grow confident\, social\, and adoption-ready\, Club Canine Cardio hosts a weekly Foster Fit Hour with exclusive benefits for foster families. \n\nFoster Discount – 50% off ANY Dog Gym Activity\nApplies to all gym activities\, including: \n\nTreadmill\nTug Play\nWeight Pull\nAgility\nScent Work\nPool (if available)\nLure (seasonal)\n\nWho Qualifies\n\nAny dog currently in foster care through a rescue or shelter\nProof of foster status required at check-in\n\nWhy We Offer This\n\nHelps foster dogs build confidence\nProvides structured enrichment most rescues cannot offer\nGives fosters a fun Sunday outing\nGenerates highly shareable social content\nBuilds goodwill and long-term customers (fosters often return with their own dogs later)
URL:https://caninecardio.com/event/foster-fit-sundays/2029-03-04/
LOCATION:Club Canine Cardio\, 2709 S Oakland Street\, Arlington\, Virginia\, 22206\, United States
ATTACH;FMTTYPE=image/png:https://caninecardio.com/wp-content/uploads/2025/12/wpwizards_dynamic_dog_fitness_class_promotional_background_fo_6468bae4-9172-4497-bc78-2c20591f9e21_1-1.png
ORGANIZER;CN="Canine Cardio":MAILTO:fitpack@caninecardio.com
END:VEVENT
BEGIN:VEVENT
DTSTART;VALUE=DATE:20290306
DTEND;VALUE=DATE:20290307
DTSTAMP:20260425T223910
CREATED:20251207T171738Z
LAST-MODIFIED:20251207T171738Z
UID:10007168-1867449600-1867535999@caninecardio.com
SUMMARY:Treadmill Tuesdays
DESCRIPTION:50% off treadmill activity with any $20 bar purchase
URL:https://caninecardio.com/event/treadmill-tuesdays/2029-03-06/
LOCATION:Club Canine Cardio\, 2709 S Oakland Street\, Arlington\, Virginia\, 22206\, United States
ATTACH;FMTTYPE=image/jpeg:https://caninecardio.com/wp-content/uploads/2025/09/Dog_Treadmill_CLub2025.jpg
END:VEVENT
BEGIN:VEVENT
DTSTART;VALUE=DATE:20290307
DTEND;VALUE=DATE:20290308
DTSTAMP:20260425T223910
CREATED:20251207T172524Z
LAST-MODIFIED:20251207T172959Z
UID:10007690-1867536000-1867622399@caninecardio.com
SUMMARY:Working Dog Wednesday
DESCRIPTION:25% off all bar purchases and all gym services. \nEligible: First responders\, military\, service dogs\, working dog breeds\, sport dogs.
URL:https://caninecardio.com/event/working-dog-wednesday/2029-03-07/
LOCATION:Club Canine Cardio\, 2709 S Oakland Street\, Arlington\, Virginia\, 22206\, United States
ATTACH;FMTTYPE=image/png:https://caninecardio.com/wp-content/uploads/2025/12/wpwizards_group_of_working_dogs_with_their_owners_who_are_Fir_ead54880-45f8-4d18-8300-13d012451325_3.png
END:VEVENT
BEGIN:VEVENT
DTSTART;VALUE=DATE:20290308
DTEND;VALUE=DATE:20290309
DTSTAMP:20260425T223910
CREATED:20251207T172918Z
LAST-MODIFIED:20251210T025100Z
UID:10007430-1867622400-1867708799@caninecardio.com
SUMMARY:Prey Play Thursdays – Lure Coursing
DESCRIPTION:Gym Special: \n\n\n$10 off lure coursing \n\n\nBar Special: \n\n\n$2 off draft beers \n\n\nA hot dog for any dog that completes a lure‑coursing run
URL:https://caninecardio.com/event/prey-play-thursdays-lure-coursing/2029-03-08/
LOCATION:Club Canine Cardio\, 2709 S Oakland Street\, Arlington\, Virginia\, 22206\, United States
ATTACH;FMTTYPE=image/png:https://caninecardio.com/wp-content/uploads/2025/12/wpwizards_2_human_friends_sitting_together_drinking_a_beer_ch_8adee8dd-068d-4c14-8065-03c6861ff878_0.png
END:VEVENT
BEGIN:VEVENT
DTSTART;VALUE=DATE:20290309
DTEND;VALUE=DATE:20290310
DTSTAMP:20260425T223910
CREATED:20251207T173144Z
LAST-MODIFIED:20251210T025042Z
UID:10007951-1867708800-1867795199@caninecardio.com
SUMMARY:Bring‑a‑Friend Fridays
DESCRIPTION:If you bring a friend: \n\n\nYour friend gets their drink 50% off \n\n\nYour friend’s dog gets any gym activity 50% off \n\n\nTo activate: \n\n\nYou buy a drink \n\n\nYour dog completes a gym activity \n\n\nNo membership required.
URL:https://caninecardio.com/event/bring-a-friend-fridays/2029-03-09/
LOCATION:Club Canine Cardio\, 2709 S Oakland Street\, Arlington\, Virginia\, 22206\, United States
ATTACH;FMTTYPE=image/jpeg:https://caninecardio.com/wp-content/uploads/2025/11/AW3B7711_edited.jpg
END:VEVENT
END:VCALENDAR