BEGIN:VCALENDAR
VERSION:2.0
PRODID:-//Canine Cardio - ECPv6.15.20//NONSGML v1.0//EN
CALSCALE:GREGORIAN
METHOD:PUBLISH
X-WR-CALNAME:Canine Cardio
X-ORIGINAL-URL:https://caninecardio.com
X-WR-CALDESC:Events for Canine Cardio
REFRESH-INTERVAL;VALUE=DURATION:PT1H
X-Robots-Tag:noindex
X-PUBLISHED-TTL:PT1H
BEGIN:VTIMEZONE
TZID:America/New_York
BEGIN:DAYLIGHT
TZOFFSETFROM:-0500
TZOFFSETTO:-0400
TZNAME:EDT
DTSTART:20250309T070000
END:DAYLIGHT
BEGIN:STANDARD
TZOFFSETFROM:-0400
TZOFFSETTO:-0500
TZNAME:EST
DTSTART:20251102T060000
END:STANDARD
BEGIN:DAYLIGHT
TZOFFSETFROM:-0500
TZOFFSETTO:-0400
TZNAME:EDT
DTSTART:20260308T070000
END:DAYLIGHT
BEGIN:STANDARD
TZOFFSETFROM:-0400
TZOFFSETTO:-0500
TZNAME:EST
DTSTART:20261101T060000
END:STANDARD
BEGIN:DAYLIGHT
TZOFFSETFROM:-0500
TZOFFSETTO:-0400
TZNAME:EDT
DTSTART:20270314T070000
END:DAYLIGHT
BEGIN:STANDARD
TZOFFSETFROM:-0400
TZOFFSETTO:-0500
TZNAME:EST
DTSTART:20271107T060000
END:STANDARD
BEGIN:DAYLIGHT
TZOFFSETFROM:-0500
TZOFFSETTO:-0400
TZNAME:EDT
DTSTART:20280312T070000
END:DAYLIGHT
BEGIN:STANDARD
TZOFFSETFROM:-0400
TZOFFSETTO:-0500
TZNAME:EST
DTSTART:20281105T060000
END:STANDARD
END:VTIMEZONE
BEGIN:VEVENT
DTSTART;TZID=America/New_York:20261213T110000
DTEND;TZID=America/New_York:20261213T120000
DTSTAMP:20260422T174953
CREATED:20251206T202809Z
LAST-MODIFIED:20251206T202809Z
UID:10006791-1797159600-1797163200@caninecardio.com
SUMMARY:Foster Fit Sundays
DESCRIPTION:To support local rescues and help foster dogs grow confident\, social\, and adoption-ready\, Club Canine Cardio hosts a weekly Foster Fit Hour with exclusive benefits for foster families. \n\nFoster Discount – 50% off ANY Dog Gym Activity\nApplies to all gym activities\, including: \n\nTreadmill\nTug Play\nWeight Pull\nAgility\nScent Work\nPool (if available)\nLure (seasonal)\n\nWho Qualifies\n\nAny dog currently in foster care through a rescue or shelter\nProof of foster status required at check-in\n\nWhy We Offer This\n\nHelps foster dogs build confidence\nProvides structured enrichment most rescues cannot offer\nGives fosters a fun Sunday outing\nGenerates highly shareable social content\nBuilds goodwill and long-term customers (fosters often return with their own dogs later)
URL:https://caninecardio.com/event/foster-fit-sundays/2026-12-13/
LOCATION:Club Canine Cardio\, 2709 S Oakland Street\, Arlington\, Virginia\, 22206\, United States
ATTACH;FMTTYPE=image/png:https://caninecardio.com/wp-content/uploads/2025/12/wpwizards_dynamic_dog_fitness_class_promotional_background_fo_6468bae4-9172-4497-bc78-2c20591f9e21_1-1.png
ORGANIZER;CN="Canine Cardio":MAILTO:fitpack@caninecardio.com
END:VEVENT
BEGIN:VEVENT
DTSTART;VALUE=DATE:20261215
DTEND;VALUE=DATE:20261216
DTSTAMP:20260422T174953
CREATED:20251207T171738Z
LAST-MODIFIED:20251207T171738Z
UID:10007052-1797292800-1797379199@caninecardio.com
SUMMARY:Treadmill Tuesdays
DESCRIPTION:50% off treadmill activity with any $20 bar purchase
URL:https://caninecardio.com/event/treadmill-tuesdays/2026-12-15/
LOCATION:Club Canine Cardio\, 2709 S Oakland Street\, Arlington\, Virginia\, 22206\, United States
ATTACH;FMTTYPE=image/jpeg:https://caninecardio.com/wp-content/uploads/2025/09/Dog_Treadmill_CLub2025.jpg
END:VEVENT
BEGIN:VEVENT
DTSTART;VALUE=DATE:20261216
DTEND;VALUE=DATE:20261217
DTSTAMP:20260422T174953
CREATED:20251207T172524Z
LAST-MODIFIED:20251207T172959Z
UID:10007574-1797379200-1797465599@caninecardio.com
SUMMARY:Working Dog Wednesday
DESCRIPTION:25% off all bar purchases and all gym services. \nEligible: First responders\, military\, service dogs\, working dog breeds\, sport dogs.
URL:https://caninecardio.com/event/working-dog-wednesday/2026-12-16/
LOCATION:Club Canine Cardio\, 2709 S Oakland Street\, Arlington\, Virginia\, 22206\, United States
ATTACH;FMTTYPE=image/png:https://caninecardio.com/wp-content/uploads/2025/12/wpwizards_group_of_working_dogs_with_their_owners_who_are_Fir_ead54880-45f8-4d18-8300-13d012451325_3.png
END:VEVENT
BEGIN:VEVENT
DTSTART;VALUE=DATE:20261217
DTEND;VALUE=DATE:20261218
DTSTAMP:20260422T174953
CREATED:20251207T172918Z
LAST-MODIFIED:20251210T025100Z
UID:10007314-1797465600-1797551999@caninecardio.com
SUMMARY:Prey Play Thursdays – Lure Coursing
DESCRIPTION:Gym Special: \n\n\n$10 off lure coursing \n\n\nBar Special: \n\n\n$2 off draft beers \n\n\nA hot dog for any dog that completes a lure‑coursing run
URL:https://caninecardio.com/event/prey-play-thursdays-lure-coursing/2026-12-17/
LOCATION:Club Canine Cardio\, 2709 S Oakland Street\, Arlington\, Virginia\, 22206\, United States
ATTACH;FMTTYPE=image/png:https://caninecardio.com/wp-content/uploads/2025/12/wpwizards_2_human_friends_sitting_together_drinking_a_beer_ch_8adee8dd-068d-4c14-8065-03c6861ff878_0.png
END:VEVENT
BEGIN:VEVENT
DTSTART;VALUE=DATE:20261218
DTEND;VALUE=DATE:20261219
DTSTAMP:20260422T174953
CREATED:20251207T173144Z
LAST-MODIFIED:20251210T025042Z
UID:10007835-1797552000-1797638399@caninecardio.com
SUMMARY:Bring‑a‑Friend Fridays
DESCRIPTION:If you bring a friend: \n\n\nYour friend gets their drink 50% off \n\n\nYour friend’s dog gets any gym activity 50% off \n\n\nTo activate: \n\n\nYou buy a drink \n\n\nYour dog completes a gym activity \n\n\nNo membership required.
URL:https://caninecardio.com/event/bring-a-friend-fridays/2026-12-18/
LOCATION:Club Canine Cardio\, 2709 S Oakland Street\, Arlington\, Virginia\, 22206\, United States
ATTACH;FMTTYPE=image/jpeg:https://caninecardio.com/wp-content/uploads/2025/11/AW3B7711_edited.jpg
END:VEVENT
BEGIN:VEVENT
DTSTART;TZID=America/New_York:20261220T110000
DTEND;TZID=America/New_York:20261220T120000
DTSTAMP:20260422T174953
CREATED:20251206T202809Z
LAST-MODIFIED:20251206T202809Z
UID:10006792-1797764400-1797768000@caninecardio.com
SUMMARY:Foster Fit Sundays
DESCRIPTION:To support local rescues and help foster dogs grow confident\, social\, and adoption-ready\, Club Canine Cardio hosts a weekly Foster Fit Hour with exclusive benefits for foster families. \n\nFoster Discount – 50% off ANY Dog Gym Activity\nApplies to all gym activities\, including: \n\nTreadmill\nTug Play\nWeight Pull\nAgility\nScent Work\nPool (if available)\nLure (seasonal)\n\nWho Qualifies\n\nAny dog currently in foster care through a rescue or shelter\nProof of foster status required at check-in\n\nWhy We Offer This\n\nHelps foster dogs build confidence\nProvides structured enrichment most rescues cannot offer\nGives fosters a fun Sunday outing\nGenerates highly shareable social content\nBuilds goodwill and long-term customers (fosters often return with their own dogs later)
URL:https://caninecardio.com/event/foster-fit-sundays/2026-12-20/
LOCATION:Club Canine Cardio\, 2709 S Oakland Street\, Arlington\, Virginia\, 22206\, United States
ATTACH;FMTTYPE=image/png:https://caninecardio.com/wp-content/uploads/2025/12/wpwizards_dynamic_dog_fitness_class_promotional_background_fo_6468bae4-9172-4497-bc78-2c20591f9e21_1-1.png
ORGANIZER;CN="Canine Cardio":MAILTO:fitpack@caninecardio.com
END:VEVENT
BEGIN:VEVENT
DTSTART;VALUE=DATE:20261222
DTEND;VALUE=DATE:20261223
DTSTAMP:20260422T174953
CREATED:20251207T171738Z
LAST-MODIFIED:20251207T171738Z
UID:10007053-1797897600-1797983999@caninecardio.com
SUMMARY:Treadmill Tuesdays
DESCRIPTION:50% off treadmill activity with any $20 bar purchase
URL:https://caninecardio.com/event/treadmill-tuesdays/2026-12-22/
LOCATION:Club Canine Cardio\, 2709 S Oakland Street\, Arlington\, Virginia\, 22206\, United States
ATTACH;FMTTYPE=image/jpeg:https://caninecardio.com/wp-content/uploads/2025/09/Dog_Treadmill_CLub2025.jpg
END:VEVENT
BEGIN:VEVENT
DTSTART;VALUE=DATE:20261223
DTEND;VALUE=DATE:20261224
DTSTAMP:20260422T174953
CREATED:20251207T172524Z
LAST-MODIFIED:20251207T172959Z
UID:10007575-1797984000-1798070399@caninecardio.com
SUMMARY:Working Dog Wednesday
DESCRIPTION:25% off all bar purchases and all gym services. \nEligible: First responders\, military\, service dogs\, working dog breeds\, sport dogs.
URL:https://caninecardio.com/event/working-dog-wednesday/2026-12-23/
LOCATION:Club Canine Cardio\, 2709 S Oakland Street\, Arlington\, Virginia\, 22206\, United States
ATTACH;FMTTYPE=image/png:https://caninecardio.com/wp-content/uploads/2025/12/wpwizards_group_of_working_dogs_with_their_owners_who_are_Fir_ead54880-45f8-4d18-8300-13d012451325_3.png
END:VEVENT
BEGIN:VEVENT
DTSTART;VALUE=DATE:20261224
DTEND;VALUE=DATE:20261225
DTSTAMP:20260422T174953
CREATED:20251207T172918Z
LAST-MODIFIED:20251210T025100Z
UID:10007315-1798070400-1798156799@caninecardio.com
SUMMARY:Prey Play Thursdays – Lure Coursing
DESCRIPTION:Gym Special: \n\n\n$10 off lure coursing \n\n\nBar Special: \n\n\n$2 off draft beers \n\n\nA hot dog for any dog that completes a lure‑coursing run
URL:https://caninecardio.com/event/prey-play-thursdays-lure-coursing/2026-12-24/
LOCATION:Club Canine Cardio\, 2709 S Oakland Street\, Arlington\, Virginia\, 22206\, United States
ATTACH;FMTTYPE=image/png:https://caninecardio.com/wp-content/uploads/2025/12/wpwizards_2_human_friends_sitting_together_drinking_a_beer_ch_8adee8dd-068d-4c14-8065-03c6861ff878_0.png
END:VEVENT
BEGIN:VEVENT
DTSTART;VALUE=DATE:20261225
DTEND;VALUE=DATE:20261226
DTSTAMP:20260422T174953
CREATED:20251207T173144Z
LAST-MODIFIED:20251210T025042Z
UID:10007836-1798156800-1798243199@caninecardio.com
SUMMARY:Bring‑a‑Friend Fridays
DESCRIPTION:If you bring a friend: \n\n\nYour friend gets their drink 50% off \n\n\nYour friend’s dog gets any gym activity 50% off \n\n\nTo activate: \n\n\nYou buy a drink \n\n\nYour dog completes a gym activity \n\n\nNo membership required.
URL:https://caninecardio.com/event/bring-a-friend-fridays/2026-12-25/
LOCATION:Club Canine Cardio\, 2709 S Oakland Street\, Arlington\, Virginia\, 22206\, United States
ATTACH;FMTTYPE=image/jpeg:https://caninecardio.com/wp-content/uploads/2025/11/AW3B7711_edited.jpg
END:VEVENT
BEGIN:VEVENT
DTSTART;TZID=America/New_York:20261227T110000
DTEND;TZID=America/New_York:20261227T120000
DTSTAMP:20260422T174953
CREATED:20251206T202809Z
LAST-MODIFIED:20251206T202809Z
UID:10006793-1798369200-1798372800@caninecardio.com
SUMMARY:Foster Fit Sundays
DESCRIPTION:To support local rescues and help foster dogs grow confident\, social\, and adoption-ready\, Club Canine Cardio hosts a weekly Foster Fit Hour with exclusive benefits for foster families. \n\nFoster Discount – 50% off ANY Dog Gym Activity\nApplies to all gym activities\, including: \n\nTreadmill\nTug Play\nWeight Pull\nAgility\nScent Work\nPool (if available)\nLure (seasonal)\n\nWho Qualifies\n\nAny dog currently in foster care through a rescue or shelter\nProof of foster status required at check-in\n\nWhy We Offer This\n\nHelps foster dogs build confidence\nProvides structured enrichment most rescues cannot offer\nGives fosters a fun Sunday outing\nGenerates highly shareable social content\nBuilds goodwill and long-term customers (fosters often return with their own dogs later)
URL:https://caninecardio.com/event/foster-fit-sundays/2026-12-27/
LOCATION:Club Canine Cardio\, 2709 S Oakland Street\, Arlington\, Virginia\, 22206\, United States
ATTACH;FMTTYPE=image/png:https://caninecardio.com/wp-content/uploads/2025/12/wpwizards_dynamic_dog_fitness_class_promotional_background_fo_6468bae4-9172-4497-bc78-2c20591f9e21_1-1.png
ORGANIZER;CN="Canine Cardio":MAILTO:fitpack@caninecardio.com
END:VEVENT
BEGIN:VEVENT
DTSTART;VALUE=DATE:20261229
DTEND;VALUE=DATE:20261230
DTSTAMP:20260422T174953
CREATED:20251207T171738Z
LAST-MODIFIED:20251207T171738Z
UID:10007054-1798502400-1798588799@caninecardio.com
SUMMARY:Treadmill Tuesdays
DESCRIPTION:50% off treadmill activity with any $20 bar purchase
URL:https://caninecardio.com/event/treadmill-tuesdays/2026-12-29/
LOCATION:Club Canine Cardio\, 2709 S Oakland Street\, Arlington\, Virginia\, 22206\, United States
ATTACH;FMTTYPE=image/jpeg:https://caninecardio.com/wp-content/uploads/2025/09/Dog_Treadmill_CLub2025.jpg
END:VEVENT
BEGIN:VEVENT
DTSTART;VALUE=DATE:20261230
DTEND;VALUE=DATE:20261231
DTSTAMP:20260422T174953
CREATED:20251207T172524Z
LAST-MODIFIED:20251207T172959Z
UID:10007576-1798588800-1798675199@caninecardio.com
SUMMARY:Working Dog Wednesday
DESCRIPTION:25% off all bar purchases and all gym services. \nEligible: First responders\, military\, service dogs\, working dog breeds\, sport dogs.
URL:https://caninecardio.com/event/working-dog-wednesday/2026-12-30/
LOCATION:Club Canine Cardio\, 2709 S Oakland Street\, Arlington\, Virginia\, 22206\, United States
ATTACH;FMTTYPE=image/png:https://caninecardio.com/wp-content/uploads/2025/12/wpwizards_group_of_working_dogs_with_their_owners_who_are_Fir_ead54880-45f8-4d18-8300-13d012451325_3.png
END:VEVENT
BEGIN:VEVENT
DTSTART;VALUE=DATE:20261231
DTEND;VALUE=DATE:20270101
DTSTAMP:20260422T174953
CREATED:20251207T172918Z
LAST-MODIFIED:20251210T025100Z
UID:10007316-1798675200-1798761599@caninecardio.com
SUMMARY:Prey Play Thursdays – Lure Coursing
DESCRIPTION:Gym Special: \n\n\n$10 off lure coursing \n\n\nBar Special: \n\n\n$2 off draft beers \n\n\nA hot dog for any dog that completes a lure‑coursing run
URL:https://caninecardio.com/event/prey-play-thursdays-lure-coursing/2026-12-31/
LOCATION:Club Canine Cardio\, 2709 S Oakland Street\, Arlington\, Virginia\, 22206\, United States
ATTACH;FMTTYPE=image/png:https://caninecardio.com/wp-content/uploads/2025/12/wpwizards_2_human_friends_sitting_together_drinking_a_beer_ch_8adee8dd-068d-4c14-8065-03c6861ff878_0.png
END:VEVENT
BEGIN:VEVENT
DTSTART;VALUE=DATE:20270101
DTEND;VALUE=DATE:20270102
DTSTAMP:20260422T174953
CREATED:20251207T173144Z
LAST-MODIFIED:20251210T025042Z
UID:10007837-1798761600-1798847999@caninecardio.com
SUMMARY:Bring‑a‑Friend Fridays
DESCRIPTION:If you bring a friend: \n\n\nYour friend gets their drink 50% off \n\n\nYour friend’s dog gets any gym activity 50% off \n\n\nTo activate: \n\n\nYou buy a drink \n\n\nYour dog completes a gym activity \n\n\nNo membership required.
URL:https://caninecardio.com/event/bring-a-friend-fridays/2027-01-01/
LOCATION:Club Canine Cardio\, 2709 S Oakland Street\, Arlington\, Virginia\, 22206\, United States
ATTACH;FMTTYPE=image/jpeg:https://caninecardio.com/wp-content/uploads/2025/11/AW3B7711_edited.jpg
END:VEVENT
BEGIN:VEVENT
DTSTART;TZID=America/New_York:20270103T110000
DTEND;TZID=America/New_York:20270103T120000
DTSTAMP:20260422T174953
CREATED:20251206T202809Z
LAST-MODIFIED:20251206T202809Z
UID:10006794-1798974000-1798977600@caninecardio.com
SUMMARY:Foster Fit Sundays
DESCRIPTION:To support local rescues and help foster dogs grow confident\, social\, and adoption-ready\, Club Canine Cardio hosts a weekly Foster Fit Hour with exclusive benefits for foster families. \n\nFoster Discount – 50% off ANY Dog Gym Activity\nApplies to all gym activities\, including: \n\nTreadmill\nTug Play\nWeight Pull\nAgility\nScent Work\nPool (if available)\nLure (seasonal)\n\nWho Qualifies\n\nAny dog currently in foster care through a rescue or shelter\nProof of foster status required at check-in\n\nWhy We Offer This\n\nHelps foster dogs build confidence\nProvides structured enrichment most rescues cannot offer\nGives fosters a fun Sunday outing\nGenerates highly shareable social content\nBuilds goodwill and long-term customers (fosters often return with their own dogs later)
URL:https://caninecardio.com/event/foster-fit-sundays/2027-01-03/
LOCATION:Club Canine Cardio\, 2709 S Oakland Street\, Arlington\, Virginia\, 22206\, United States
ATTACH;FMTTYPE=image/png:https://caninecardio.com/wp-content/uploads/2025/12/wpwizards_dynamic_dog_fitness_class_promotional_background_fo_6468bae4-9172-4497-bc78-2c20591f9e21_1-1.png
ORGANIZER;CN="Canine Cardio":MAILTO:fitpack@caninecardio.com
END:VEVENT
BEGIN:VEVENT
DTSTART;VALUE=DATE:20270105
DTEND;VALUE=DATE:20270106
DTSTAMP:20260422T174953
CREATED:20251207T171738Z
LAST-MODIFIED:20251207T171738Z
UID:10007055-1799107200-1799193599@caninecardio.com
SUMMARY:Treadmill Tuesdays
DESCRIPTION:50% off treadmill activity with any $20 bar purchase
URL:https://caninecardio.com/event/treadmill-tuesdays/2027-01-05/
LOCATION:Club Canine Cardio\, 2709 S Oakland Street\, Arlington\, Virginia\, 22206\, United States
ATTACH;FMTTYPE=image/jpeg:https://caninecardio.com/wp-content/uploads/2025/09/Dog_Treadmill_CLub2025.jpg
END:VEVENT
BEGIN:VEVENT
DTSTART;VALUE=DATE:20270106
DTEND;VALUE=DATE:20270107
DTSTAMP:20260422T174953
CREATED:20251207T172524Z
LAST-MODIFIED:20251207T172959Z
UID:10007577-1799193600-1799279999@caninecardio.com
SUMMARY:Working Dog Wednesday
DESCRIPTION:25% off all bar purchases and all gym services. \nEligible: First responders\, military\, service dogs\, working dog breeds\, sport dogs.
URL:https://caninecardio.com/event/working-dog-wednesday/2027-01-06/
LOCATION:Club Canine Cardio\, 2709 S Oakland Street\, Arlington\, Virginia\, 22206\, United States
ATTACH;FMTTYPE=image/png:https://caninecardio.com/wp-content/uploads/2025/12/wpwizards_group_of_working_dogs_with_their_owners_who_are_Fir_ead54880-45f8-4d18-8300-13d012451325_3.png
END:VEVENT
BEGIN:VEVENT
DTSTART;VALUE=DATE:20270107
DTEND;VALUE=DATE:20270108
DTSTAMP:20260422T174953
CREATED:20251207T172918Z
LAST-MODIFIED:20251210T025100Z
UID:10007317-1799280000-1799366399@caninecardio.com
SUMMARY:Prey Play Thursdays – Lure Coursing
DESCRIPTION:Gym Special: \n\n\n$10 off lure coursing \n\n\nBar Special: \n\n\n$2 off draft beers \n\n\nA hot dog for any dog that completes a lure‑coursing run
URL:https://caninecardio.com/event/prey-play-thursdays-lure-coursing/2027-01-07/
LOCATION:Club Canine Cardio\, 2709 S Oakland Street\, Arlington\, Virginia\, 22206\, United States
ATTACH;FMTTYPE=image/png:https://caninecardio.com/wp-content/uploads/2025/12/wpwizards_2_human_friends_sitting_together_drinking_a_beer_ch_8adee8dd-068d-4c14-8065-03c6861ff878_0.png
END:VEVENT
BEGIN:VEVENT
DTSTART;VALUE=DATE:20270108
DTEND;VALUE=DATE:20270109
DTSTAMP:20260422T174953
CREATED:20251207T173144Z
LAST-MODIFIED:20251210T025042Z
UID:10007838-1799366400-1799452799@caninecardio.com
SUMMARY:Bring‑a‑Friend Fridays
DESCRIPTION:If you bring a friend: \n\n\nYour friend gets their drink 50% off \n\n\nYour friend’s dog gets any gym activity 50% off \n\n\nTo activate: \n\n\nYou buy a drink \n\n\nYour dog completes a gym activity \n\n\nNo membership required.
URL:https://caninecardio.com/event/bring-a-friend-fridays/2027-01-08/
LOCATION:Club Canine Cardio\, 2709 S Oakland Street\, Arlington\, Virginia\, 22206\, United States
ATTACH;FMTTYPE=image/jpeg:https://caninecardio.com/wp-content/uploads/2025/11/AW3B7711_edited.jpg
END:VEVENT
BEGIN:VEVENT
DTSTART;TZID=America/New_York:20270110T110000
DTEND;TZID=America/New_York:20270110T120000
DTSTAMP:20260422T174953
CREATED:20251206T202809Z
LAST-MODIFIED:20251206T202809Z
UID:10006795-1799578800-1799582400@caninecardio.com
SUMMARY:Foster Fit Sundays
DESCRIPTION:To support local rescues and help foster dogs grow confident\, social\, and adoption-ready\, Club Canine Cardio hosts a weekly Foster Fit Hour with exclusive benefits for foster families. \n\nFoster Discount – 50% off ANY Dog Gym Activity\nApplies to all gym activities\, including: \n\nTreadmill\nTug Play\nWeight Pull\nAgility\nScent Work\nPool (if available)\nLure (seasonal)\n\nWho Qualifies\n\nAny dog currently in foster care through a rescue or shelter\nProof of foster status required at check-in\n\nWhy We Offer This\n\nHelps foster dogs build confidence\nProvides structured enrichment most rescues cannot offer\nGives fosters a fun Sunday outing\nGenerates highly shareable social content\nBuilds goodwill and long-term customers (fosters often return with their own dogs later)
URL:https://caninecardio.com/event/foster-fit-sundays/2027-01-10/
LOCATION:Club Canine Cardio\, 2709 S Oakland Street\, Arlington\, Virginia\, 22206\, United States
ATTACH;FMTTYPE=image/png:https://caninecardio.com/wp-content/uploads/2025/12/wpwizards_dynamic_dog_fitness_class_promotional_background_fo_6468bae4-9172-4497-bc78-2c20591f9e21_1-1.png
ORGANIZER;CN="Canine Cardio":MAILTO:fitpack@caninecardio.com
END:VEVENT
BEGIN:VEVENT
DTSTART;VALUE=DATE:20270112
DTEND;VALUE=DATE:20270113
DTSTAMP:20260422T174953
CREATED:20251207T171738Z
LAST-MODIFIED:20251207T171738Z
UID:10007056-1799712000-1799798399@caninecardio.com
SUMMARY:Treadmill Tuesdays
DESCRIPTION:50% off treadmill activity with any $20 bar purchase
URL:https://caninecardio.com/event/treadmill-tuesdays/2027-01-12/
LOCATION:Club Canine Cardio\, 2709 S Oakland Street\, Arlington\, Virginia\, 22206\, United States
ATTACH;FMTTYPE=image/jpeg:https://caninecardio.com/wp-content/uploads/2025/09/Dog_Treadmill_CLub2025.jpg
END:VEVENT
BEGIN:VEVENT
DTSTART;VALUE=DATE:20270113
DTEND;VALUE=DATE:20270114
DTSTAMP:20260422T174953
CREATED:20251207T172524Z
LAST-MODIFIED:20251207T172959Z
UID:10007578-1799798400-1799884799@caninecardio.com
SUMMARY:Working Dog Wednesday
DESCRIPTION:25% off all bar purchases and all gym services. \nEligible: First responders\, military\, service dogs\, working dog breeds\, sport dogs.
URL:https://caninecardio.com/event/working-dog-wednesday/2027-01-13/
LOCATION:Club Canine Cardio\, 2709 S Oakland Street\, Arlington\, Virginia\, 22206\, United States
ATTACH;FMTTYPE=image/png:https://caninecardio.com/wp-content/uploads/2025/12/wpwizards_group_of_working_dogs_with_their_owners_who_are_Fir_ead54880-45f8-4d18-8300-13d012451325_3.png
END:VEVENT
BEGIN:VEVENT
DTSTART;VALUE=DATE:20270114
DTEND;VALUE=DATE:20270115
DTSTAMP:20260422T174953
CREATED:20251207T172918Z
LAST-MODIFIED:20251210T025100Z
UID:10007318-1799884800-1799971199@caninecardio.com
SUMMARY:Prey Play Thursdays – Lure Coursing
DESCRIPTION:Gym Special: \n\n\n$10 off lure coursing \n\n\nBar Special: \n\n\n$2 off draft beers \n\n\nA hot dog for any dog that completes a lure‑coursing run
URL:https://caninecardio.com/event/prey-play-thursdays-lure-coursing/2027-01-14/
LOCATION:Club Canine Cardio\, 2709 S Oakland Street\, Arlington\, Virginia\, 22206\, United States
ATTACH;FMTTYPE=image/png:https://caninecardio.com/wp-content/uploads/2025/12/wpwizards_2_human_friends_sitting_together_drinking_a_beer_ch_8adee8dd-068d-4c14-8065-03c6861ff878_0.png
END:VEVENT
BEGIN:VEVENT
DTSTART;VALUE=DATE:20270115
DTEND;VALUE=DATE:20270116
DTSTAMP:20260422T174953
CREATED:20251207T173144Z
LAST-MODIFIED:20251210T025042Z
UID:10007839-1799971200-1800057599@caninecardio.com
SUMMARY:Bring‑a‑Friend Fridays
DESCRIPTION:If you bring a friend: \n\n\nYour friend gets their drink 50% off \n\n\nYour friend’s dog gets any gym activity 50% off \n\n\nTo activate: \n\n\nYou buy a drink \n\n\nYour dog completes a gym activity \n\n\nNo membership required.
URL:https://caninecardio.com/event/bring-a-friend-fridays/2027-01-15/
LOCATION:Club Canine Cardio\, 2709 S Oakland Street\, Arlington\, Virginia\, 22206\, United States
ATTACH;FMTTYPE=image/jpeg:https://caninecardio.com/wp-content/uploads/2025/11/AW3B7711_edited.jpg
END:VEVENT
BEGIN:VEVENT
DTSTART;TZID=America/New_York:20270117T110000
DTEND;TZID=America/New_York:20270117T120000
DTSTAMP:20260422T174953
CREATED:20251206T202809Z
LAST-MODIFIED:20251206T202809Z
UID:10006796-1800183600-1800187200@caninecardio.com
SUMMARY:Foster Fit Sundays
DESCRIPTION:To support local rescues and help foster dogs grow confident\, social\, and adoption-ready\, Club Canine Cardio hosts a weekly Foster Fit Hour with exclusive benefits for foster families. \n\nFoster Discount – 50% off ANY Dog Gym Activity\nApplies to all gym activities\, including: \n\nTreadmill\nTug Play\nWeight Pull\nAgility\nScent Work\nPool (if available)\nLure (seasonal)\n\nWho Qualifies\n\nAny dog currently in foster care through a rescue or shelter\nProof of foster status required at check-in\n\nWhy We Offer This\n\nHelps foster dogs build confidence\nProvides structured enrichment most rescues cannot offer\nGives fosters a fun Sunday outing\nGenerates highly shareable social content\nBuilds goodwill and long-term customers (fosters often return with their own dogs later)
URL:https://caninecardio.com/event/foster-fit-sundays/2027-01-17/
LOCATION:Club Canine Cardio\, 2709 S Oakland Street\, Arlington\, Virginia\, 22206\, United States
ATTACH;FMTTYPE=image/png:https://caninecardio.com/wp-content/uploads/2025/12/wpwizards_dynamic_dog_fitness_class_promotional_background_fo_6468bae4-9172-4497-bc78-2c20591f9e21_1-1.png
ORGANIZER;CN="Canine Cardio":MAILTO:fitpack@caninecardio.com
END:VEVENT
BEGIN:VEVENT
DTSTART;VALUE=DATE:20270119
DTEND;VALUE=DATE:20270120
DTSTAMP:20260422T174953
CREATED:20251207T171738Z
LAST-MODIFIED:20251207T171738Z
UID:10007057-1800316800-1800403199@caninecardio.com
SUMMARY:Treadmill Tuesdays
DESCRIPTION:50% off treadmill activity with any $20 bar purchase
URL:https://caninecardio.com/event/treadmill-tuesdays/2027-01-19/
LOCATION:Club Canine Cardio\, 2709 S Oakland Street\, Arlington\, Virginia\, 22206\, United States
ATTACH;FMTTYPE=image/jpeg:https://caninecardio.com/wp-content/uploads/2025/09/Dog_Treadmill_CLub2025.jpg
END:VEVENT
BEGIN:VEVENT
DTSTART;VALUE=DATE:20270120
DTEND;VALUE=DATE:20270121
DTSTAMP:20260422T174953
CREATED:20251207T172524Z
LAST-MODIFIED:20251207T172959Z
UID:10007579-1800403200-1800489599@caninecardio.com
SUMMARY:Working Dog Wednesday
DESCRIPTION:25% off all bar purchases and all gym services. \nEligible: First responders\, military\, service dogs\, working dog breeds\, sport dogs.
URL:https://caninecardio.com/event/working-dog-wednesday/2027-01-20/
LOCATION:Club Canine Cardio\, 2709 S Oakland Street\, Arlington\, Virginia\, 22206\, United States
ATTACH;FMTTYPE=image/png:https://caninecardio.com/wp-content/uploads/2025/12/wpwizards_group_of_working_dogs_with_their_owners_who_are_Fir_ead54880-45f8-4d18-8300-13d012451325_3.png
END:VEVENT
BEGIN:VEVENT
DTSTART;VALUE=DATE:20270121
DTEND;VALUE=DATE:20270122
DTSTAMP:20260422T174953
CREATED:20251207T172918Z
LAST-MODIFIED:20251210T025100Z
UID:10007319-1800489600-1800575999@caninecardio.com
SUMMARY:Prey Play Thursdays – Lure Coursing
DESCRIPTION:Gym Special: \n\n\n$10 off lure coursing \n\n\nBar Special: \n\n\n$2 off draft beers \n\n\nA hot dog for any dog that completes a lure‑coursing run
URL:https://caninecardio.com/event/prey-play-thursdays-lure-coursing/2027-01-21/
LOCATION:Club Canine Cardio\, 2709 S Oakland Street\, Arlington\, Virginia\, 22206\, United States
ATTACH;FMTTYPE=image/png:https://caninecardio.com/wp-content/uploads/2025/12/wpwizards_2_human_friends_sitting_together_drinking_a_beer_ch_8adee8dd-068d-4c14-8065-03c6861ff878_0.png
END:VEVENT
BEGIN:VEVENT
DTSTART;VALUE=DATE:20270122
DTEND;VALUE=DATE:20270123
DTSTAMP:20260422T174953
CREATED:20251207T173144Z
LAST-MODIFIED:20251210T025042Z
UID:10007840-1800576000-1800662399@caninecardio.com
SUMMARY:Bring‑a‑Friend Fridays
DESCRIPTION:If you bring a friend: \n\n\nYour friend gets their drink 50% off \n\n\nYour friend’s dog gets any gym activity 50% off \n\n\nTo activate: \n\n\nYou buy a drink \n\n\nYour dog completes a gym activity \n\n\nNo membership required.
URL:https://caninecardio.com/event/bring-a-friend-fridays/2027-01-22/
LOCATION:Club Canine Cardio\, 2709 S Oakland Street\, Arlington\, Virginia\, 22206\, United States
ATTACH;FMTTYPE=image/jpeg:https://caninecardio.com/wp-content/uploads/2025/11/AW3B7711_edited.jpg
END:VEVENT
END:VCALENDAR