BEGIN:VCALENDAR
VERSION:2.0
PRODID:-//Canine Cardio - ECPv6.15.20//NONSGML v1.0//EN
CALSCALE:GREGORIAN
METHOD:PUBLISH
X-WR-CALNAME:Canine Cardio
X-ORIGINAL-URL:https://caninecardio.com
X-WR-CALDESC:Events for Canine Cardio
REFRESH-INTERVAL;VALUE=DURATION:PT1H
X-Robots-Tag:noindex
X-PUBLISHED-TTL:PT1H
BEGIN:VTIMEZONE
TZID:America/New_York
BEGIN:DAYLIGHT
TZOFFSETFROM:-0500
TZOFFSETTO:-0400
TZNAME:EDT
DTSTART:20230312T070000
END:DAYLIGHT
BEGIN:STANDARD
TZOFFSETFROM:-0400
TZOFFSETTO:-0500
TZNAME:EST
DTSTART:20231105T060000
END:STANDARD
BEGIN:DAYLIGHT
TZOFFSETFROM:-0500
TZOFFSETTO:-0400
TZNAME:EDT
DTSTART:20240310T070000
END:DAYLIGHT
BEGIN:STANDARD
TZOFFSETFROM:-0400
TZOFFSETTO:-0500
TZNAME:EST
DTSTART:20241103T060000
END:STANDARD
BEGIN:DAYLIGHT
TZOFFSETFROM:-0500
TZOFFSETTO:-0400
TZNAME:EDT
DTSTART:20250309T070000
END:DAYLIGHT
BEGIN:STANDARD
TZOFFSETFROM:-0400
TZOFFSETTO:-0500
TZNAME:EST
DTSTART:20251102T060000
END:STANDARD
END:VTIMEZONE
BEGIN:VEVENT
DTSTART;TZID=America/New_York:20240903T183000
DTEND;TZID=America/New_York:20240903T203000
DTSTAMP:20260423T020142
CREATED:20240326T183500Z
LAST-MODIFIED:20240614T174917Z
UID:10003946-1725388200-1725395400@caninecardio.com
SUMMARY:Live & Local Music Nights at Snouts & Stouts
DESCRIPTION: Join us for an intimate evening celebrating the unique musical styles and performances of our local artists. From acoustic melodies to electrifying beats\, our Local Music Artist Nights promise an unforgettable experience.\n\n\n\nBring your friends\, grab a drink\, and support the incredible talent our neighborhood boasts. Let the local music scene captivate your senses at Snouts & Stouts!
URL:https://caninecardio.com/event/local-music-artist-nights-at-snouts-stouts-2/2024-09-03/
LOCATION:Snouts & Stouts\, 2709 S Oakland St\, Arlington\, VA\, 22206\, United States
ATTACH;FMTTYPE=image/webp:https://caninecardio.com/wp-content/uploads/2024/02/044b57_2b3c57bdc0074b0dab5e6b5ebd29201amv2.webp
END:VEVENT
BEGIN:VEVENT
DTSTART;TZID=America/New_York:20240903T190000
DTEND;TZID=America/New_York:20240903T210000
DTSTAMP:20260423T020142
CREATED:20240829T232337Z
LAST-MODIFIED:20250513T180511Z
UID:10005070-1725390000-1725397200@caninecardio.com
SUMMARY:Puppy Yoga with Canine Cardio and Zweet Sport
DESCRIPTION:YOU MUST BRING YOUR OWN YOGA MAT FOR THIS EVENT!\nJoin us for a unique and delightful experience with Puppy Yoga\, hosted by Canine Cardio and Zweet Sport! \nTickets: $20 \nEvent Details: \n\nYoga with Puppies: Practice yoga surrounded by adorable 2-month-old puppies\, all available for adoption. It’s a perfect way to help these puppies get socialized while you enjoy a relaxing and fun yoga session.\nAdoptable Puppies: All puppies participating in the event are looking for loving homes. This is a great opportunity to meet them and potentially find a new furry friend.\nPlease Note: Participants cannot bring their own dogs into the yoga space.\n\nDon’t miss out on this heartwarming event. Secure your spot today and enjoy an evening of yoga\, puppies\, and pure joy!
URL:https://caninecardio.com/event/puppy-yoga-with-canine-cardio-and-zweet-sport-4/
ATTACH;FMTTYPE=image/png:https://caninecardio.com/wp-content/uploads/2024/07/PuppyYoga_ZweetSport_SNS_CC.png
END:VEVENT
BEGIN:VEVENT
DTSTART;TZID=America/New_York:20240904T170000
DTEND;TZID=America/New_York:20240904T200000
DTSTAMP:20260423T020142
CREATED:20240724T180435Z
LAST-MODIFIED:20250513T180511Z
UID:10005064-1725469200-1725480000@caninecardio.com
SUMMARY:Breed Meet-Up Wednesdays at Snouts & Stouts | Huskies
DESCRIPTION:Join us for Breed Meet-Up Wednesdays from 5:00 PM to 8:00 PM at Snouts & Stouts! \nEvent Details: \n\nDate & Time: Every Wednesday from 5:00 PM to 8:00 PM\nWeekly Featured Breed: Huskies\n\nAbout Breed Meet-Up Wednesdays: Every Wednesday\, we will feature a different dog breed\, providing a great opportunity for dog owners to connect with others who have the same breed and for the dogs to socialize and play together. Enjoy our indoor dog park and bar while your furry friend makes new friends! \nStay tuned for the announcement of the breed for each week and mark your calendars for a fun and social evening at Snouts & Stouts! \nDon’t miss out on these fun-filled Wednesdays. We can’t wait to see you and your pups there!
URL:https://caninecardio.com/event/breed-meet-up-wednesdays-at-snouts-stouts-huskies/
ATTACH;FMTTYPE=image/png:https://caninecardio.com/wp-content/uploads/2024/07/Vaccination-Clinic-by-Heart-to-Heart-Mobile-Pet-Care.png
END:VEVENT
BEGIN:VEVENT
DTSTART;TZID=America/New_York:20240911T170000
DTEND;TZID=America/New_York:20240911T200000
DTSTAMP:20260423T020142
CREATED:20240709T222055Z
LAST-MODIFIED:20250513T180510Z
UID:10004791-1726074000-1726084800@caninecardio.com
SUMMARY:Breed Meet-Up Wednesdays at Snouts & Stouts | German Shorthaired Pointers
DESCRIPTION:Join us for Breed Meet-Up Wednesdays from 5:00 PM to 8:00 PM at Snouts & Stouts! \nEvent Details: \n\nDate & Time: Every Wednesday from 5:00 PM to 8:00 PM\nWeekly Featured Breed: German Shorthaired Pointers\n\nAbout Breed Meet-Up Wednesdays: Every Wednesday\, we will feature a different dog breed\, providing a great opportunity for dog owners to connect with others who have the same breed and for the dogs to socialize and play together. Enjoy our indoor dog park and bar while your furry friend makes new friends! \nStay tuned for the announcement of the breed for each week and mark your calendars for a fun and social evening at Snouts & Stouts! \nDon’t miss out on these fun-filled Wednesdays. We can’t wait to see you and your pups there!
URL:https://caninecardio.com/event/breed-meet-up-wednesdays-german-shorthaired-pointers/
ATTACH;FMTTYPE=image/png:https://caninecardio.com/wp-content/uploads/2024/07/Vaccination-Clinic-by-Heart-to-Heart-Mobile-Pet-Care.png
END:VEVENT
BEGIN:VEVENT
DTSTART;TZID=America/New_York:20240918T170000
DTEND;TZID=America/New_York:20240918T200000
DTSTAMP:20260423T020142
CREATED:20240709T222039Z
LAST-MODIFIED:20250513T180510Z
UID:10004792-1726678800-1726689600@caninecardio.com
SUMMARY:Breed Meet-Up Wednesdays at Snouts & Stouts | Rhodesian Ridgeback
DESCRIPTION:Join us for Breed Meet-Up Wednesdays from 5:00 PM to 8:00 PM at Snouts & Stouts! \nEvent Details: \n\nDate & Time: Every Wednesday from 5:00 PM to 8:00 PM\nWeekly Featured Breed: Rhodesian Ridgeback\n\nAbout Breed Meet-Up Wednesdays: Every Wednesday\, we will feature a different dog breed\, providing a great opportunity for dog owners to connect with others who have the same breed and for the dogs to socialize and play together. Enjoy our indoor dog park and bar while your furry friend makes new friends! \nStay tuned for the announcement of the breed for each week and mark your calendars for a fun and social evening at Snouts & Stouts! \nDon’t miss out on these fun-filled Wednesdays. We can’t wait to see you and your pups there!
URL:https://caninecardio.com/event/breed-meet-up-wednesdays-rhodesian-ridgeback/
ATTACH;FMTTYPE=image/png:https://caninecardio.com/wp-content/uploads/2024/07/Vaccination-Clinic-by-Heart-to-Heart-Mobile-Pet-Care.png
END:VEVENT
BEGIN:VEVENT
DTSTART;TZID=America/New_York:20240925T170000
DTEND;TZID=America/New_York:20240925T200000
DTSTAMP:20260423T020142
CREATED:20240709T222027Z
LAST-MODIFIED:20250513T180509Z
UID:10004793-1727283600-1727294400@caninecardio.com
SUMMARY:Breed Meet-Up Wednesdays at Snouts & Stouts | Bichons
DESCRIPTION:Join us for Breed Meet-Up Wednesdays from 5:00 PM to 8:00 PM at Snouts & Stouts! \nEvent Details: \n\nDate & Time: Every Wednesday from 5:00 PM to 8:00 PM\nWeekly Featured Breed: Bichons\n\nAbout Breed Meet-Up Wednesdays: Every Wednesday\, we will feature a different dog breed\, providing a great opportunity for dog owners to connect with others who have the same breed and for the dogs to socialize and play together. Enjoy our indoor dog park and bar while your furry friend makes new friends! \nStay tuned for the announcement of the breed for each week and mark your calendars for a fun and social evening at Snouts & Stouts! \nDon’t miss out on these fun-filled Wednesdays. We can’t wait to see you and your pups there!
URL:https://caninecardio.com/event/breed-meet-up-wednesdays-bichons/
ATTACH;FMTTYPE=image/png:https://caninecardio.com/wp-content/uploads/2024/07/Vaccination-Clinic-by-Heart-to-Heart-Mobile-Pet-Care.png
END:VEVENT
BEGIN:VEVENT
DTSTART;TZID=America/New_York:20240929T110000
DTEND;TZID=America/New_York:20240929T150000
DTSTAMP:20260423T020142
CREATED:20240628T180111Z
LAST-MODIFIED:20250513T180509Z
UID:10004775-1727607600-1727622000@caninecardio.com
SUMMARY:End of Summer Bark Bash at Snouts & Stouts
DESCRIPTION:Date and Time: Sunday\, September 29th from 11 AM – 3 PM\nLocation: S Oakland St & S Nelson St in front of Snouts & Stouts\, 2709 S Oakland St\, Arlington\, VA 22206\nWeather: This is a rain or shine event\, so please come prepared for any weather conditions.\n\nJoin us for the Summer Bark Bash at Snouts & Stouts! Enjoy a fun-filled day with at least 50 vendors\, kiddie pools\, a doggy ice cream truck\, an agility course\, food trucks\, a photo booth\, painting station\, and more. You do not need to be a dog-themed vendor to apply. Bring your pups and enjoy a day of festivities\, no matter the weather!
URL:https://caninecardio.com/event/summer-bark-bash/
LOCATION:Snouts & Stouts\, 2709 S Oakland St\, Arlington\, VA\, 22206\, United States
ATTACH;FMTTYPE=image/jpeg:https://caninecardio.com/wp-content/uploads/2024/06/DSC08177-scaled.jpg
END:VEVENT
END:VCALENDAR