BEGIN:VCALENDAR
VERSION:2.0
PRODID:-//Canine Cardio - ECPv6.15.20//NONSGML v1.0//EN
CALSCALE:GREGORIAN
METHOD:PUBLISH
X-WR-CALNAME:Canine Cardio
X-ORIGINAL-URL:https://caninecardio.com
X-WR-CALDESC:Events for Canine Cardio
REFRESH-INTERVAL;VALUE=DURATION:PT1H
X-Robots-Tag:noindex
X-PUBLISHED-TTL:PT1H
BEGIN:VTIMEZONE
TZID:America/New_York
BEGIN:DAYLIGHT
TZOFFSETFROM:-0500
TZOFFSETTO:-0400
TZNAME:EDT
DTSTART:20240310T070000
END:DAYLIGHT
BEGIN:STANDARD
TZOFFSETFROM:-0400
TZOFFSETTO:-0500
TZNAME:EST
DTSTART:20241103T060000
END:STANDARD
BEGIN:DAYLIGHT
TZOFFSETFROM:-0500
TZOFFSETTO:-0400
TZNAME:EDT
DTSTART:20250309T070000
END:DAYLIGHT
BEGIN:STANDARD
TZOFFSETFROM:-0400
TZOFFSETTO:-0500
TZNAME:EST
DTSTART:20251102T060000
END:STANDARD
BEGIN:DAYLIGHT
TZOFFSETFROM:-0500
TZOFFSETTO:-0400
TZNAME:EDT
DTSTART:20260308T070000
END:DAYLIGHT
BEGIN:STANDARD
TZOFFSETFROM:-0400
TZOFFSETTO:-0500
TZNAME:EST
DTSTART:20261101T060000
END:STANDARD
END:VTIMEZONE
BEGIN:VEVENT
DTSTART;TZID=America/New_York:20250129T183000
DTEND;TZID=America/New_York:20250129T200000
DTSTAMP:20260422T203036
CREATED:20250122T173936Z
LAST-MODIFIED:20250513T180417Z
UID:10006606-1738175400-1738180800@caninecardio.com
SUMMARY:Downward "Dog" Yoga!
DESCRIPTION:Join Us for Downward “Dog” Yoga! 🐾🧘‍♀️\n\nUnroll your mat and stretch alongside our lovable “house” dogs at Club Canine Cardio! This unique yoga session blends relaxation and fun as you meet and bond with our furry friends while finding your zen. Perfect for yogis\, dog lovers\, and anyone without a pup of their own who wants to hang out with some well-behaved\, friendly dogs. Whether you’re here to stretch or just enjoy the tail-wagging company\, your new workout buddies can’t wait to meet you! 🐶✨ \nImportant Guidelines:\n\nOnly our “house” dogs are permitted during the event to ensure a safe and relaxed environment for all participants.\nOutside dogs are not allowed unless prior permission is granted by Club Canine Cardio staff.\nThank you for understanding as we create a calm and enjoyable experience for everyone!
URL:https://caninecardio.com/event/downward-dog-yoga/
ATTACH;FMTTYPE=image/jpeg:https://caninecardio.com/wp-content/uploads/2025/01/add929b5-cf36-470b-83db-127df331901a.jpeg
END:VEVENT
END:VCALENDAR