BEGIN:VCALENDAR
VERSION:2.0
PRODID:-//Canine Cardio - ECPv6.15.20//NONSGML v1.0//EN
CALSCALE:GREGORIAN
METHOD:PUBLISH
X-ORIGINAL-URL:https://caninecardio.com
X-WR-CALDESC:Events for Canine Cardio
REFRESH-INTERVAL;VALUE=DURATION:PT1H
X-Robots-Tag:noindex
X-PUBLISHED-TTL:PT1H
BEGIN:VTIMEZONE
TZID:America/New_York
BEGIN:DAYLIGHT
TZOFFSETFROM:-0500
TZOFFSETTO:-0400
TZNAME:EDT
DTSTART:20240310T070000
END:DAYLIGHT
BEGIN:STANDARD
TZOFFSETFROM:-0400
TZOFFSETTO:-0500
TZNAME:EST
DTSTART:20241103T060000
END:STANDARD
BEGIN:DAYLIGHT
TZOFFSETFROM:-0500
TZOFFSETTO:-0400
TZNAME:EDT
DTSTART:20250309T070000
END:DAYLIGHT
BEGIN:STANDARD
TZOFFSETFROM:-0400
TZOFFSETTO:-0500
TZNAME:EST
DTSTART:20251102T060000
END:STANDARD
BEGIN:DAYLIGHT
TZOFFSETFROM:-0500
TZOFFSETTO:-0400
TZNAME:EDT
DTSTART:20260308T070000
END:DAYLIGHT
BEGIN:STANDARD
TZOFFSETFROM:-0400
TZOFFSETTO:-0500
TZNAME:EST
DTSTART:20261101T060000
END:STANDARD
END:VTIMEZONE
BEGIN:VEVENT
DTSTART;TZID=America/New_York:20250703T170000
DTEND;TZID=America/New_York:20250703T190000
DTSTAMP:20260422T113808
CREATED:20250513T180253Z
LAST-MODIFIED:20250520T162240Z
UID:10006655-1751562000-1751569200@caninecardio.com
SUMMARY:Aussie Agility Night
DESCRIPTION:🐾 Breed Meet-Up Thursdays at Snouts & Stouts\n📍 Location: Snouts & Stouts \n🕔 Time: Every Thursday\, 5:00–7:00 PM \n🎟 Free Entry | 🍹 Dog Parent Drink Specials | 🐶 Off-Leash Dog Park Access \nJuly 3 – Aussie Agility Night\nBreeds: Australian Shepherds\, Mini Australian Shepherds\n\nTime for these energetic dogs to shine in agility and obedience.\nSpecial: Mini obstacle course for the pups to show off their skills.\nActivity: Agility challenges and a “learn to herd” mini demo.
URL:https://caninecardio.com/event/aussie-agility-night/
ATTACH;FMTTYPE=image/png:https://caninecardio.com/wp-content/uploads/2025/05/Breed-Meet-Up.png
END:VEVENT
BEGIN:VEVENT
DTSTART;TZID=America/New_York:20250710T170000
DTEND;TZID=America/New_York:20250710T190000
DTSTAMP:20260422T113808
CREATED:20250509T154201Z
LAST-MODIFIED:20250520T162254Z
UID:10006632-1752166800-1752174000@caninecardio.com
SUMMARY:Bulldog Bash
DESCRIPTION:🐾 Breed Meet-Up Thursdays at Snouts & Stouts\n📍 Location: Snouts & Stouts \n🕔 Time: Every Thursday\, 5:00–7:00 PM \n🎟 Free Entry | 🍹 Dog Parent Drink Specials | 🐶 Off-Leash Dog Park Access \nJuly 10 – Bulldog Bash\nBreeds: English Bulldogs\, French Bulldogs\, American Bulldogs\n\nCelebrate the squishy faces and low-energy charm of bulldogs.\nSpecial: Poolside cooling stations and a “bulldog snoring contest.”\nActivity: Gentle\, slow-paced play and relaxation.
URL:https://caninecardio.com/event/bulldog-bash/
ATTACH;FMTTYPE=image/png:https://caninecardio.com/wp-content/uploads/2025/05/Breed-Meet-Up.png
END:VEVENT
BEGIN:VEVENT
DTSTART;TZID=America/New_York:20250711T180000
DTEND;TZID=America/New_York:20250711T200000
DTSTAMP:20260422T113808
CREATED:20250609T173029Z
LAST-MODIFIED:20250609T173029Z
UID:10006728-1752256800-1752264000@caninecardio.com
SUMMARY:Pups n Pours: Dog Beer Tasting at Snouts & Stouts 🐾
DESCRIPTION:Date: Friday\, July 11\, 2025\nTime: 6:00 PM – 8:00 PM\nLocation: Snouts & Stouts\, 2709 S Oakland St\, Arlington\, VA 22206 \nCalling all dog lovers and their four-legged companions! Join us for a tail-wagging evening as Pups n Pours hosts a special tasting event at Snouts & Stouts. Experience the unique flavors of our dog-friendly brews\, including the much-anticipated Snouts & Stouts Dog Stout. \nEvent Highlights:\n\nDog Beer Tastings: Let your pup indulge in our specially crafted dog beers\, designed with canine health and taste in mind.\nOff-Leash Play: Enjoy our indoor dog park where your furry friend can socialize and play freely.\nHuman Refreshments: While the pups sip on their brews\, humans can relax with a selection of our finest craft beers and beverages.\n\nWhether you’re a regular or it’s your first visit\, this event promises fun for both dogs and their humans. Don’t miss out on this unique opportunity to bond over brews!
URL:https://caninecardio.com/event/pups-n-pours/
LOCATION:Snouts & Stouts\, 2709 S Oakland St\, Arlington\, VA\, 22206\, United States
ATTACH;FMTTYPE=image/png:https://caninecardio.com/wp-content/uploads/2025/06/Pups-n-Pours.png
END:VEVENT
BEGIN:VEVENT
DTSTART;TZID=America/New_York:20250713T130000
DTEND;TZID=America/New_York:20250713T150000
DTSTAMP:20260422T113808
CREATED:20250529T150048Z
LAST-MODIFIED:20250529T150048Z
UID:10006726-1752411600-1752418800@caninecardio.com
SUMMARY:Vaccination Clinic with Heart to Heart Mobile Pet Care
DESCRIPTION:🐾💉 Vaccination Clinic with Heart to Heart Mobile Pet Care 🐾💉\n📅 Date: Sunday\, July 13\, 2025🕐 Time: 1:00 PM – 3:00 PM📍 Location: Snouts & Stouts💵 Cost: Free Entry; Services Priced Individually & Must Be Paid At The Time Of The Event \n🩺 Services Offered:\nVaccinations for Dogs:\n\nRabies (1 or 3-year)\nDistemper (1 or 3-year)\nBordetella\nLeptospirosis\nLyme Disease\nInfluenza\n\nRapid Testing:\n\nHeartworm Antigen\n4DX Test (Heartworm\, Ehrlichiosis\, Anaplasmosis\, Lyme)\n\n👉 Please note: All services are performed by experienced professionals from Heart to Heart Mobile Pet Care\, a trusted provider since 2012.\n💲Pricing:\nVaccinations for Dogs:\n\nRabies (1 year) – $15\nDistemper (1 year) – $15\nBordetella – $15\nRabies (3 year) – $25\nDistemper (3 year) – $25\nInfluenza – $35\nLeptospirosis – $35\nLyme Disease – $35\n\nRapid Testing:\n\nHeartworm Test – $10\n4DX Test (Heartworm\, Ehrlichiosis\, Anaplasmosis\, Lyme) – $30\n\n👉 Please note: You will need to pay for services in person during the event.\n📌 Additional Information:\n\nRequirements: Dogs must be leashed.\nMiscellaneous Services: Only the above services will be offered during this event. Heart to Heart’s other services will not be available at the time.\nFirst Come\, First Serve: Services will be provided on a first-come\, first-served basis.\nSnouts & Stouts Entry: While the event is free\, entry to the dog park requires either a membership or a day pass.\n\nFor more details\, don’t hesitate to get in touch with Heart to Heart Mobile Pet Care\, LLC directly.
URL:https://caninecardio.com/event/heart-to-heart-mobile-pet-care/
LOCATION:Snouts & Stouts\, 2709 S Oakland St\, Arlington\, VA\, 22206\, United States
ATTACH;FMTTYPE=image/png:https://caninecardio.com/wp-content/uploads/2025/05/Snouts-Stouts-Event-Images-2.png
ORGANIZER;CN="Heart to Heart Mobile Pet Care":MAILTO:DrChisolm22@gmail.com
END:VEVENT
BEGIN:VEVENT
DTSTART;TZID=America/New_York:20250717T170000
DTEND;TZID=America/New_York:20250717T190000
DTSTAMP:20260422T113808
CREATED:20250509T154341Z
LAST-MODIFIED:20250520T162518Z
UID:10006633-1752771600-1752778800@caninecardio.com
SUMMARY:Tiny Dog Takeover
DESCRIPTION:🐾 Breed Meet-Up Thursdays at Snouts & Stouts\n📍 Location: Snouts & Stouts \n🕔 Time: Every Thursday\, 5:00–7:00 PM \n🎟 Free Entry | 🍹 Dog Parent Drink Specials | 🐶 Off-Leash Dog Park Access \nJuly 17 – Tiny Dog Takeover\nBreeds: Chihuahuas\, Yorkies\, Pomeranians\, and other small dogs under 15 lbs\n\nTiny dogs rule the park! Big personalities come in small packages.\nSpecial: Tiny pup parades with themed costumes.\nActivity: Short-distance races\, little dog photo booths.
URL:https://caninecardio.com/event/tiny-dog-takeover/
ATTACH;FMTTYPE=image/png:https://caninecardio.com/wp-content/uploads/2025/05/Breed-Meet-Up.png
END:VEVENT
BEGIN:VEVENT
DTSTART;TZID=America/New_York:20250724T170000
DTEND;TZID=America/New_York:20250724T190000
DTSTAMP:20260422T113808
CREATED:20250509T154511Z
LAST-MODIFIED:20250520T162528Z
UID:10006634-1753376400-1753383600@caninecardio.com
SUMMARY:Dachshund Derby
DESCRIPTION:🐾 Breed Meet-Up Thursdays at Snouts & Stouts\n📍 Location: Snouts & Stouts \n🕔 Time: Every Thursday\, 5:00–7:00 PM \n🎟 Free Entry | 🍹 Dog Parent Drink Specials | 🐶 Off-Leash Dog Park Access \nJuly 24 – Dachshund Derby\nBreeds: Dachshunds (all types)\n\nThe long bodies and short legs take center stage for some funny races.\nSpecial: Hot dog (food) specials and a dachshund costume contest.\nActivity: “Wiener” races and playtime.
URL:https://caninecardio.com/event/dachshund-derby/
ATTACH;FMTTYPE=image/png:https://caninecardio.com/wp-content/uploads/2025/05/Breed-Meet-Up.png
END:VEVENT
BEGIN:VEVENT
DTSTART;TZID=America/New_York:20250731T170000
DTEND;TZID=America/New_York:20250731T190000
DTSTAMP:20260422T113808
CREATED:20250509T154656Z
LAST-MODIFIED:20250520T162531Z
UID:10006635-1753981200-1753988400@caninecardio.com
SUMMARY:Fluffy & Fancy
DESCRIPTION:🐾 Breed Meet-Up Thursdays at Snouts & Stouts\n📍 Location: Snouts & Stouts \n🕔 Time: Every Thursday\, 5:00–7:00 PM \n🎟 Free Entry | 🍹 Dog Parent Drink Specials | 🐶 Off-Leash Dog Park Access \nJuly 31 – Fluffy & Fancy\nBreeds: Shih Tzus\, Maltese\, and other fancy breeds\n\nTime to get posh with the fluffiest\, fanciest dogs in the park.\nSpecial: Bow ties and top knots encouraged!\nActivity: Dog “spa” stations with grooming demos and best-dressed contests.
URL:https://caninecardio.com/event/fluffy-fancy/
ATTACH;FMTTYPE=image/png:https://caninecardio.com/wp-content/uploads/2025/05/Breed-Meet-Up.png
END:VEVENT
END:VCALENDAR