BEGIN:VCALENDAR
VERSION:2.0
PRODID:-//Canine Cardio - ECPv6.15.20//NONSGML v1.0//EN
CALSCALE:GREGORIAN
METHOD:PUBLISH
X-ORIGINAL-URL:https://caninecardio.com
X-WR-CALDESC:Events for Canine Cardio
REFRESH-INTERVAL;VALUE=DURATION:PT1H
X-Robots-Tag:noindex
X-PUBLISHED-TTL:PT1H
BEGIN:VTIMEZONE
TZID:America/New_York
BEGIN:DAYLIGHT
TZOFFSETFROM:-0500
TZOFFSETTO:-0400
TZNAME:EDT
DTSTART:20240310T070000
END:DAYLIGHT
BEGIN:STANDARD
TZOFFSETFROM:-0400
TZOFFSETTO:-0500
TZNAME:EST
DTSTART:20241103T060000
END:STANDARD
BEGIN:DAYLIGHT
TZOFFSETFROM:-0500
TZOFFSETTO:-0400
TZNAME:EDT
DTSTART:20250309T070000
END:DAYLIGHT
BEGIN:STANDARD
TZOFFSETFROM:-0400
TZOFFSETTO:-0500
TZNAME:EST
DTSTART:20251102T060000
END:STANDARD
BEGIN:DAYLIGHT
TZOFFSETFROM:-0500
TZOFFSETTO:-0400
TZNAME:EDT
DTSTART:20260308T070000
END:DAYLIGHT
BEGIN:STANDARD
TZOFFSETFROM:-0400
TZOFFSETTO:-0500
TZNAME:EST
DTSTART:20261101T060000
END:STANDARD
END:VTIMEZONE
BEGIN:VEVENT
DTSTART;TZID=America/New_York:20251030T170000
DTEND;TZID=America/New_York:20251030T190000
DTSTAMP:20260422T070420
CREATED:20250509T160121Z
LAST-MODIFIED:20250520T162844Z
UID:10006648-1761843600-1761850800@caninecardio.com
SUMMARY:Canine Cardio's Annual Howl-O-Ween Party
DESCRIPTION:🐾 Breed Meet-Up Thursdays at Snouts & Stouts\n📍 Location: Snouts & Stouts \n🕔 Time: Every Thursday\, 5:00–7:00 PM \n🎟 Free Entry | 🍹 Dog Parent Drink Specials | 🐶 Off-Leash Dog Park Access \nOctober 30 – Canine Cardio’s Annual Howl-O-Ween Party\nBreeds: All Breeds\n\nGet ready for Halloween with a spooky costume contest!\nSpecial: Best costume wins a prize!\nActivity: Trick-or-treating for pups\, photo opportunities.
URL:https://caninecardio.com/event/canine-cardios-annual-howl-o-ween-party/
ATTACH;FMTTYPE=image/png:https://caninecardio.com/wp-content/uploads/2025/05/Breed-Meet-Up.png
END:VEVENT
END:VCALENDAR