BEGIN:VCALENDAR
VERSION:2.0
PRODID:-//Canine Cardio - ECPv6.15.20//NONSGML v1.0//EN
CALSCALE:GREGORIAN
METHOD:PUBLISH
X-ORIGINAL-URL:https://caninecardio.com
X-WR-CALDESC:Events for Canine Cardio
REFRESH-INTERVAL;VALUE=DURATION:PT1H
X-Robots-Tag:noindex
X-PUBLISHED-TTL:PT1H
BEGIN:VTIMEZONE
TZID:America/New_York
BEGIN:DAYLIGHT
TZOFFSETFROM:-0500
TZOFFSETTO:-0400
TZNAME:EDT
DTSTART:20230312T070000
END:DAYLIGHT
BEGIN:STANDARD
TZOFFSETFROM:-0400
TZOFFSETTO:-0500
TZNAME:EST
DTSTART:20231105T060000
END:STANDARD
BEGIN:DAYLIGHT
TZOFFSETFROM:-0500
TZOFFSETTO:-0400
TZNAME:EDT
DTSTART:20240310T070000
END:DAYLIGHT
BEGIN:STANDARD
TZOFFSETFROM:-0400
TZOFFSETTO:-0500
TZNAME:EST
DTSTART:20241103T060000
END:STANDARD
BEGIN:DAYLIGHT
TZOFFSETFROM:-0500
TZOFFSETTO:-0400
TZNAME:EDT
DTSTART:20250309T070000
END:DAYLIGHT
BEGIN:STANDARD
TZOFFSETFROM:-0400
TZOFFSETTO:-0500
TZNAME:EST
DTSTART:20251102T060000
END:STANDARD
BEGIN:DAYLIGHT
TZOFFSETFROM:-0500
TZOFFSETTO:-0400
TZNAME:EDT
DTSTART:20260308T070000
END:DAYLIGHT
BEGIN:STANDARD
TZOFFSETFROM:-0400
TZOFFSETTO:-0500
TZNAME:EST
DTSTART:20261101T060000
END:STANDARD
END:VTIMEZONE
BEGIN:VEVENT
DTSTART;TZID=America/New_York:20250413T130000
DTEND;TZID=America/New_York:20250413T180000
DTSTAMP:20260421T220343
CREATED:20250405T141803Z
LAST-MODIFIED:20250513T180414Z
UID:10006623-1744549200-1744567200@caninecardio.com
SUMMARY:Dog photos with the Easter Bunny
DESCRIPTION:What: Dog photos with the Easter Bunny\nWhen: Sunday\, April 13 | 1–6pm\nWhere: Snouts & Stouts\nPrice: $50 for a 10-minute session (includes one digital image)\nDonation: 25% of proceeds will go to Animal Welfare League of Alexandria \nRegister For Dog Photos with Easter Bunny
URL:https://caninecardio.com/event/dog-photos-with-the-easter-bunny/
ATTACH;FMTTYPE=image/jpeg:https://caninecardio.com/wp-content/uploads/2025/04/Depositphotos_558414560_S.jpg
ORGANIZER;CN="Happy Paws Photography":MAILTO:James@HappyPaws.Photography
END:VEVENT
BEGIN:VEVENT
DTSTART;TZID=America/New_York:20241117T110000
DTEND;TZID=America/New_York:20241117T180000
DTSTAMP:20260421T220343
CREATED:20241028T234742Z
LAST-MODIFIED:20250513T180506Z
UID:10005471-1731841200-1731866400@caninecardio.com
SUMMARY:Photos with Santa
DESCRIPTION:Join us for a magical day filled with holiday cheer at our Photos with Santa event on November 17th! From 11 am to 6 pm\, the talented James from Happy Paws Photography will be capturing your delightful moments with the jolly old St. Nicholas. \nFor non-members\, tickets are priced at $60 while our appreciated members can avail their tickets at a discounted price of $50. Each ticket includes a digital file of your memorable photo with Santa\, with an additional option available to purchase printed products directly from Happy Paws Photography. \nWhat adds more joy to this festive event is knowing that 25% of proceeds will be directly donated to the Animal Welfare League of Alexandria\, making your participation a contribution to a noble cause.\nDon’t wait to miss this fantastic opportunity. Reserve your spot today for a picture-perfect memory with Santa!
URL:https://caninecardio.com/event/photos-with-santa/
LOCATION:Snouts & Stouts\, 2709 S Oakland St\, Arlington\, VA\, 22206\, United States
ATTACH;FMTTYPE=image/jpeg:https://caninecardio.com/wp-content/uploads/2024/10/DogtoberFest_PortCityBrewing-10-scaled.jpeg
ORGANIZER;CN="Happy Paws Photography":MAILTO:James@HappyPaws.Photography
END:VEVENT
BEGIN:VEVENT
DTSTART;TZID=America/New_York:20240630T130000
DTEND;TZID=America/New_York:20240630T160000
DTSTAMP:20260421T220343
CREATED:20240614T181821Z
LAST-MODIFIED:20240615T161211Z
UID:10004505-1719752400-1719763200@caninecardio.com
SUMMARY:Free Portrait Photoshoot with Happy Paws Photography
DESCRIPTION:Attention Annual Members of Snouts & Stouts! Join us on June 30th for an exclusive event with Happy Paws Photography. From 1:00 PM to 4:00 PM\, Happy Paws Photography will be offering a free portrait photoshoot for all our annual members. Capture the perfect portrait of your beloved pet and see it displayed proudly around the inside of Snouts & Stouts. \nEvent Details: \n\nFree Portrait Photoshoot: 1:00 PM – 4:00 PM\nExclusively for Annual Members\nPortraits will be posted around Snouts & Stouts\n\nCan’t make it this time? No worries! We’ll be hosting a free portrait photoshoot every month for our annual members. \nDon’t miss out on this special opportunity to celebrate your pet and become a part of the Snouts & Stouts community gallery! \nCheck out Happy Paws Photography here: https://www.happypaws.photography/ \n 
URL:https://caninecardio.com/event/free-portrait-photoshoot-with-happy-paws-photography/
LOCATION:Snouts & Stouts\, 2709 S Oakland St\, Arlington\, VA\, 22206\, United States
ATTACH;FMTTYPE=image/jpeg:https://caninecardio.com/wp-content/uploads/2024/06/JamesPro1-4-1.jpg
ORGANIZER;CN="Happy Paws Photography":MAILTO:James@HappyPaws.Photography
END:VEVENT
END:VCALENDAR