BEGIN:VCALENDAR
VERSION:2.0
PRODID:-//Canine Cardio - ECPv6.15.20//NONSGML v1.0//EN
CALSCALE:GREGORIAN
METHOD:PUBLISH
X-ORIGINAL-URL:https://caninecardio.com
X-WR-CALDESC:Events for Canine Cardio
REFRESH-INTERVAL;VALUE=DURATION:PT1H
X-Robots-Tag:noindex
X-PUBLISHED-TTL:PT1H
BEGIN:VTIMEZONE
TZID:America/New_York
BEGIN:DAYLIGHT
TZOFFSETFROM:-0500
TZOFFSETTO:-0400
TZNAME:EDT
DTSTART:20230312T070000
END:DAYLIGHT
BEGIN:STANDARD
TZOFFSETFROM:-0400
TZOFFSETTO:-0500
TZNAME:EST
DTSTART:20231105T060000
END:STANDARD
BEGIN:DAYLIGHT
TZOFFSETFROM:-0500
TZOFFSETTO:-0400
TZNAME:EDT
DTSTART:20240310T070000
END:DAYLIGHT
BEGIN:STANDARD
TZOFFSETFROM:-0400
TZOFFSETTO:-0500
TZNAME:EST
DTSTART:20241103T060000
END:STANDARD
BEGIN:DAYLIGHT
TZOFFSETFROM:-0500
TZOFFSETTO:-0400
TZNAME:EDT
DTSTART:20250309T070000
END:DAYLIGHT
BEGIN:STANDARD
TZOFFSETFROM:-0400
TZOFFSETTO:-0500
TZNAME:EST
DTSTART:20251102T060000
END:STANDARD
BEGIN:DAYLIGHT
TZOFFSETFROM:-0500
TZOFFSETTO:-0400
TZNAME:EDT
DTSTART:20260308T070000
END:DAYLIGHT
BEGIN:STANDARD
TZOFFSETFROM:-0400
TZOFFSETTO:-0500
TZNAME:EST
DTSTART:20261101T060000
END:STANDARD
END:VTIMEZONE
BEGIN:VEVENT
DTSTART;TZID=America/New_York:20250713T130000
DTEND;TZID=America/New_York:20250713T150000
DTSTAMP:20260421T221226
CREATED:20250529T150048Z
LAST-MODIFIED:20250529T150048Z
UID:10006726-1752411600-1752418800@caninecardio.com
SUMMARY:Vaccination Clinic with Heart to Heart Mobile Pet Care
DESCRIPTION:🐾💉 Vaccination Clinic with Heart to Heart Mobile Pet Care 🐾💉\n📅 Date: Sunday\, July 13\, 2025🕐 Time: 1:00 PM – 3:00 PM📍 Location: Snouts & Stouts💵 Cost: Free Entry; Services Priced Individually & Must Be Paid At The Time Of The Event \n🩺 Services Offered:\nVaccinations for Dogs:\n\nRabies (1 or 3-year)\nDistemper (1 or 3-year)\nBordetella\nLeptospirosis\nLyme Disease\nInfluenza\n\nRapid Testing:\n\nHeartworm Antigen\n4DX Test (Heartworm\, Ehrlichiosis\, Anaplasmosis\, Lyme)\n\n👉 Please note: All services are performed by experienced professionals from Heart to Heart Mobile Pet Care\, a trusted provider since 2012.\n💲Pricing:\nVaccinations for Dogs:\n\nRabies (1 year) – $15\nDistemper (1 year) – $15\nBordetella – $15\nRabies (3 year) – $25\nDistemper (3 year) – $25\nInfluenza – $35\nLeptospirosis – $35\nLyme Disease – $35\n\nRapid Testing:\n\nHeartworm Test – $10\n4DX Test (Heartworm\, Ehrlichiosis\, Anaplasmosis\, Lyme) – $30\n\n👉 Please note: You will need to pay for services in person during the event.\n📌 Additional Information:\n\nRequirements: Dogs must be leashed.\nMiscellaneous Services: Only the above services will be offered during this event. Heart to Heart’s other services will not be available at the time.\nFirst Come\, First Serve: Services will be provided on a first-come\, first-served basis.\nSnouts & Stouts Entry: While the event is free\, entry to the dog park requires either a membership or a day pass.\n\nFor more details\, don’t hesitate to get in touch with Heart to Heart Mobile Pet Care\, LLC directly.
URL:https://caninecardio.com/event/heart-to-heart-mobile-pet-care/
LOCATION:Snouts & Stouts\, 2709 S Oakland St\, Arlington\, VA\, 22206\, United States
ATTACH;FMTTYPE=image/png:https://caninecardio.com/wp-content/uploads/2025/05/Snouts-Stouts-Event-Images-2.png
ORGANIZER;CN="Heart to Heart Mobile Pet Care":MAILTO:DrChisolm22@gmail.com
END:VEVENT
BEGIN:VEVENT
DTSTART;TZID=America/New_York:20240601T110000
DTEND;TZID=America/New_York:20240601T140000
DTSTAMP:20260421T221226
CREATED:20240515T205843Z
LAST-MODIFIED:20250513T180549Z
UID:10004470-1717239600-1717250400@caninecardio.com
SUMMARY:Vaccination Clinic by Heart to Heart Mobile Pet Care at Snouts & Stouts
DESCRIPTION:Join us at Snouts & Stouts on June 1st for a special Vaccination Clinic hosted by Heart to Heart Mobile Pet Care! If your furry friend’s vaccinations are due soon\, this is the perfect event to attend. \nHeart to Heart Mobile Pet Care offers all standard dog and cat vaccines\, including core vaccinations required for entry into Snouts & Stouts. Ensure your pet’s health and safety with convenient access to essential vaccinations right here at Snouts & Stouts. \nHighlights of the event include: \n\nCore vaccinations available for dogs and cats.\nHeartworm\, Lyme\, and FeLV/FIV testing services provided.\nAccess to common heartworm prevention and flea/tick medications.\nAdditional services such as nail trimming\, ear cleaning\, and anal gland expression available.\nAll services performed in the comfort of your home by experienced professionals.\nStrict adherence to safety protocols\, including wearing masks during appointments.\n\nHeart to Heart Mobile Pet Care is driven by a passion for animals and a commitment to preventative medicine. With a veterinarian on staff since 2012\, they prioritize helping animals live their best lives through education and prevention. \nPre-register now using the following link: Preregistration Link \nDon’t miss this opportunity to ensure your pet’s well-being and meet all vaccination requirements for Snouts & Stouts! Mark your calendars for April 28th and join us at Snouts & Stouts for a day dedicated to your furry friend’s health and happiness.
URL:https://caninecardio.com/event/vaccination-clinic-by-heart-to-heart-mobile-pet-care-2/
ATTACH;FMTTYPE=image/jpeg:https://caninecardio.com/wp-content/uploads/2024/04/275841858_110512098262068_3609219901549331662_n.jpg
ORGANIZER;CN="Heart to Heart Mobile Pet Care":MAILTO:DrChisolm22@gmail.com
END:VEVENT
BEGIN:VEVENT
DTSTART;TZID=America/New_York:20240428T110000
DTEND;TZID=America/New_York:20240428T140000
DTSTAMP:20260421T221226
CREATED:20240403T170909Z
LAST-MODIFIED:20250513T180554Z
UID:10004450-1714302000-1714312800@caninecardio.com
SUMMARY:Vaccination Clinic by Heart to Heart Mobile Pet Care at Snouts & Stouts
DESCRIPTION:Join us at Snouts & Stouts on April 28th for a special Vaccination Clinic hosted by Heart to Heart Mobile Pet Care! If your furry friend’s vaccinations are due soon\, this is the perfect event to attend. \nHeart to Heart Mobile Pet Care offers all standard dog and cat vaccines\, including core vaccinations required for entry into Snouts & Stouts. Ensure your pet’s health and safety with convenient access to essential vaccinations right here at Snouts & Stouts. \nHighlights of the event include: \n\nCore vaccinations available for dogs and cats.\nHeartworm\, Lyme\, and FeLV/FIV testing services provided.\nAccess to common heartworm prevention and flea/tick medications.\nAdditional services such as nail trimming\, ear cleaning\, and anal gland expression available.\nAll services performed in the comfort of your home by experienced professionals.\nStrict adherence to safety protocols\, including wearing masks during appointments.\n\nHeart to Heart Mobile Pet Care is driven by a passion for animals and a commitment to preventative medicine. With a veterinarian on staff since 2012\, they prioritize helping animals live their best lives through education and prevention. \nPre-register now using the following link: Preregistration Link \nDon’t miss this opportunity to ensure your pet’s well-being and meet all vaccination requirements for Snouts & Stouts! Mark your calendars for April 28th and join us at Snouts & Stouts for a day dedicated to your furry friend’s health and happiness.
URL:https://caninecardio.com/event/vaccination-clinic-by-heart-to-heart-mobile-pet-care/
LOCATION:Snouts & Stouts\, 2709 S Oakland St\, Arlington\, VA\, 22206\, United States
ATTACH;FMTTYPE=image/jpeg:https://caninecardio.com/wp-content/uploads/2024/04/275841858_110512098262068_3609219901549331662_n.jpg
ORGANIZER;CN="Heart to Heart Mobile Pet Care":MAILTO:DrChisolm22@gmail.com
END:VEVENT
END:VCALENDAR