BEGIN:VCALENDAR
VERSION:2.0
PRODID:-//Canine Cardio - ECPv6.15.20//NONSGML v1.0//EN
CALSCALE:GREGORIAN
METHOD:PUBLISH
X-ORIGINAL-URL:https://caninecardio.com
X-WR-CALDESC:Events for Canine Cardio
REFRESH-INTERVAL;VALUE=DURATION:PT1H
X-Robots-Tag:noindex
X-PUBLISHED-TTL:PT1H
BEGIN:VTIMEZONE
TZID:America/New_York
BEGIN:DAYLIGHT
TZOFFSETFROM:-0500
TZOFFSETTO:-0400
TZNAME:EDT
DTSTART:20250309T070000
END:DAYLIGHT
BEGIN:STANDARD
TZOFFSETFROM:-0400
TZOFFSETTO:-0500
TZNAME:EST
DTSTART:20251102T060000
END:STANDARD
BEGIN:DAYLIGHT
TZOFFSETFROM:-0500
TZOFFSETTO:-0400
TZNAME:EDT
DTSTART:20260308T070000
END:DAYLIGHT
BEGIN:STANDARD
TZOFFSETFROM:-0400
TZOFFSETTO:-0500
TZNAME:EST
DTSTART:20261101T060000
END:STANDARD
BEGIN:DAYLIGHT
TZOFFSETFROM:-0500
TZOFFSETTO:-0400
TZNAME:EDT
DTSTART:20270314T070000
END:DAYLIGHT
BEGIN:STANDARD
TZOFFSETFROM:-0400
TZOFFSETTO:-0500
TZNAME:EST
DTSTART:20271107T060000
END:STANDARD
END:VTIMEZONE
BEGIN:VEVENT
DTSTART;VALUE=DATE:20260207
DTEND;VALUE=DATE:20260208
DTSTAMP:20260422T053821
CREATED:20260206T155913Z
LAST-MODIFIED:20260206T160048Z
UID:10008044-1770422400-1770508799@caninecardio.com
SUMMARY:On-Site Veterinary Wellness Event at Canine Cardio
DESCRIPTION:We’re hosting an on-site veterinary wellness event at Canine Cardio in partnership with Dr. King from King Veterinary Services. This is a convenient way to take care of your dog’s routine wellness needs\, ask questions\, and connect with a trusted veterinary professional — all in one visit. \nWhether your dog needs vaccines\, a wellness check\, or support for mobility and recovery\, this event is designed to make care easy\, low-stress\, and accessible. \nEvent Details\n\nSaturday\, February 7\nStarting at 11:00 AM (until close)\nAt Canine Cardio\n\nServices Available During This Event\n\nVaccine clinics and medical evaluations\nPrescriptions and insurance-eligible care\nAcupuncture and laser therapy\nRehabilitation and senior mobility programs\nOn-call veterinary support and non-surgical first aid\nEducational and community wellness conversations\n\nYou’ll have the chance to meet Dr. King\, ask questions about your dog’s health\, and get guidance on next steps—whether that’s preventive care or ongoing support. \nReady to Book On-Site Veterinary Wellness?\nIf you’re ready to schedule services for the event\, please use the booking link through your client portal. \nBook Vet Services \nIf you have questions or want help deciding what to book\, feel free to reach out to us directly. We’re always happy to help.
URL:https://caninecardio.com/event/veterinary-wellness-event-2-7-26/
LOCATION:Club Canine Cardio\, 2709 S Oakland Street\, Arlington\, Virginia\, 22206\, United States
CATEGORIES:On-Site Veterinary Wellness
ATTACH;FMTTYPE=image/png:https://caninecardio.com/wp-content/uploads/2026/02/canine-cardio-event-images.png
ORGANIZER;CN="King Veterinary Services":MAILTO:info@kingveterinaryservices.com
END:VEVENT
END:VCALENDAR