BEGIN:VCALENDAR
VERSION:2.0
PRODID:-//Canine Cardio - ECPv6.15.20//NONSGML v1.0//EN
CALSCALE:GREGORIAN
METHOD:PUBLISH
X-WR-CALNAME:Canine Cardio
X-ORIGINAL-URL:https://caninecardio.com
X-WR-CALDESC:Events for Canine Cardio
REFRESH-INTERVAL;VALUE=DURATION:PT1H
X-Robots-Tag:noindex
X-PUBLISHED-TTL:PT1H
BEGIN:VTIMEZONE
TZID:America/New_York
BEGIN:DAYLIGHT
TZOFFSETFROM:-0500
TZOFFSETTO:-0400
TZNAME:EDT
DTSTART:20240310T070000
END:DAYLIGHT
BEGIN:STANDARD
TZOFFSETFROM:-0400
TZOFFSETTO:-0500
TZNAME:EST
DTSTART:20241103T060000
END:STANDARD
BEGIN:DAYLIGHT
TZOFFSETFROM:-0500
TZOFFSETTO:-0400
TZNAME:EDT
DTSTART:20250309T070000
END:DAYLIGHT
BEGIN:STANDARD
TZOFFSETFROM:-0400
TZOFFSETTO:-0500
TZNAME:EST
DTSTART:20251102T060000
END:STANDARD
BEGIN:DAYLIGHT
TZOFFSETFROM:-0500
TZOFFSETTO:-0400
TZNAME:EDT
DTSTART:20260308T070000
END:DAYLIGHT
BEGIN:STANDARD
TZOFFSETFROM:-0400
TZOFFSETTO:-0500
TZNAME:EST
DTSTART:20261101T060000
END:STANDARD
END:VTIMEZONE
BEGIN:VEVENT
DTSTART;TZID=America/New_York:20250628T120000
DTEND;TZID=America/New_York:20250628T150000
DTSTAMP:20260421T220444
CREATED:20250520T160151Z
LAST-MODIFIED:20250520T180352Z
UID:10006657-1751112000-1751122800@caninecardio.com
SUMMARY:Magnawave Therapy for Dogs
DESCRIPTION:📅 Date: Saturday\, June 28th🕛 Time: 12:00 PM – 3:00 PM📍 Location: Snouts & Stouts Indoor Dog Park + BarAddress: 2709 S Oakland St\, Arlington\, VA 22206 \nTreat your pup to pain-free wellness with Magnawave PEMF Therapy!\nJoin certified practitioner Marina Frano for a special event offering Pulsed Electromagnetic Field (PEMF) therapy designed to support faster recovery\, pain relief\, and improved mobility for dogs of all ages. \n🐶 What to Expect\n\nRelaxing 20–30 minute sessions\nSuitable for post-surgery recovery\, senior dogs\, arthritis\, and general wellness\nImmediate return to normal activities—no downtime!\n\n🎉 Introductory Offer: Just $35 for your pet’s first session!\n🎟️ Ticket Description\n💲Price: $35 per session (introductory offer!)⏱ Duration: 20 minutes per session🐕 One dog per ticket \n🕐 Available Time Slots\n\nMagnawave Session 1: 12:00 PM – 12:20 PM\nMagnawave Session 2: 12:20 PM – 12:40 PM\nMagnawave Session 3: 12:40 PM – 1:00 PM\nMagnawave Session 4: 1:00 PM – 1:20 PM\nMagnawave Session 5: 1:20 PM – 1:40 PM\nMagnawave Session 6: 1:40 PM – 2:00 PM\nMagnawave Session 7: 2:00 PM – 2:20 PM\nMagnawave Session 8: 2:20 PM – 2:40 PM\nMagnawave Session 9: 2:40 PM – 3:00 PM\n\nEach ticket reserves a 20-minute Magnawave PEMF therapy session for your dog with certified practitioner Marina Frano. Sessions are available between 12:00 PM and 3:00 PM on Saturday\, June 28th\, and are limited to ensure personalized care and a stress-free experience for your pup. \nPEMF therapy is ideal for dogs recovering from surgery or injury\, managing arthritis or chronic pain\, or simply in need of a wellness boost. Spots are limited—secure yours today down below! \n \nDon’t miss this opportunity to boost your dog’s health and happiness naturally. \n📞 RSVP / Questions: Call 571-260-3623\n📘 Book Today! Marina Frano – Certified & Insured
URL:https://caninecardio.com/event/magnawave-therapy/
LOCATION:Snouts & Stouts\, 2709 S Oakland St\, Arlington\, VA\, 22206\, United States
ATTACH;FMTTYPE=image/png:https://caninecardio.com/wp-content/uploads/2025/05/Snouts-Stouts-Event-Images.png
END:VEVENT
END:VCALENDAR