BEGIN:VCALENDAR
VERSION:2.0
PRODID:-//Canine Cardio - ECPv6.15.20//NONSGML v1.0//EN
CALSCALE:GREGORIAN
METHOD:PUBLISH
X-WR-CALNAME:Canine Cardio
X-ORIGINAL-URL:https://caninecardio.com
X-WR-CALDESC:Events for Canine Cardio
REFRESH-INTERVAL;VALUE=DURATION:PT1H
X-Robots-Tag:noindex
X-PUBLISHED-TTL:PT1H
BEGIN:VTIMEZONE
TZID:America/New_York
BEGIN:DAYLIGHT
TZOFFSETFROM:-0500
TZOFFSETTO:-0400
TZNAME:EDT
DTSTART:20230312T070000
END:DAYLIGHT
BEGIN:STANDARD
TZOFFSETFROM:-0400
TZOFFSETTO:-0500
TZNAME:EST
DTSTART:20231105T060000
END:STANDARD
BEGIN:DAYLIGHT
TZOFFSETFROM:-0500
TZOFFSETTO:-0400
TZNAME:EDT
DTSTART:20240310T070000
END:DAYLIGHT
BEGIN:STANDARD
TZOFFSETFROM:-0400
TZOFFSETTO:-0500
TZNAME:EST
DTSTART:20241103T060000
END:STANDARD
BEGIN:DAYLIGHT
TZOFFSETFROM:-0500
TZOFFSETTO:-0400
TZNAME:EDT
DTSTART:20250309T070000
END:DAYLIGHT
BEGIN:STANDARD
TZOFFSETFROM:-0400
TZOFFSETTO:-0500
TZNAME:EST
DTSTART:20251102T060000
END:STANDARD
END:VTIMEZONE
BEGIN:VEVENT
DTSTART;TZID=America/New_York:20240511T140000
DTEND;TZID=America/New_York:20240511T140000
DTSTAMP:20260422T041608
CREATED:20240409T213709Z
LAST-MODIFIED:20250513T180551Z
UID:10004457-1715436000-1715436000@caninecardio.com
SUMMARY:Seminar: Emergency vs. Urgent Care & Basic First Aid for Pets
DESCRIPTION:Join us on May 11th at 2 PM for an informative seminar hosted by Urgent Animal Care of Arlington! \nLearn the crucial differences between emergency and urgent pet care\, and gain valuable insights into basic first aid techniques to keep your furry friends safe. Don’t miss this opportunity to enhance your pet care knowledge and be better prepared for any situation. \nMark your calendars and RSVP today! Limited spots available.
URL:https://caninecardio.com/event/seminar-emergency-vs-urgent-care-basic-first-aid-for-pets/
LOCATION:Snouts & Stouts\, 2709 S Oakland St\, Arlington\, VA\, 22206\, United States
ATTACH;FMTTYPE=image/png:https://caninecardio.com/wp-content/uploads/2024/04/Urgent-Animal-Care-of-Arlington-LOGO.png
ORGANIZER;CN="Urgent Animal Care of Arlington":MAILTO:info@urgentvetva.com
END:VEVENT
END:VCALENDAR